BEGIN:VCALENDAR
VERSION:2.0
PRODID:-//Bünzwangen - ECPv6.15.20//NONSGML v1.0//EN
CALSCALE:GREGORIAN
METHOD:PUBLISH
X-ORIGINAL-URL:https://dg-buenzwangen.de
X-WR-CALDESC:Veranstaltungen für Bünzwangen
REFRESH-INTERVAL;VALUE=DURATION:PT1H
X-Robots-Tag:noindex
X-PUBLISHED-TTL:PT1H
BEGIN:VTIMEZONE
TZID:Europe/Berlin
BEGIN:DAYLIGHT
TZOFFSETFROM:+0100
TZOFFSETTO:+0200
TZNAME:CEST
DTSTART:20250330T010000
END:DAYLIGHT
BEGIN:STANDARD
TZOFFSETFROM:+0200
TZOFFSETTO:+0100
TZNAME:CET
DTSTART:20251026T010000
END:STANDARD
BEGIN:DAYLIGHT
TZOFFSETFROM:+0100
TZOFFSETTO:+0200
TZNAME:CEST
DTSTART:20260329T010000
END:DAYLIGHT
BEGIN:STANDARD
TZOFFSETFROM:+0200
TZOFFSETTO:+0100
TZNAME:CET
DTSTART:20261025T010000
END:STANDARD
BEGIN:DAYLIGHT
TZOFFSETFROM:+0100
TZOFFSETTO:+0200
TZNAME:CEST
DTSTART:20270328T010000
END:DAYLIGHT
BEGIN:STANDARD
TZOFFSETFROM:+0200
TZOFFSETTO:+0100
TZNAME:CET
DTSTART:20271031T010000
END:STANDARD
END:VTIMEZONE
BEGIN:VEVENT
DTSTART;TZID=Europe/Berlin:20260611T180000
DTEND;TZID=Europe/Berlin:20260611T210000
DTSTAMP:20260424T061811
CREATED:20260210T091358Z
LAST-MODIFIED:20260218T082404Z
UID:10002045-1781200800-1781211600@dg-buenzwangen.de
SUMMARY:Leckere Bowls - bunt und gesund - Dorfakademie
DESCRIPTION:Zusätzliche Veranstaltung \nAus den unterschiedlichsten Zutaten wie Gemüse\, Salat\, Früchten oder Hülsenfrüchten bereiten wir leckere Bowls zu. Mit Fleisch oder Fisch\, warm oder kalt oder auch mal süß genießen wir das vielfältige Geschmackserlebnis. \nEin Kurs mit der Referentin Maria Süßmann-Nothardt im historischen Rathaus Bünzwangen – Teilnahmegebühr 20€ (DgB Mitglieder 10€)
URL:https://dg-buenzwangen.de/event/bowls-2-2026/
LOCATION:Rathaus Bünzwangen\, Ortsstr. 49\, Ebersbach\, BW\, 73061\, Deutschland
CATEGORIES:Dorfakademie
ATTACH;FMTTYPE=image/png:https://dg-buenzwangen.de/wp-content/uploads/2025/11/260416_Dorfakademie_Bowls_Titel.png
ORGANIZER;CN="Dorfgemeinschaft B%C3%BCnzwangen e.V.":MAILTO:info@dg-buenzwangen.de
END:VEVENT
END:VCALENDAR