BEGIN:VCALENDAR
VERSION:2.0
PRODID:-//Bünzwangen - ECPv6.15.20//NONSGML v1.0//EN
CALSCALE:GREGORIAN
METHOD:PUBLISH
X-ORIGINAL-URL:https://dg-buenzwangen.de
X-WR-CALDESC:Veranstaltungen für Bünzwangen
REFRESH-INTERVAL;VALUE=DURATION:PT1H
X-Robots-Tag:noindex
X-PUBLISHED-TTL:PT1H
BEGIN:VTIMEZONE
TZID:Europe/Berlin
BEGIN:DAYLIGHT
TZOFFSETFROM:+0100
TZOFFSETTO:+0200
TZNAME:CEST
DTSTART:20250330T010000
END:DAYLIGHT
BEGIN:STANDARD
TZOFFSETFROM:+0200
TZOFFSETTO:+0100
TZNAME:CET
DTSTART:20251026T010000
END:STANDARD
BEGIN:DAYLIGHT
TZOFFSETFROM:+0100
TZOFFSETTO:+0200
TZNAME:CEST
DTSTART:20260329T010000
END:DAYLIGHT
BEGIN:STANDARD
TZOFFSETFROM:+0200
TZOFFSETTO:+0100
TZNAME:CET
DTSTART:20261025T010000
END:STANDARD
BEGIN:DAYLIGHT
TZOFFSETFROM:+0100
TZOFFSETTO:+0200
TZNAME:CEST
DTSTART:20270328T010000
END:DAYLIGHT
BEGIN:STANDARD
TZOFFSETFROM:+0200
TZOFFSETTO:+0100
TZNAME:CET
DTSTART:20271031T010000
END:STANDARD
END:VTIMEZONE
BEGIN:VEVENT
DTSTART;TZID=Europe/Berlin:20260508T120000
DTEND;TZID=Europe/Berlin:20260508T130000
DTSTAMP:20260424T021326
CREATED:20241105T094337Z
LAST-MODIFIED:20251127T090202Z
UID:10001987-1778241600-1778245200@dg-buenzwangen.de
SUMMARY:Mittagstisch
DESCRIPTION:Mittagstisch \nDie Dorfgemeinschaft Bünzwangen e.V. lädt ein! \nKeine Zeit oder keine Lust zu kochen? Ihr wollt euch in Bünzwangen mit Freunden zum Mittagessen treffen? Egal was euch dazu bewegt\, kommt vorbei! \nEssensausgabe 12-13 Uhr im Ev. Gemeindehaus Bünzwangen \nReservierung notwendig!
URL:https://dg-buenzwangen.de/event/mittagstisch-3/2026-05-08/
LOCATION:Ev. Gemeindehaus Bünzwangen\, Ortsstr. 28/1\, Ebersbach\, BW\, 73061\, Deutschland
ATTACH;FMTTYPE=image/png:https://dg-buenzwangen.de/wp-content/uploads/2022/04/Mittagstisch_v2_Box.png
ORGANIZER;CN="Dorfgemeinschaft B%C3%BCnzwangen e.V.":MAILTO:info@dg-buenzwangen.de
END:VEVENT
BEGIN:VEVENT
DTSTART;TZID=Europe/Berlin:20260508T143000
DTEND;TZID=Europe/Berlin:20260508T163000
DTSTAMP:20260424T021326
CREATED:20260331T094720Z
LAST-MODIFIED:20260331T094720Z
UID:10003534-1778250600-1778257800@dg-buenzwangen.de
SUMMARY:KKC - Vogeltränken- und Windlichtmodellage und Mosaiken
DESCRIPTION:Teilnahmekosten 14€ (Mitglieder 12€) \nAnmeldung bei unserem KKC Team oder per E-Mail info@dg-buenzwangen.de
URL:https://dg-buenzwangen.de/event/kkc-vogeltraenken-und-windlichtmodellage-und-mosaiken/2026-05-08/
LOCATION:Rathaus Bünzwangen\, Ortsstr. 49\, Ebersbach\, BW\, 73061\, Deutschland
CATEGORIES:KKC
ATTACH;FMTTYPE=image/png:https://dg-buenzwangen.de/wp-content/uploads/2026/03/260417-KKC-Modellieren.png
END:VEVENT
BEGIN:VEVENT
DTSTART;TZID=Europe/Berlin:20260509T110000
DTEND;TZID=Europe/Berlin:20260509T160000
DTSTAMP:20260424T021326
CREATED:20260209T111217Z
LAST-MODIFIED:20260209T111217Z
UID:10002044-1778324400-1778342400@dg-buenzwangen.de
SUMMARY:2. Bünzwanger Dorfflohmarkt
DESCRIPTION:Du möchtest Platz schaffen oder nach neuen Lieblingsstücken stöbern?Dann mach mit beim Dorfflohmarkt in Bünzwangen! \nVerkauft wird im eigenen Hof\, Garten oder in der Garage. Alternativ ist ein Stand am Dorfplatz möglich (bei Anmeldung angeben). Die Plätze sind begrenzt. \nAlle teilnehmenden Haushalte werden auf einer Übersichtskarte angezeigt und mit Luftballons gekennzeichnet. \nAnmeldung bis 25.04.2026: www.dg-buenzwangen.de/flohmarkt oder Formular aus dem Blättle nutzen.
URL:https://dg-buenzwangen.de/event/2-buenzwanger-dorfflohmarkt/
ATTACH;FMTTYPE=image/png:https://dg-buenzwangen.de/wp-content/uploads/2025/08/250913-Dorfflohmarkt_Titel.png
END:VEVENT
BEGIN:VEVENT
DTSTART;TZID=Europe/Berlin:20260513T190000
DTEND;TZID=Europe/Berlin:20260513T210000
DTSTAMP:20260424T021326
CREATED:20251211T101841Z
LAST-MODIFIED:20251211T101843Z
UID:10001967-1778698800-1778706000@dg-buenzwangen.de
SUMMARY:Mäschlestreff
DESCRIPTION:Stricken und Häkeln in gemütlicher Runde für Anfänger und Fortgeschrittene \nDu willst Stricken und/oder Häkeln lernen oder brauchst Tipps und Unterstützung\, oder hast einfach Lust auf Handarbeiten in einer netten Gruppe? Dann komm vorbei und mach mit. \nJeden zweiten Mittwoch um 19 Uhr im Historischen Rathaus
URL:https://dg-buenzwangen.de/event/maeschlestreff-2-3/2026-05-13/
LOCATION:Rathaus Bünzwangen\, Ortsstr. 49\, Ebersbach\, BW\, 73061\, Deutschland
CATEGORIES:Maeschlestreff,Treffen
ATTACH;FMTTYPE=image/png:https://dg-buenzwangen.de/wp-content/uploads/2023/10/Veranstaltungsbild.png
ORGANIZER;CN="Dorfgemeinschaft B%C3%BCnzwangen e.V.":MAILTO:info@dg-buenzwangen.de
END:VEVENT
BEGIN:VEVENT
DTSTART;TZID=Europe/Berlin:20260527T190000
DTEND;TZID=Europe/Berlin:20260527T210000
DTSTAMP:20260424T021326
CREATED:20251211T101841Z
LAST-MODIFIED:20251211T101843Z
UID:10001968-1779908400-1779915600@dg-buenzwangen.de
SUMMARY:Mäschlestreff
DESCRIPTION:Stricken und Häkeln in gemütlicher Runde für Anfänger und Fortgeschrittene \nDu willst Stricken und/oder Häkeln lernen oder brauchst Tipps und Unterstützung\, oder hast einfach Lust auf Handarbeiten in einer netten Gruppe? Dann komm vorbei und mach mit. \nJeden zweiten Mittwoch um 19 Uhr im Historischen Rathaus
URL:https://dg-buenzwangen.de/event/maeschlestreff-2-3/2026-05-27/
LOCATION:Rathaus Bünzwangen\, Ortsstr. 49\, Ebersbach\, BW\, 73061\, Deutschland
CATEGORIES:Maeschlestreff,Treffen
ATTACH;FMTTYPE=image/png:https://dg-buenzwangen.de/wp-content/uploads/2023/10/Veranstaltungsbild.png
ORGANIZER;CN="Dorfgemeinschaft B%C3%BCnzwangen e.V.":MAILTO:info@dg-buenzwangen.de
END:VEVENT
END:VCALENDAR