BEGIN:VCALENDAR
VERSION:2.0
PRODID:-//Bünzwangen - ECPv6.15.20//NONSGML v1.0//EN
CALSCALE:GREGORIAN
METHOD:PUBLISH
X-ORIGINAL-URL:https://dg-buenzwangen.de
X-WR-CALDESC:Veranstaltungen für Bünzwangen
REFRESH-INTERVAL;VALUE=DURATION:PT1H
X-Robots-Tag:noindex
X-PUBLISHED-TTL:PT1H
BEGIN:VTIMEZONE
TZID:Europe/Berlin
BEGIN:DAYLIGHT
TZOFFSETFROM:+0100
TZOFFSETTO:+0200
TZNAME:CEST
DTSTART:20250330T010000
END:DAYLIGHT
BEGIN:STANDARD
TZOFFSETFROM:+0200
TZOFFSETTO:+0100
TZNAME:CET
DTSTART:20251026T010000
END:STANDARD
BEGIN:DAYLIGHT
TZOFFSETFROM:+0100
TZOFFSETTO:+0200
TZNAME:CEST
DTSTART:20260329T010000
END:DAYLIGHT
BEGIN:STANDARD
TZOFFSETFROM:+0200
TZOFFSETTO:+0100
TZNAME:CET
DTSTART:20261025T010000
END:STANDARD
BEGIN:DAYLIGHT
TZOFFSETFROM:+0100
TZOFFSETTO:+0200
TZNAME:CEST
DTSTART:20270328T010000
END:DAYLIGHT
BEGIN:STANDARD
TZOFFSETFROM:+0200
TZOFFSETTO:+0100
TZNAME:CET
DTSTART:20271031T010000
END:STANDARD
END:VTIMEZONE
BEGIN:VEVENT
DTSTART;TZID=Europe/Berlin:20260708T190000
DTEND;TZID=Europe/Berlin:20260708T210000
DTSTAMP:20260424T125831
CREATED:20251211T101841Z
LAST-MODIFIED:20251211T101843Z
UID:10001971-1783537200-1783544400@dg-buenzwangen.de
SUMMARY:Mäschlestreff
DESCRIPTION:Stricken und Häkeln in gemütlicher Runde für Anfänger und Fortgeschrittene \nDu willst Stricken und/oder Häkeln lernen oder brauchst Tipps und Unterstützung\, oder hast einfach Lust auf Handarbeiten in einer netten Gruppe? Dann komm vorbei und mach mit. \nJeden zweiten Mittwoch um 19 Uhr im Historischen Rathaus
URL:https://dg-buenzwangen.de/event/maeschlestreff-2-3/2026-07-08/
LOCATION:Rathaus Bünzwangen\, Ortsstr. 49\, Ebersbach\, BW\, 73061\, Deutschland
CATEGORIES:Maeschlestreff,Treffen
ATTACH;FMTTYPE=image/png:https://dg-buenzwangen.de/wp-content/uploads/2023/10/Veranstaltungsbild.png
ORGANIZER;CN="Dorfgemeinschaft B%C3%BCnzwangen e.V.":MAILTO:info@dg-buenzwangen.de
END:VEVENT
BEGIN:VEVENT
DTSTART;TZID=Europe/Berlin:20260710T120000
DTEND;TZID=Europe/Berlin:20260710T130000
DTSTAMP:20260424T125831
CREATED:20241105T094337Z
LAST-MODIFIED:20251127T090202Z
UID:10001989-1783684800-1783688400@dg-buenzwangen.de
SUMMARY:Mittagstisch
DESCRIPTION:Mittagstisch \nDie Dorfgemeinschaft Bünzwangen e.V. lädt ein! \nKeine Zeit oder keine Lust zu kochen? Ihr wollt euch in Bünzwangen mit Freunden zum Mittagessen treffen? Egal was euch dazu bewegt\, kommt vorbei! \nEssensausgabe 12-13 Uhr im Ev. Gemeindehaus Bünzwangen \nReservierung notwendig!
URL:https://dg-buenzwangen.de/event/mittagstisch-3/2026-07-10/
LOCATION:Ev. Gemeindehaus Bünzwangen\, Ortsstr. 28/1\, Ebersbach\, BW\, 73061\, Deutschland
ATTACH;FMTTYPE=image/png:https://dg-buenzwangen.de/wp-content/uploads/2022/04/Mittagstisch_v2_Box.png
ORGANIZER;CN="Dorfgemeinschaft B%C3%BCnzwangen e.V.":MAILTO:info@dg-buenzwangen.de
END:VEVENT
BEGIN:VEVENT
DTSTART;TZID=Europe/Berlin:20260722T190000
DTEND;TZID=Europe/Berlin:20260722T210000
DTSTAMP:20260424T125831
CREATED:20251211T101841Z
LAST-MODIFIED:20251211T101843Z
UID:10001972-1784746800-1784754000@dg-buenzwangen.de
SUMMARY:Mäschlestreff
DESCRIPTION:Stricken und Häkeln in gemütlicher Runde für Anfänger und Fortgeschrittene \nDu willst Stricken und/oder Häkeln lernen oder brauchst Tipps und Unterstützung\, oder hast einfach Lust auf Handarbeiten in einer netten Gruppe? Dann komm vorbei und mach mit. \nJeden zweiten Mittwoch um 19 Uhr im Historischen Rathaus
URL:https://dg-buenzwangen.de/event/maeschlestreff-2-3/2026-07-22/
LOCATION:Rathaus Bünzwangen\, Ortsstr. 49\, Ebersbach\, BW\, 73061\, Deutschland
CATEGORIES:Maeschlestreff,Treffen
ATTACH;FMTTYPE=image/png:https://dg-buenzwangen.de/wp-content/uploads/2023/10/Veranstaltungsbild.png
ORGANIZER;CN="Dorfgemeinschaft B%C3%BCnzwangen e.V.":MAILTO:info@dg-buenzwangen.de
END:VEVENT
END:VCALENDAR