BEGIN:VCALENDAR
VERSION:2.0
PRODID:-//Bünzwangen - ECPv6.15.20//NONSGML v1.0//EN
CALSCALE:GREGORIAN
METHOD:PUBLISH
X-WR-CALNAME:Bünzwangen
X-ORIGINAL-URL:https://dg-buenzwangen.de
X-WR-CALDESC:Veranstaltungen für Bünzwangen
REFRESH-INTERVAL;VALUE=DURATION:PT1H
X-Robots-Tag:noindex
X-PUBLISHED-TTL:PT1H
BEGIN:VTIMEZONE
TZID:Europe/Berlin
BEGIN:DAYLIGHT
TZOFFSETFROM:+0100
TZOFFSETTO:+0200
TZNAME:CEST
DTSTART:20240331T010000
END:DAYLIGHT
BEGIN:STANDARD
TZOFFSETFROM:+0200
TZOFFSETTO:+0100
TZNAME:CET
DTSTART:20241027T010000
END:STANDARD
BEGIN:DAYLIGHT
TZOFFSETFROM:+0100
TZOFFSETTO:+0200
TZNAME:CEST
DTSTART:20250330T010000
END:DAYLIGHT
BEGIN:STANDARD
TZOFFSETFROM:+0200
TZOFFSETTO:+0100
TZNAME:CET
DTSTART:20251026T010000
END:STANDARD
BEGIN:DAYLIGHT
TZOFFSETFROM:+0100
TZOFFSETTO:+0200
TZNAME:CEST
DTSTART:20260329T010000
END:DAYLIGHT
BEGIN:STANDARD
TZOFFSETFROM:+0200
TZOFFSETTO:+0100
TZNAME:CET
DTSTART:20261025T010000
END:STANDARD
END:VTIMEZONE
BEGIN:VEVENT
DTSTART;TZID=Europe/Berlin:20250218T143000
DTEND;TZID=Europe/Berlin:20250218T160000
DTSTAMP:20260425T145320
CREATED:20250203T084356Z
LAST-MODIFIED:20250203T084356Z
UID:10000684-1739889000-1739894400@dg-buenzwangen.de
SUMMARY:KKC MINIS - Faschingszauber: Masken & Deko basteln
DESCRIPTION:Der 19.02. ist bereits ausgebucht! \nDu bist kreativ und liebst es\, mit Farben und Glitzer zu experimentieren? \nDann komm zum Faschinsmasken- & Dekobasteln im Rathaus in Bünzwangen! Gestalte deine eigene Maske und eine tolle Deko für zu Hause. Für kleine und große Bastelfans ist alles dabei. \nFür alle DgB-Mitglieder im Kindergartenalter mit Begleitperson- Anmeldung bei unserem KKC Mini Team
URL:https://dg-buenzwangen.de/event/kkc-minis-faschingszauber-masken-deko-basteln/2025-02-18/
LOCATION:Rathaus Bünzwangen\, Ortsstr. 49\, Ebersbach\, BW\, 73061\, Deutschland
CATEGORIES:Minis
ATTACH;FMTTYPE=image/png:https://dg-buenzwangen.de/wp-content/uploads/2025/02/Veranstaltungsbild-3.png
END:VEVENT
BEGIN:VEVENT
DTSTART;TZID=Europe/Berlin:20250219T153000
DTEND;TZID=Europe/Berlin:20250219T170000
DTSTAMP:20260425T145320
CREATED:20250203T084356Z
LAST-MODIFIED:20250203T084356Z
UID:10000685-1739979000-1739984400@dg-buenzwangen.de
SUMMARY:KKC MINIS - Faschingszauber: Masken & Deko basteln
DESCRIPTION:Der 19.02. ist bereits ausgebucht! \nDu bist kreativ und liebst es\, mit Farben und Glitzer zu experimentieren? \nDann komm zum Faschinsmasken- & Dekobasteln im Rathaus in Bünzwangen! Gestalte deine eigene Maske und eine tolle Deko für zu Hause. Für kleine und große Bastelfans ist alles dabei. \nFür alle DgB-Mitglieder im Kindergartenalter mit Begleitperson- Anmeldung bei unserem KKC Mini Team
URL:https://dg-buenzwangen.de/event/kkc-minis-faschingszauber-masken-deko-basteln/2025-02-19/
LOCATION:Rathaus Bünzwangen\, Ortsstr. 49\, Ebersbach\, BW\, 73061\, Deutschland
CATEGORIES:Minis
ATTACH;FMTTYPE=image/png:https://dg-buenzwangen.de/wp-content/uploads/2025/02/Veranstaltungsbild-3.png
END:VEVENT
END:VCALENDAR