BEGIN:VCALENDAR
VERSION:2.0
PRODID:-//Bünzwangen - ECPv6.15.20//NONSGML v1.0//EN
CALSCALE:GREGORIAN
METHOD:PUBLISH
X-WR-CALNAME:Bünzwangen
X-ORIGINAL-URL:https://dg-buenzwangen.de
X-WR-CALDESC:Veranstaltungen für Bünzwangen
REFRESH-INTERVAL;VALUE=DURATION:PT1H
X-Robots-Tag:noindex
X-PUBLISHED-TTL:PT1H
BEGIN:VTIMEZONE
TZID:Europe/Berlin
BEGIN:DAYLIGHT
TZOFFSETFROM:+0100
TZOFFSETTO:+0200
TZNAME:CEST
DTSTART:20240331T010000
END:DAYLIGHT
BEGIN:STANDARD
TZOFFSETFROM:+0200
TZOFFSETTO:+0100
TZNAME:CET
DTSTART:20241027T010000
END:STANDARD
BEGIN:DAYLIGHT
TZOFFSETFROM:+0100
TZOFFSETTO:+0200
TZNAME:CEST
DTSTART:20250330T010000
END:DAYLIGHT
BEGIN:STANDARD
TZOFFSETFROM:+0200
TZOFFSETTO:+0100
TZNAME:CET
DTSTART:20251026T010000
END:STANDARD
BEGIN:DAYLIGHT
TZOFFSETFROM:+0100
TZOFFSETTO:+0200
TZNAME:CEST
DTSTART:20260329T010000
END:DAYLIGHT
BEGIN:STANDARD
TZOFFSETFROM:+0200
TZOFFSETTO:+0100
TZNAME:CET
DTSTART:20261025T010000
END:STANDARD
END:VTIMEZONE
BEGIN:VEVENT
DTSTART;TZID=Europe/Berlin:20250429T143000
DTEND;TZID=Europe/Berlin:20250429T160000
DTSTAMP:20260420T002514
CREATED:20250417T092845Z
LAST-MODIFIED:20250417T092845Z
UID:10001305-1745937000-1745942400@dg-buenzwangen.de
SUMMARY:ABC-Raupen-Basteln
DESCRIPTION:Du bist kreativ und hast Lust\, etwas Besonderes zu basteln? Dann komm zu unserem ABC-Raupen-Basteln aus Holzkugeln! \nHier kannst du deine ganz eigene Buchstaben-Raupe gestalten – von A bis Z! Verziere sie ganz nach deinem Geschmack. Ob als Geschenk oder als Deko fürs Kinderzimmer – deine Raupe wird einzigartig! Sei dabei und werde Teil unseres Bastelspaßes! \nFür alle Kindergartenkinder mit Begleitperson – Teilnahmekosten 5 €/Kind Anmeldung bei unserem KKC Team\, über WhatsApp +49 1522 6682980 oder per E-Mail info@dg-buenzwangen.de
URL:https://dg-buenzwangen.de/event/abc-raupen-basteln/
LOCATION:Rathaus Bünzwangen\, Ortsstr. 49\, Ebersbach\, BW\, 73061\, Deutschland
CATEGORIES:Minis
ATTACH;FMTTYPE=image/png:https://dg-buenzwangen.de/wp-content/uploads/2025/04/Veranstaltungsbild.png
END:VEVENT
END:VCALENDAR