BEGIN:VCALENDAR
VERSION:2.0
PRODID:-//Bünzwangen - ECPv6.15.20//NONSGML v1.0//EN
CALSCALE:GREGORIAN
METHOD:PUBLISH
X-WR-CALNAME:Bünzwangen
X-ORIGINAL-URL:https://dg-buenzwangen.de
X-WR-CALDESC:Veranstaltungen für Bünzwangen
REFRESH-INTERVAL;VALUE=DURATION:PT1H
X-Robots-Tag:noindex
X-PUBLISHED-TTL:PT1H
BEGIN:VTIMEZONE
TZID:Europe/Berlin
BEGIN:DAYLIGHT
TZOFFSETFROM:+0100
TZOFFSETTO:+0200
TZNAME:CEST
DTSTART:20240331T010000
END:DAYLIGHT
BEGIN:STANDARD
TZOFFSETFROM:+0200
TZOFFSETTO:+0100
TZNAME:CET
DTSTART:20241027T010000
END:STANDARD
BEGIN:DAYLIGHT
TZOFFSETFROM:+0100
TZOFFSETTO:+0200
TZNAME:CEST
DTSTART:20250330T010000
END:DAYLIGHT
BEGIN:STANDARD
TZOFFSETFROM:+0200
TZOFFSETTO:+0100
TZNAME:CET
DTSTART:20251026T010000
END:STANDARD
BEGIN:DAYLIGHT
TZOFFSETFROM:+0100
TZOFFSETTO:+0200
TZNAME:CEST
DTSTART:20260329T010000
END:DAYLIGHT
BEGIN:STANDARD
TZOFFSETFROM:+0200
TZOFFSETTO:+0100
TZNAME:CET
DTSTART:20261025T010000
END:STANDARD
END:VTIMEZONE
BEGIN:VEVENT
DTSTART;TZID=Europe/Berlin:20250625T140000
DTEND;TZID=Europe/Berlin:20250625T150000
DTSTAMP:20260419T220916
CREATED:20250508T201141Z
LAST-MODIFIED:20250508T201141Z
UID:10001306-1750860000-1750863600@dg-buenzwangen.de
SUMMARY:KKC Minis - Erste-Hilfe-Kurs für Kinder
DESCRIPTION:Du bist neugierig und möchtest wissen\, wie du in Notfällen helfen kannst? \nDann komm zum Erste-Hilfe-Kurs für Kinder im Rathaus in Bünzwangen! \nHier lernst du spielerisch\, wie du Pflaster richtig aufklebst\, Verbände anlegst und in Notfällen Ruhe bewahrst. Ob kleine oder große Schrammen – mit ein bisschen Wissen kannst du ein echter Helfer sein! \nFür alle Kindergartenkinder ab 4 Jahre ohne Begleitung Teilnahmekosten 20€ (DgB-Mitglieder 15€) Anmeldung bei unserem KKC Team
URL:https://dg-buenzwangen.de/event/kkc-minis-erste-hilfe-kurs-fuer-kinder/2025-06-25/1/
LOCATION:BW
CATEGORIES:Minis
ATTACH;FMTTYPE=image/png:https://dg-buenzwangen.de/wp-content/uploads/2025/05/Veranstaltungsbild.png
END:VEVENT
BEGIN:VEVENT
DTSTART;TZID=Europe/Berlin:20250625T153000
DTEND;TZID=Europe/Berlin:20250625T163000
DTSTAMP:20260419T220916
CREATED:20250508T201141Z
LAST-MODIFIED:20250508T201141Z
UID:10001307-1750865400-1750869000@dg-buenzwangen.de
SUMMARY:KKC Minis - Erste-Hilfe-Kurs für Kinder
DESCRIPTION:Du bist neugierig und möchtest wissen\, wie du in Notfällen helfen kannst? \nDann komm zum Erste-Hilfe-Kurs für Kinder im Rathaus in Bünzwangen! \nHier lernst du spielerisch\, wie du Pflaster richtig aufklebst\, Verbände anlegst und in Notfällen Ruhe bewahrst. Ob kleine oder große Schrammen – mit ein bisschen Wissen kannst du ein echter Helfer sein! \nFür alle Kindergartenkinder ab 4 Jahre ohne Begleitung Teilnahmekosten 20€ (DgB-Mitglieder 15€) Anmeldung bei unserem KKC Team
URL:https://dg-buenzwangen.de/event/kkc-minis-erste-hilfe-kurs-fuer-kinder/2025-06-25/2/
LOCATION:BW
CATEGORIES:Minis
ATTACH;FMTTYPE=image/png:https://dg-buenzwangen.de/wp-content/uploads/2025/05/Veranstaltungsbild.png
END:VEVENT
END:VCALENDAR