BEGIN:VCALENDAR
VERSION:2.0
PRODID:-//Bünzwangen - ECPv6.15.20//NONSGML v1.0//EN
CALSCALE:GREGORIAN
METHOD:PUBLISH
X-ORIGINAL-URL:https://dg-buenzwangen.de
X-WR-CALDESC:Veranstaltungen für Bünzwangen
REFRESH-INTERVAL;VALUE=DURATION:PT1H
X-Robots-Tag:noindex
X-PUBLISHED-TTL:PT1H
BEGIN:VTIMEZONE
TZID:Europe/Berlin
BEGIN:DAYLIGHT
TZOFFSETFROM:+0100
TZOFFSETTO:+0200
TZNAME:CEST
DTSTART:20240331T010000
END:DAYLIGHT
BEGIN:STANDARD
TZOFFSETFROM:+0200
TZOFFSETTO:+0100
TZNAME:CET
DTSTART:20241027T010000
END:STANDARD
BEGIN:DAYLIGHT
TZOFFSETFROM:+0100
TZOFFSETTO:+0200
TZNAME:CEST
DTSTART:20250330T010000
END:DAYLIGHT
BEGIN:STANDARD
TZOFFSETFROM:+0200
TZOFFSETTO:+0100
TZNAME:CET
DTSTART:20251026T010000
END:STANDARD
BEGIN:DAYLIGHT
TZOFFSETFROM:+0100
TZOFFSETTO:+0200
TZNAME:CEST
DTSTART:20260329T010000
END:DAYLIGHT
BEGIN:STANDARD
TZOFFSETFROM:+0200
TZOFFSETTO:+0100
TZNAME:CET
DTSTART:20261025T010000
END:STANDARD
END:VTIMEZONE
BEGIN:VEVENT
DTSTART;TZID=Europe/Berlin:20250806T143000
DTEND;TZID=Europe/Berlin:20250806T160000
DTSTAMP:20260419T195326
CREATED:20250721T144014Z
LAST-MODIFIED:20250721T144014Z
UID:10001321-1754490600-1754496000@dg-buenzwangen.de
SUMMARY:KKC Minis - Kerzen herstellen
DESCRIPTION:Du liebst es\, kreativ zu sein und möchtest wissen\, wie Kerzen eigentlich gemacht werden? Dann sei dabei bei unserem Event – ein kreativer Bastelspaß mit Wachs und Docht! \nHier kannst du deine ganz persönliche Kerze gestalten – ob bunt\, gedreht oder ganz klassisch – deiner Fantasie sind keine Grenzen gesetzt! Schritt für Schritt entsteht unter deinen Händen ein echtes Unikat\, das du natürlich mit nach Hause nehmen darfst. Melde dich an und werde zum Kerzen-Profi! \nTeilnahmekosten 5€ – Anmeldung bei unserem KKC Team\, über WhatsApp +49 1522 6682980 oder per E-Mail info@dg-buenzwangen.de
URL:https://dg-buenzwangen.de/event/kkc-minis-kerzen-herstellen/2025-08-06/
LOCATION:Rathaus Bünzwangen\, Ortsstr. 49\, Ebersbach\, BW\, 73061\, Deutschland
CATEGORIES:Minis
ATTACH;FMTTYPE=image/png:https://dg-buenzwangen.de/wp-content/uploads/2025/07/Veranstaltungsbild-3.png
END:VEVENT
BEGIN:VEVENT
DTSTART;TZID=Europe/Berlin:20250813T133000
DTEND;TZID=Europe/Berlin:20250813T150000
DTSTAMP:20260419T195326
CREATED:20250702T174656Z
LAST-MODIFIED:20250702T174656Z
UID:10001316-1755091800-1755097200@dg-buenzwangen.de
SUMMARY:KKC MINIS - Was macht die Kuh im Kühlschrank
DESCRIPTION:Du bist neugierig und möchtest wissen\, warum eine Kuh im Kühlschrank wohnt? \nDann komm zur Mitmach-Ausstellung „Was macht die Kuh im Kühlschrank?“ in der Kunsthalle Göppingen! \nHier entdeckst du eine Wohnung aus Pappe\, in der nichts so ist wie zu Hause: Du kannst durch eine Riesensteckdose schauen oder in ein Abwasserrohr klettern. In jedem Raum warten spannende Fragen auf dich: Woher kommt unser Wasser? Wie entsteht Strom? Was passiert mit altem Spielzeug? Melde dich an und finde es heraus. \nFür alle Kindergartenkinder – Die Teilnahme ist kostenlos – Anmeldung bei unserem KKC Team\, über WhatsApp +49 1522 6682980 oder per E-Mail info@dg-buenzwangen.de
URL:https://dg-buenzwangen.de/event/kkc-minis-was-macht-die-kuh-im-kuehlschrank/
LOCATION:Kunsthalle Göppingen
CATEGORIES:Minis
ATTACH;FMTTYPE=image/png:https://dg-buenzwangen.de/wp-content/uploads/2025/07/Veranstaltungsbild.png
END:VEVENT
BEGIN:VEVENT
DTSTART;TZID=Europe/Berlin:20250820T143000
DTEND;TZID=Europe/Berlin:20250820T160000
DTSTAMP:20260419T195326
CREATED:20250721T144014Z
LAST-MODIFIED:20250721T144014Z
UID:10001322-1755700200-1755705600@dg-buenzwangen.de
SUMMARY:KKC Minis - Kerzen herstellen
DESCRIPTION:Du liebst es\, kreativ zu sein und möchtest wissen\, wie Kerzen eigentlich gemacht werden? Dann sei dabei bei unserem Event – ein kreativer Bastelspaß mit Wachs und Docht! \nHier kannst du deine ganz persönliche Kerze gestalten – ob bunt\, gedreht oder ganz klassisch – deiner Fantasie sind keine Grenzen gesetzt! Schritt für Schritt entsteht unter deinen Händen ein echtes Unikat\, das du natürlich mit nach Hause nehmen darfst. Melde dich an und werde zum Kerzen-Profi! \nTeilnahmekosten 5€ – Anmeldung bei unserem KKC Team\, über WhatsApp +49 1522 6682980 oder per E-Mail info@dg-buenzwangen.de
URL:https://dg-buenzwangen.de/event/kkc-minis-kerzen-herstellen/2025-08-20/
LOCATION:Rathaus Bünzwangen\, Ortsstr. 49\, Ebersbach\, BW\, 73061\, Deutschland
CATEGORIES:Minis
ATTACH;FMTTYPE=image/png:https://dg-buenzwangen.de/wp-content/uploads/2025/07/Veranstaltungsbild-3.png
END:VEVENT
BEGIN:VEVENT
DTSTART;TZID=Europe/Berlin:20250829T180000
DTEND;TZID=Europe/Berlin:20250829T210000
DTSTAMP:20260419T195326
CREATED:20250707T200800Z
LAST-MODIFIED:20250707T200800Z
UID:10001317-1756490400-1756501200@dg-buenzwangen.de
SUMMARY:KKC Fledermaus-Event
DESCRIPTION:Du bist neugierig und möchtest wissen\, warum Fledermäuse Häuser brauchen? Dann komm zu unserem kreativen Event „Baue und bemale dein eigenes Fledermaushaus“ mit anschließender Fledermaus-Exkursion! \nHier hast du die Chance\, dein eigenes Fledermaushaus zu bauen und zu gestalten – perfekt für die kleinen Nachtflieger! Und nach dem Basteln geht’s auf spannende Entdeckungstour: Gemeinsam mit Florian Pointke vom NABU begeben wir uns auf eine Exkursion\, um Fledermäuse in der Natur zu beobachten. Melde dich an und werde ein Fledermaus-Experte! \nFür alle Kindergartenkinder und Grundschulkinder mit Begleitperson – Teilnahmekosten 17€ (DgB Mitglieder 10€) Anmeldung bei unserem KKC Team\, über WhatsApp +49 1522 6682980 oder per E-Mail info@dg-buenzwangen.de \nBei schlechtem Wetter muss das Event leider abgesagt werden.
URL:https://dg-buenzwangen.de/event/kkc-fledermaus-event/2025-08-29/
LOCATION:Rathaus Bünzwangen\, Ortsstr. 49\, Ebersbach\, BW\, 73061\, Deutschland
CATEGORIES:KKC,Minis
ATTACH;FMTTYPE=image/png:https://dg-buenzwangen.de/wp-content/uploads/2025/07/Veranstaltungsbild-1.png
END:VEVENT
END:VCALENDAR