BEGIN:VCALENDAR
VERSION:2.0
PRODID:-//Bünzwangen - ECPv6.15.20//NONSGML v1.0//EN
CALSCALE:GREGORIAN
METHOD:PUBLISH
X-ORIGINAL-URL:https://dg-buenzwangen.de
X-WR-CALDESC:Veranstaltungen für Bünzwangen
REFRESH-INTERVAL;VALUE=DURATION:PT1H
X-Robots-Tag:noindex
X-PUBLISHED-TTL:PT1H
BEGIN:VTIMEZONE
TZID:Europe/Berlin
BEGIN:DAYLIGHT
TZOFFSETFROM:+0100
TZOFFSETTO:+0200
TZNAME:CEST
DTSTART:20240331T010000
END:DAYLIGHT
BEGIN:STANDARD
TZOFFSETFROM:+0200
TZOFFSETTO:+0100
TZNAME:CET
DTSTART:20241027T010000
END:STANDARD
BEGIN:DAYLIGHT
TZOFFSETFROM:+0100
TZOFFSETTO:+0200
TZNAME:CEST
DTSTART:20250330T010000
END:DAYLIGHT
BEGIN:STANDARD
TZOFFSETFROM:+0200
TZOFFSETTO:+0100
TZNAME:CET
DTSTART:20251026T010000
END:STANDARD
BEGIN:DAYLIGHT
TZOFFSETFROM:+0100
TZOFFSETTO:+0200
TZNAME:CEST
DTSTART:20260329T010000
END:DAYLIGHT
BEGIN:STANDARD
TZOFFSETFROM:+0200
TZOFFSETTO:+0100
TZNAME:CET
DTSTART:20261025T010000
END:STANDARD
END:VTIMEZONE
BEGIN:VEVENT
DTSTART;TZID=Europe/Berlin:20250907T180000
DTEND;TZID=Europe/Berlin:20250907T210000
DTSTAMP:20260419T184439
CREATED:20250707T200800Z
LAST-MODIFIED:20250707T200800Z
UID:10001318-1757268000-1757278800@dg-buenzwangen.de
SUMMARY:KKC Fledermaus-Event
DESCRIPTION:Du bist neugierig und möchtest wissen\, warum Fledermäuse Häuser brauchen? Dann komm zu unserem kreativen Event „Baue und bemale dein eigenes Fledermaushaus“ mit anschließender Fledermaus-Exkursion! \nHier hast du die Chance\, dein eigenes Fledermaushaus zu bauen und zu gestalten – perfekt für die kleinen Nachtflieger! Und nach dem Basteln geht’s auf spannende Entdeckungstour: Gemeinsam mit Florian Pointke vom NABU begeben wir uns auf eine Exkursion\, um Fledermäuse in der Natur zu beobachten. Melde dich an und werde ein Fledermaus-Experte! \nFür alle Kindergartenkinder und Grundschulkinder mit Begleitperson – Teilnahmekosten 17€ (DgB Mitglieder 10€) Anmeldung bei unserem KKC Team\, über WhatsApp +49 1522 6682980 oder per E-Mail info@dg-buenzwangen.de \nBei schlechtem Wetter muss das Event leider abgesagt werden.
URL:https://dg-buenzwangen.de/event/kkc-fledermaus-event/2025-09-07/
LOCATION:Rathaus Bünzwangen\, Ortsstr. 49\, Ebersbach\, BW\, 73061\, Deutschland
CATEGORIES:KKC,Minis
ATTACH;FMTTYPE=image/png:https://dg-buenzwangen.de/wp-content/uploads/2025/07/Veranstaltungsbild-1.png
END:VEVENT
BEGIN:VEVENT
DTSTART;TZID=Europe/Berlin:20250917T143000
DTEND;TZID=Europe/Berlin:20250917T160000
DTSTAMP:20260419T184439
CREATED:20250908T092931Z
LAST-MODIFIED:20250911T071558Z
UID:10001945-1758119400-1758124800@dg-buenzwangen.de
SUMMARY:KKC MINIS - Mein Herbstshirt
DESCRIPTION:Du liebst bunte Farben und willst dein eigenes Kleidungsstück in ein Kunstwerk verwandeln? Dann komm zum Mini-Event: “Mein Herbstshirt“! \nHier probierst du aus\, wie sich Blätter in Stempel verwandeln und auf Stoff ihre schönsten Spuren hinterlassen. Mit jeder Druckspur wird dein T-Shirt\, Longsleeve oder Hoodie einzigartig – ganz nach deinen Ideen. \nBitte bring ein einfarbiges\, gewaschenes Kleidungsstück zum Bedrucken mit und zieh Kleidung an\, die Farbe abbekommen darf. \nMit Begleitperson – Teilnahmekosten 7€ (Mitglieder 2€) – Anmeldung bei unserem KKC Team über WhatsApp +49 1522 6682980 oder per E-Mail info@dg-buenzwangen.de
URL:https://dg-buenzwangen.de/event/kkc-minis-mein-herbstshirt/
LOCATION:Rathaus Bünzwangen\, Ortsstr. 49\, Ebersbach\, BW\, 73061\, Deutschland
CATEGORIES:Minis
ATTACH;FMTTYPE=image/png:https://dg-buenzwangen.de/wp-content/uploads/2025/09/250923-KKC-Minis-Mein-Herbstshirt.png
END:VEVENT
END:VCALENDAR