BEGIN:VCALENDAR
VERSION:2.0
PRODID:-//Bünzwangen - ECPv6.15.20//NONSGML v1.0//EN
CALSCALE:GREGORIAN
METHOD:PUBLISH
X-ORIGINAL-URL:https://dg-buenzwangen.de
X-WR-CALDESC:Veranstaltungen für Bünzwangen
REFRESH-INTERVAL;VALUE=DURATION:PT1H
X-Robots-Tag:noindex
X-PUBLISHED-TTL:PT1H
BEGIN:VTIMEZONE
TZID:Europe/Berlin
BEGIN:DAYLIGHT
TZOFFSETFROM:+0100
TZOFFSETTO:+0200
TZNAME:CEST
DTSTART:20240331T010000
END:DAYLIGHT
BEGIN:STANDARD
TZOFFSETFROM:+0200
TZOFFSETTO:+0100
TZNAME:CET
DTSTART:20241027T010000
END:STANDARD
BEGIN:DAYLIGHT
TZOFFSETFROM:+0100
TZOFFSETTO:+0200
TZNAME:CEST
DTSTART:20250330T010000
END:DAYLIGHT
BEGIN:STANDARD
TZOFFSETFROM:+0200
TZOFFSETTO:+0100
TZNAME:CET
DTSTART:20251026T010000
END:STANDARD
BEGIN:DAYLIGHT
TZOFFSETFROM:+0100
TZOFFSETTO:+0200
TZNAME:CEST
DTSTART:20260329T010000
END:DAYLIGHT
BEGIN:STANDARD
TZOFFSETFROM:+0200
TZOFFSETTO:+0100
TZNAME:CET
DTSTART:20261025T010000
END:STANDARD
END:VTIMEZONE
BEGIN:VEVENT
DTSTART;TZID=Europe/Berlin:20251015T143000
DTEND;TZID=Europe/Berlin:20251015T160000
DTSTAMP:20260419T173242
CREATED:20250918T101033Z
LAST-MODIFIED:20250918T101033Z
UID:10001947-1760538600-1760544000@dg-buenzwangen.de
SUMMARY:KKC MINIS - Herbstzauber aus der Natur
DESCRIPTION:Du sammelst gerne Schätze in der Natur und willst daraus etwas Besonderes machen? \nDann komm zu unserem KKC-Minis-Event. \nHier bemalst du Wandersteine\, gestaltest bunte Bilder mit laminierten Blättern und bastelst lustige Figuren aus Kastanien. Aus einfachen Fundstücken entstehen kreative Kunstwerke\, die du mit nach Hause nehmen kannst. Melde dich an und entdecke\, was in Herbstschätzen steckt. \nTeilnahmekosten 5€ (Mitglieder 3€) – Anmeldung bei unserem KKC Team über WhatsApp +49 1522 6682980 oder per E-Mail info@dg-buenzwangen.de
URL:https://dg-buenzwangen.de/event/kkc-minis-herbstzauber-aus-der-natur/
LOCATION:Rathaus Bünzwangen\, Ortsstr. 49\, Ebersbach\, BW\, 73061\, Deutschland
CATEGORIES:Minis
ATTACH;FMTTYPE=image/png:https://dg-buenzwangen.de/wp-content/uploads/2025/09/251015-KKC-Minis-Naturmaterialien.png
END:VEVENT
BEGIN:VEVENT
DTSTART;TZID=Europe/Berlin:20251025T140000
DTEND;TZID=Europe/Berlin:20251025T153000
DTSTAMP:20260419T173242
CREATED:20250728T064748Z
LAST-MODIFIED:20250806T114446Z
UID:10001324-1761400800-1761406200@dg-buenzwangen.de
SUMMARY:KKC MINIS - Mut im Bauch mit Maren Pfeiffer
DESCRIPTION:Du bist mutig und kreativ oder willst es gerne sein und entdecken\, was alles in dir steckt? „Entdecke deine Superkräfte – für starke Kinder mit Selbstvertrauen“! \nHier kannst du spielerisch deine eigenen Stärken kennenlernen\, dich kreativ ausdrücken und erleben\, was dich einzigartig macht. In spannenden Mitmach-Stationen stärkst du dein Selbstbewusstsein. Gemeinsam entdecken wir\, wie toll es ist\, man selbst zu sein. Melde dich an und finde deine Superkraft! \nAnmeldung bei unserem KKC Team\, über WhatsApp +49 1522 6682980 oder per E-Mail info@dg-buenzwangen.de \n  \n14:00 – 15:30 -> Vorschüler und Erstklässler \n16:00 – 17:30 -> Kinder ab 4 Jahren \nTeilnahmekosten 25\,00 €
URL:https://dg-buenzwangen.de/event/kkc-minis-mut-im-bauch-mit-maren-pfeiffer/2025-10-25/1/
LOCATION:Rathaus Bünzwangen\, Ortsstr. 49\, Ebersbach\, BW\, 73061\, Deutschland
CATEGORIES:Minis
ATTACH;FMTTYPE=image/png:https://dg-buenzwangen.de/wp-content/uploads/2025/07/Veranstaltungsuebersicht.png
END:VEVENT
BEGIN:VEVENT
DTSTART;TZID=Europe/Berlin:20251025T160000
DTEND;TZID=Europe/Berlin:20251025T173000
DTSTAMP:20260419T173242
CREATED:20250728T064748Z
LAST-MODIFIED:20250806T114446Z
UID:10001325-1761408000-1761413400@dg-buenzwangen.de
SUMMARY:KKC MINIS - Mut im Bauch mit Maren Pfeiffer
DESCRIPTION:Du bist mutig und kreativ oder willst es gerne sein und entdecken\, was alles in dir steckt? „Entdecke deine Superkräfte – für starke Kinder mit Selbstvertrauen“! \nHier kannst du spielerisch deine eigenen Stärken kennenlernen\, dich kreativ ausdrücken und erleben\, was dich einzigartig macht. In spannenden Mitmach-Stationen stärkst du dein Selbstbewusstsein. Gemeinsam entdecken wir\, wie toll es ist\, man selbst zu sein. Melde dich an und finde deine Superkraft! \nAnmeldung bei unserem KKC Team\, über WhatsApp +49 1522 6682980 oder per E-Mail info@dg-buenzwangen.de \n  \n14:00 – 15:30 -> Vorschüler und Erstklässler \n16:00 – 17:30 -> Kinder ab 4 Jahren \nTeilnahmekosten 25\,00 €
URL:https://dg-buenzwangen.de/event/kkc-minis-mut-im-bauch-mit-maren-pfeiffer/2025-10-25/2/
LOCATION:Rathaus Bünzwangen\, Ortsstr. 49\, Ebersbach\, BW\, 73061\, Deutschland
CATEGORIES:Minis
ATTACH;FMTTYPE=image/png:https://dg-buenzwangen.de/wp-content/uploads/2025/07/Veranstaltungsuebersicht.png
END:VEVENT
END:VCALENDAR