BEGIN:VCALENDAR
VERSION:2.0
PRODID:-//Bünzwangen - ECPv6.15.20//NONSGML v1.0//EN
CALSCALE:GREGORIAN
METHOD:PUBLISH
X-WR-CALNAME:Bünzwangen
X-ORIGINAL-URL:https://dg-buenzwangen.de
X-WR-CALDESC:Veranstaltungen für Bünzwangen
REFRESH-INTERVAL;VALUE=DURATION:PT1H
X-Robots-Tag:noindex
X-PUBLISHED-TTL:PT1H
BEGIN:VTIMEZONE
TZID:Europe/Berlin
BEGIN:DAYLIGHT
TZOFFSETFROM:+0100
TZOFFSETTO:+0200
TZNAME:CEST
DTSTART:20240331T010000
END:DAYLIGHT
BEGIN:STANDARD
TZOFFSETFROM:+0200
TZOFFSETTO:+0100
TZNAME:CET
DTSTART:20241027T010000
END:STANDARD
BEGIN:DAYLIGHT
TZOFFSETFROM:+0100
TZOFFSETTO:+0200
TZNAME:CEST
DTSTART:20250330T010000
END:DAYLIGHT
BEGIN:STANDARD
TZOFFSETFROM:+0200
TZOFFSETTO:+0100
TZNAME:CET
DTSTART:20251026T010000
END:STANDARD
BEGIN:DAYLIGHT
TZOFFSETFROM:+0100
TZOFFSETTO:+0200
TZNAME:CEST
DTSTART:20260329T010000
END:DAYLIGHT
BEGIN:STANDARD
TZOFFSETFROM:+0200
TZOFFSETTO:+0100
TZNAME:CET
DTSTART:20261025T010000
END:STANDARD
END:VTIMEZONE
BEGIN:VEVENT
DTSTART;TZID=Europe/Berlin:20251105T143000
DTEND;TZID=Europe/Berlin:20251105T160000
DTSTAMP:20260419T161600
CREATED:20251026T123842Z
LAST-MODIFIED:20251026T123842Z
UID:10001951-1762353000-1762358400@dg-buenzwangen.de
SUMMARY:KKC MINIS - Weihnachtsbaumschmuck & Geschenke basteln
DESCRIPTION:Du freust dich schon auf Weihnachten und willst deinen eigenen Weihnachtsbaumschmuck und deine Geschenke selbst basteln? Dann komm zu unserem KKC-Minis-Weihnachts-Event! Hier bastelst du Weihnachtsbaumschmuck für unseren Dorfbaum und gestaltest liebevolle Geschenke für zu Hause mit jeder Menge Fantasie. \nOb Sterne\, Anhänger oder kleine Überraschungen – aus einfachen Materialien entstehen wunderschöne Kunstwerke\, die Herzen strahlen lassen. \nMelde dich an und mach mit – gemeinsam bringen wir den Advent zum Leuchten! \nTeilnahmekosten 5€ (Mitglieder 3€) – Anmeldung bei unserem KKC Team über WhatsApp +49 1522 6682980 oder per E-Mail info@dg-buenzwangen.de
URL:https://dg-buenzwangen.de/event/kkc-minis-weihnachtsbaumschmuck-geschenke-basteln/
LOCATION:Rathaus Bünzwangen\, Ortsstr. 49\, Ebersbach\, BW\, 73061\, Deutschland
CATEGORIES:Minis
ATTACH;FMTTYPE=image/png:https://dg-buenzwangen.de/wp-content/uploads/2025/10/251105-KKC-Minis-Weihnachtsbaumschmuck.png
END:VEVENT
END:VCALENDAR