BEGIN:VCALENDAR
VERSION:2.0
PRODID:-//Bünzwangen - ECPv6.15.20//NONSGML v1.0//EN
CALSCALE:GREGORIAN
METHOD:PUBLISH
X-ORIGINAL-URL:https://dg-buenzwangen.de
X-WR-CALDESC:Veranstaltungen für Bünzwangen
REFRESH-INTERVAL;VALUE=DURATION:PT1H
X-Robots-Tag:noindex
X-PUBLISHED-TTL:PT1H
BEGIN:VTIMEZONE
TZID:Europe/Berlin
BEGIN:DAYLIGHT
TZOFFSETFROM:+0100
TZOFFSETTO:+0200
TZNAME:CEST
DTSTART:20230326T010000
END:DAYLIGHT
BEGIN:STANDARD
TZOFFSETFROM:+0200
TZOFFSETTO:+0100
TZNAME:CET
DTSTART:20231029T010000
END:STANDARD
BEGIN:DAYLIGHT
TZOFFSETFROM:+0100
TZOFFSETTO:+0200
TZNAME:CEST
DTSTART:20240331T010000
END:DAYLIGHT
BEGIN:STANDARD
TZOFFSETFROM:+0200
TZOFFSETTO:+0100
TZNAME:CET
DTSTART:20241027T010000
END:STANDARD
BEGIN:DAYLIGHT
TZOFFSETFROM:+0100
TZOFFSETTO:+0200
TZNAME:CEST
DTSTART:20250330T010000
END:DAYLIGHT
BEGIN:STANDARD
TZOFFSETFROM:+0200
TZOFFSETTO:+0100
TZNAME:CET
DTSTART:20251026T010000
END:STANDARD
END:VTIMEZONE
BEGIN:VEVENT
DTSTART;TZID=Europe/Berlin:20240714T120000
DTEND;TZID=Europe/Berlin:20240714T210000
DTSTAMP:20260425T225626
CREATED:20240311T110705Z
LAST-MODIFIED:20240311T110941Z
UID:10000458-1720958400-1720990800@dg-buenzwangen.de
SUMMARY:Hummels Stadl-Besen 2024
DESCRIPTION:Im Juni/Juli 2024 begrüßen wir Sie wieder herzlich in unserem „Hummels Stadl-Besen“ in uriger Atmosphäre. Angeboten wird neben selbstgemachtem Most und Schnaps aus eigenem Bio-Obst\, ein gutes Viertele Wein sowie einfache und leckere Schmankerln. Kommen Sie vorbei und lassen Sie sich verwöhnen. \nUnser Motto ist: Stets nur das Beste für unsere Gäste ! \nTermine:\n21. Juni – 23. Juni 2024\n28. Juni – 30. Juni 2024\n05. Juli – 07. Juli 2024\n12. Juli – 14. Juli 2024 \nÖffnungszeiten: \nFreitag 17 – 22 Uhr\nSamstag 17 – 22 Uhr\nSonntag 12- 21 Uhr\nKüche bis 21 Uhr. \nReservierungen auf Anfrage!
URL:https://dg-buenzwangen.de/event/hummels-stadl-besen-2024-5/
LOCATION:Hummels Stadl-Besen\, Ortsstraße 85\, Ebersbach-Bünzwangen\, BW\, 73061\, Deutschland
CATEGORIES:Besen
ATTACH;FMTTYPE=image/webp:https://dg-buenzwangen.de/wp-content/uploads/2022/04/Foto05.08.21-072216-1920w-1.webp
ORGANIZER;CN="Familie Hummel":MAILTO:hummel.chr@outlook.de
END:VEVENT
BEGIN:VEVENT
DTSTART;TZID=Europe/Berlin:20240713T170000
DTEND;TZID=Europe/Berlin:20240713T220000
DTSTAMP:20260425T225626
CREATED:20240311T110341Z
LAST-MODIFIED:20240311T110341Z
UID:10000457-1720890000-1720908000@dg-buenzwangen.de
SUMMARY:Hummels Stadl-Besen 2024
DESCRIPTION:Im Juni/Juli 2024 begrüßen wir Sie wieder herzlich in unserem „Hummels Stadl-Besen“ in uriger Atmosphäre. Angeboten wird neben selbstgemachtem Most und Schnaps aus eigenem Bio-Obst\, ein gutes Viertele Wein sowie einfache und leckere Schmankerln. Kommen Sie vorbei und lassen Sie sich verwöhnen. \nUnser Motto ist: Stets nur das Beste für unsere Gäste ! \nTermine:\n21. Juni – 23. Juni 2024\n28. Juni – 30. Juni 2024\n05. Juli – 07. Juli 2024\n12. Juli – 14. Juli 2024 \nÖffnungszeiten: \nFreitag 17 – 22 Uhr\nSamstag 17 – 22 Uhr\nSonntag 12- 21 Uhr\nKüche bis 21 Uhr. \nReservierungen auf Anfrage!
URL:https://dg-buenzwangen.de/event/hummels-stadl-besen-2024/2024-07-13/
LOCATION:Hummels Stadl-Besen\, Ortsstraße 85\, Ebersbach-Bünzwangen\, BW\, 73061\, Deutschland
CATEGORIES:Besen
ATTACH;FMTTYPE=image/webp:https://dg-buenzwangen.de/wp-content/uploads/2022/04/Foto05.08.21-072216-1920w-1.webp
ORGANIZER;CN="Familie Hummel":MAILTO:hummel.chr@outlook.de
END:VEVENT
BEGIN:VEVENT
DTSTART;TZID=Europe/Berlin:20240712T170000
DTEND;TZID=Europe/Berlin:20240712T220000
DTSTAMP:20260425T225626
CREATED:20240311T110341Z
LAST-MODIFIED:20240311T110341Z
UID:10000456-1720803600-1720821600@dg-buenzwangen.de
SUMMARY:Hummels Stadl-Besen 2024
DESCRIPTION:Im Juni/Juli 2024 begrüßen wir Sie wieder herzlich in unserem „Hummels Stadl-Besen“ in uriger Atmosphäre. Angeboten wird neben selbstgemachtem Most und Schnaps aus eigenem Bio-Obst\, ein gutes Viertele Wein sowie einfache und leckere Schmankerln. Kommen Sie vorbei und lassen Sie sich verwöhnen. \nUnser Motto ist: Stets nur das Beste für unsere Gäste ! \nTermine:\n21. Juni – 23. Juni 2024\n28. Juni – 30. Juni 2024\n05. Juli – 07. Juli 2024\n12. Juli – 14. Juli 2024 \nÖffnungszeiten: \nFreitag 17 – 22 Uhr\nSamstag 17 – 22 Uhr\nSonntag 12- 21 Uhr\nKüche bis 21 Uhr. \nReservierungen auf Anfrage!
URL:https://dg-buenzwangen.de/event/hummels-stadl-besen-2024/2024-07-12/
LOCATION:Hummels Stadl-Besen\, Ortsstraße 85\, Ebersbach-Bünzwangen\, BW\, 73061\, Deutschland
CATEGORIES:Besen
ATTACH;FMTTYPE=image/webp:https://dg-buenzwangen.de/wp-content/uploads/2022/04/Foto05.08.21-072216-1920w-1.webp
ORGANIZER;CN="Familie Hummel":MAILTO:hummel.chr@outlook.de
END:VEVENT
BEGIN:VEVENT
DTSTART;TZID=Europe/Berlin:20240707T120000
DTEND;TZID=Europe/Berlin:20240707T210000
DTSTAMP:20260425T225626
CREATED:20240311T110558Z
LAST-MODIFIED:20240311T110558Z
UID:10000455-1720353600-1720386000@dg-buenzwangen.de
SUMMARY:Hummels Stadl-Besen 2024
DESCRIPTION:Im Juni/Juli 2024 begrüßen wir Sie wieder herzlich in unserem „Hummels Stadl-Besen“ in uriger Atmosphäre. Angeboten wird neben selbstgemachtem Most und Schnaps aus eigenem Bio-Obst\, ein gutes Viertele Wein sowie einfache und leckere Schmankerln. Kommen Sie vorbei und lassen Sie sich verwöhnen. \nUnser Motto ist: Stets nur das Beste für unsere Gäste ! \nTermine:\n21. Juni – 23. Juni 2024\n28. Juni – 30. Juni 2024\n05. Juli – 07. Juli 2024\n12. Juli – 14. Juli 2024 \nÖffnungszeiten: \nFreitag 17 – 22 Uhr\nSamstag 17 – 22 Uhr\nSonntag 12- 21 Uhr\nKüche bis 21 Uhr. \nReservierungen auf Anfrage!
URL:https://dg-buenzwangen.de/event/hummels-stadl-besen-2024-4/
LOCATION:Hummels Stadl-Besen\, Ortsstraße 85\, Ebersbach-Bünzwangen\, BW\, 73061\, Deutschland
CATEGORIES:Besen
ATTACH;FMTTYPE=image/webp:https://dg-buenzwangen.de/wp-content/uploads/2022/04/Foto05.08.21-072216-1920w-1.webp
ORGANIZER;CN="Familie Hummel":MAILTO:hummel.chr@outlook.de
END:VEVENT
BEGIN:VEVENT
DTSTART;TZID=Europe/Berlin:20240706T170000
DTEND;TZID=Europe/Berlin:20240706T220000
DTSTAMP:20260425T225626
CREATED:20240311T110341Z
LAST-MODIFIED:20240311T110341Z
UID:10000454-1720285200-1720303200@dg-buenzwangen.de
SUMMARY:Hummels Stadl-Besen 2024
DESCRIPTION:Im Juni/Juli 2024 begrüßen wir Sie wieder herzlich in unserem „Hummels Stadl-Besen“ in uriger Atmosphäre. Angeboten wird neben selbstgemachtem Most und Schnaps aus eigenem Bio-Obst\, ein gutes Viertele Wein sowie einfache und leckere Schmankerln. Kommen Sie vorbei und lassen Sie sich verwöhnen. \nUnser Motto ist: Stets nur das Beste für unsere Gäste ! \nTermine:\n21. Juni – 23. Juni 2024\n28. Juni – 30. Juni 2024\n05. Juli – 07. Juli 2024\n12. Juli – 14. Juli 2024 \nÖffnungszeiten: \nFreitag 17 – 22 Uhr\nSamstag 17 – 22 Uhr\nSonntag 12- 21 Uhr\nKüche bis 21 Uhr. \nReservierungen auf Anfrage!
URL:https://dg-buenzwangen.de/event/hummels-stadl-besen-2024/2024-07-06/
LOCATION:Hummels Stadl-Besen\, Ortsstraße 85\, Ebersbach-Bünzwangen\, BW\, 73061\, Deutschland
CATEGORIES:Besen
ATTACH;FMTTYPE=image/webp:https://dg-buenzwangen.de/wp-content/uploads/2022/04/Foto05.08.21-072216-1920w-1.webp
ORGANIZER;CN="Familie Hummel":MAILTO:hummel.chr@outlook.de
END:VEVENT
BEGIN:VEVENT
DTSTART;TZID=Europe/Berlin:20240705T170000
DTEND;TZID=Europe/Berlin:20240705T220000
DTSTAMP:20260425T225626
CREATED:20240311T110341Z
LAST-MODIFIED:20240311T110341Z
UID:10000453-1720198800-1720216800@dg-buenzwangen.de
SUMMARY:Hummels Stadl-Besen 2024
DESCRIPTION:Im Juni/Juli 2024 begrüßen wir Sie wieder herzlich in unserem „Hummels Stadl-Besen“ in uriger Atmosphäre. Angeboten wird neben selbstgemachtem Most und Schnaps aus eigenem Bio-Obst\, ein gutes Viertele Wein sowie einfache und leckere Schmankerln. Kommen Sie vorbei und lassen Sie sich verwöhnen. \nUnser Motto ist: Stets nur das Beste für unsere Gäste ! \nTermine:\n21. Juni – 23. Juni 2024\n28. Juni – 30. Juni 2024\n05. Juli – 07. Juli 2024\n12. Juli – 14. Juli 2024 \nÖffnungszeiten: \nFreitag 17 – 22 Uhr\nSamstag 17 – 22 Uhr\nSonntag 12- 21 Uhr\nKüche bis 21 Uhr. \nReservierungen auf Anfrage!
URL:https://dg-buenzwangen.de/event/hummels-stadl-besen-2024/2024-07-05/
LOCATION:Hummels Stadl-Besen\, Ortsstraße 85\, Ebersbach-Bünzwangen\, BW\, 73061\, Deutschland
CATEGORIES:Besen
ATTACH;FMTTYPE=image/webp:https://dg-buenzwangen.de/wp-content/uploads/2022/04/Foto05.08.21-072216-1920w-1.webp
ORGANIZER;CN="Familie Hummel":MAILTO:hummel.chr@outlook.de
END:VEVENT
BEGIN:VEVENT
DTSTART;TZID=Europe/Berlin:20240630T120000
DTEND;TZID=Europe/Berlin:20240630T210000
DTSTAMP:20260425T225626
CREATED:20240311T110529Z
LAST-MODIFIED:20240311T110529Z
UID:10000452-1719748800-1719781200@dg-buenzwangen.de
SUMMARY:Hummels Stadl-Besen 2024
DESCRIPTION:Im Juni/Juli 2024 begrüßen wir Sie wieder herzlich in unserem „Hummels Stadl-Besen“ in uriger Atmosphäre. Angeboten wird neben selbstgemachtem Most und Schnaps aus eigenem Bio-Obst\, ein gutes Viertele Wein sowie einfache und leckere Schmankerln. Kommen Sie vorbei und lassen Sie sich verwöhnen. \nUnser Motto ist: Stets nur das Beste für unsere Gäste ! \nTermine:\n21. Juni – 23. Juni 2024\n28. Juni – 30. Juni 2024\n05. Juli – 07. Juli 2024\n12. Juli – 14. Juli 2024 \nÖffnungszeiten: \nFreitag 17 – 22 Uhr\nSamstag 17 – 22 Uhr\nSonntag 12- 21 Uhr\nKüche bis 21 Uhr. \nReservierungen auf Anfrage!
URL:https://dg-buenzwangen.de/event/hummels-stadl-besen-2024-3/
LOCATION:Hummels Stadl-Besen\, Ortsstraße 85\, Ebersbach-Bünzwangen\, BW\, 73061\, Deutschland
CATEGORIES:Besen
ATTACH;FMTTYPE=image/webp:https://dg-buenzwangen.de/wp-content/uploads/2022/04/Foto05.08.21-072216-1920w-1.webp
ORGANIZER;CN="Familie Hummel":MAILTO:hummel.chr@outlook.de
END:VEVENT
BEGIN:VEVENT
DTSTART;TZID=Europe/Berlin:20240629T170000
DTEND;TZID=Europe/Berlin:20240629T220000
DTSTAMP:20260425T225626
CREATED:20240311T110341Z
LAST-MODIFIED:20240311T110341Z
UID:10000451-1719680400-1719698400@dg-buenzwangen.de
SUMMARY:Hummels Stadl-Besen 2024
DESCRIPTION:Im Juni/Juli 2024 begrüßen wir Sie wieder herzlich in unserem „Hummels Stadl-Besen“ in uriger Atmosphäre. Angeboten wird neben selbstgemachtem Most und Schnaps aus eigenem Bio-Obst\, ein gutes Viertele Wein sowie einfache und leckere Schmankerln. Kommen Sie vorbei und lassen Sie sich verwöhnen. \nUnser Motto ist: Stets nur das Beste für unsere Gäste ! \nTermine:\n21. Juni – 23. Juni 2024\n28. Juni – 30. Juni 2024\n05. Juli – 07. Juli 2024\n12. Juli – 14. Juli 2024 \nÖffnungszeiten: \nFreitag 17 – 22 Uhr\nSamstag 17 – 22 Uhr\nSonntag 12- 21 Uhr\nKüche bis 21 Uhr. \nReservierungen auf Anfrage!
URL:https://dg-buenzwangen.de/event/hummels-stadl-besen-2024/2024-06-29/
LOCATION:Hummels Stadl-Besen\, Ortsstraße 85\, Ebersbach-Bünzwangen\, BW\, 73061\, Deutschland
CATEGORIES:Besen
ATTACH;FMTTYPE=image/webp:https://dg-buenzwangen.de/wp-content/uploads/2022/04/Foto05.08.21-072216-1920w-1.webp
ORGANIZER;CN="Familie Hummel":MAILTO:hummel.chr@outlook.de
END:VEVENT
BEGIN:VEVENT
DTSTART;TZID=Europe/Berlin:20240628T170000
DTEND;TZID=Europe/Berlin:20240628T220000
DTSTAMP:20260425T225626
CREATED:20240311T110341Z
LAST-MODIFIED:20240311T110341Z
UID:10000450-1719594000-1719612000@dg-buenzwangen.de
SUMMARY:Hummels Stadl-Besen 2024
DESCRIPTION:Im Juni/Juli 2024 begrüßen wir Sie wieder herzlich in unserem „Hummels Stadl-Besen“ in uriger Atmosphäre. Angeboten wird neben selbstgemachtem Most und Schnaps aus eigenem Bio-Obst\, ein gutes Viertele Wein sowie einfache und leckere Schmankerln. Kommen Sie vorbei und lassen Sie sich verwöhnen. \nUnser Motto ist: Stets nur das Beste für unsere Gäste ! \nTermine:\n21. Juni – 23. Juni 2024\n28. Juni – 30. Juni 2024\n05. Juli – 07. Juli 2024\n12. Juli – 14. Juli 2024 \nÖffnungszeiten: \nFreitag 17 – 22 Uhr\nSamstag 17 – 22 Uhr\nSonntag 12- 21 Uhr\nKüche bis 21 Uhr. \nReservierungen auf Anfrage!
URL:https://dg-buenzwangen.de/event/hummels-stadl-besen-2024/2024-06-28/
LOCATION:Hummels Stadl-Besen\, Ortsstraße 85\, Ebersbach-Bünzwangen\, BW\, 73061\, Deutschland
CATEGORIES:Besen
ATTACH;FMTTYPE=image/webp:https://dg-buenzwangen.de/wp-content/uploads/2022/04/Foto05.08.21-072216-1920w-1.webp
ORGANIZER;CN="Familie Hummel":MAILTO:hummel.chr@outlook.de
END:VEVENT
BEGIN:VEVENT
DTSTART;TZID=Europe/Berlin:20240623T120000
DTEND;TZID=Europe/Berlin:20240623T210000
DTSTAMP:20260425T225626
CREATED:20240311T110449Z
LAST-MODIFIED:20240311T110450Z
UID:10000449-1719144000-1719176400@dg-buenzwangen.de
SUMMARY:Hummels Stadl-Besen 2024
DESCRIPTION:Im Juni/Juli 2024 begrüßen wir Sie wieder herzlich in unserem „Hummels Stadl-Besen“ in uriger Atmosphäre. Angeboten wird neben selbstgemachtem Most und Schnaps aus eigenem Bio-Obst\, ein gutes Viertele Wein sowie einfache und leckere Schmankerln. Kommen Sie vorbei und lassen Sie sich verwöhnen. \nUnser Motto ist: Stets nur das Beste für unsere Gäste ! \nTermine:\n21. Juni – 23. Juni 2024\n28. Juni – 30. Juni 2024\n05. Juli – 07. Juli 2024\n12. Juli – 14. Juli 2024 \nÖffnungszeiten: \nFreitag 17 – 22 Uhr\nSamstag 17 – 22 Uhr\nSonntag 12- 21 Uhr\nKüche bis 21 Uhr. \nReservierungen auf Anfrage!
URL:https://dg-buenzwangen.de/event/hummels-stadl-besen-2024-2/
LOCATION:Hummels Stadl-Besen\, Ortsstraße 85\, Ebersbach-Bünzwangen\, BW\, 73061\, Deutschland
CATEGORIES:Besen
ATTACH;FMTTYPE=image/webp:https://dg-buenzwangen.de/wp-content/uploads/2022/04/Foto05.08.21-072216-1920w-1.webp
ORGANIZER;CN="Familie Hummel":MAILTO:hummel.chr@outlook.de
END:VEVENT
BEGIN:VEVENT
DTSTART;TZID=Europe/Berlin:20240622T170000
DTEND;TZID=Europe/Berlin:20240622T220000
DTSTAMP:20260425T225626
CREATED:20240311T110341Z
LAST-MODIFIED:20240311T110341Z
UID:10000448-1719075600-1719093600@dg-buenzwangen.de
SUMMARY:Hummels Stadl-Besen 2024
DESCRIPTION:Im Juni/Juli 2024 begrüßen wir Sie wieder herzlich in unserem „Hummels Stadl-Besen“ in uriger Atmosphäre. Angeboten wird neben selbstgemachtem Most und Schnaps aus eigenem Bio-Obst\, ein gutes Viertele Wein sowie einfache und leckere Schmankerln. Kommen Sie vorbei und lassen Sie sich verwöhnen. \nUnser Motto ist: Stets nur das Beste für unsere Gäste ! \nTermine:\n21. Juni – 23. Juni 2024\n28. Juni – 30. Juni 2024\n05. Juli – 07. Juli 2024\n12. Juli – 14. Juli 2024 \nÖffnungszeiten: \nFreitag 17 – 22 Uhr\nSamstag 17 – 22 Uhr\nSonntag 12- 21 Uhr\nKüche bis 21 Uhr. \nReservierungen auf Anfrage!
URL:https://dg-buenzwangen.de/event/hummels-stadl-besen-2024/2024-06-22/
LOCATION:Hummels Stadl-Besen\, Ortsstraße 85\, Ebersbach-Bünzwangen\, BW\, 73061\, Deutschland
CATEGORIES:Besen
ATTACH;FMTTYPE=image/webp:https://dg-buenzwangen.de/wp-content/uploads/2022/04/Foto05.08.21-072216-1920w-1.webp
ORGANIZER;CN="Familie Hummel":MAILTO:hummel.chr@outlook.de
END:VEVENT
BEGIN:VEVENT
DTSTART;TZID=Europe/Berlin:20240621T170000
DTEND;TZID=Europe/Berlin:20240621T220000
DTSTAMP:20260425T225626
CREATED:20240311T110341Z
LAST-MODIFIED:20240311T110341Z
UID:10000447-1718989200-1719007200@dg-buenzwangen.de
SUMMARY:Hummels Stadl-Besen 2024
DESCRIPTION:Im Juni/Juli 2024 begrüßen wir Sie wieder herzlich in unserem „Hummels Stadl-Besen“ in uriger Atmosphäre. Angeboten wird neben selbstgemachtem Most und Schnaps aus eigenem Bio-Obst\, ein gutes Viertele Wein sowie einfache und leckere Schmankerln. Kommen Sie vorbei und lassen Sie sich verwöhnen. \nUnser Motto ist: Stets nur das Beste für unsere Gäste ! \nTermine:\n21. Juni – 23. Juni 2024\n28. Juni – 30. Juni 2024\n05. Juli – 07. Juli 2024\n12. Juli – 14. Juli 2024 \nÖffnungszeiten: \nFreitag 17 – 22 Uhr\nSamstag 17 – 22 Uhr\nSonntag 12- 21 Uhr\nKüche bis 21 Uhr. \nReservierungen auf Anfrage!
URL:https://dg-buenzwangen.de/event/hummels-stadl-besen-2024/2024-06-21/
LOCATION:Hummels Stadl-Besen\, Ortsstraße 85\, Ebersbach-Bünzwangen\, BW\, 73061\, Deutschland
CATEGORIES:Besen
ATTACH;FMTTYPE=image/webp:https://dg-buenzwangen.de/wp-content/uploads/2022/04/Foto05.08.21-072216-1920w-1.webp
ORGANIZER;CN="Familie Hummel":MAILTO:hummel.chr@outlook.de
END:VEVENT
END:VCALENDAR