BEGIN:VCALENDAR
VERSION:2.0
PRODID:-//Bünzwangen - ECPv6.15.20//NONSGML v1.0//EN
CALSCALE:GREGORIAN
METHOD:PUBLISH
X-ORIGINAL-URL:https://dg-buenzwangen.de
X-WR-CALDESC:Veranstaltungen für Bünzwangen
REFRESH-INTERVAL;VALUE=DURATION:PT1H
X-Robots-Tag:noindex
X-PUBLISHED-TTL:PT1H
BEGIN:VTIMEZONE
TZID:Europe/Berlin
BEGIN:DAYLIGHT
TZOFFSETFROM:+0100
TZOFFSETTO:+0200
TZNAME:CEST
DTSTART:20210328T010000
END:DAYLIGHT
BEGIN:STANDARD
TZOFFSETFROM:+0200
TZOFFSETTO:+0100
TZNAME:CET
DTSTART:20211031T010000
END:STANDARD
BEGIN:DAYLIGHT
TZOFFSETFROM:+0100
TZOFFSETTO:+0200
TZNAME:CEST
DTSTART:20220327T010000
END:DAYLIGHT
BEGIN:STANDARD
TZOFFSETFROM:+0200
TZOFFSETTO:+0100
TZNAME:CET
DTSTART:20221030T010000
END:STANDARD
BEGIN:DAYLIGHT
TZOFFSETFROM:+0100
TZOFFSETTO:+0200
TZNAME:CEST
DTSTART:20230326T010000
END:DAYLIGHT
BEGIN:STANDARD
TZOFFSETFROM:+0200
TZOFFSETTO:+0100
TZNAME:CET
DTSTART:20231029T010000
END:STANDARD
END:VTIMEZONE
BEGIN:VEVENT
DTSTART;VALUE=DATE:20220729
DTEND;VALUE=DATE:20220730
DTSTAMP:20260424T193254
CREATED:20220307T210824Z
LAST-MODIFIED:20220701T121930Z
UID:10000100-1659052800-1659139199@dg-buenzwangen.de
SUMMARY:Dorfhock
DESCRIPTION:
URL:https://dg-buenzwangen.de/event/dorfhock/
LOCATION:Dorfplatz\, Ortsstr. 49\, Bünzwangen\, BW\, 73061\, Deutschland
CATEGORIES:OR-Sitzung
ATTACH;FMTTYPE=image/jpeg:https://dg-buenzwangen.de/wp-content/uploads/2022/03/Dorfhock-303-×-426-mm.jpg
END:VEVENT
BEGIN:VEVENT
DTSTART;TZID=Europe/Berlin:20220704T190000
DTEND;TZID=Europe/Berlin:20220704T220000
DTSTAMP:20260424T193254
CREATED:20211209T195208Z
LAST-MODIFIED:20220325T082021Z
UID:10000081-1656961200-1656972000@dg-buenzwangen.de
SUMMARY:Ortschaftsratsitzung
DESCRIPTION:
URL:https://dg-buenzwangen.de/event/ortschaftsratsitzung-5/
LOCATION:Mehrzweckhalle Bünzwangen\, Ortsstr. 110\, Bünzwangen\, BW\, 73061\, Deutschland
CATEGORIES:OR-Sitzung
ATTACH;FMTTYPE=image/png:https://dg-buenzwangen.de/wp-content/uploads/2021/12/Wappen_Buenzwangen.png
END:VEVENT
BEGIN:VEVENT
DTSTART;TZID=Europe/Berlin:20220509T190000
DTEND;TZID=Europe/Berlin:20220509T220000
DTSTAMP:20260424T193254
CREATED:20211209T194941Z
LAST-MODIFIED:20220325T082148Z
UID:10000080-1652122800-1652133600@dg-buenzwangen.de
SUMMARY:Ortschaftsratsitzung
DESCRIPTION:
URL:https://dg-buenzwangen.de/event/ortschaftsratsitzung-4/
LOCATION:Mehrzweckhalle Bünzwangen\, Ortsstr. 110\, Bünzwangen\, BW\, 73061\, Deutschland
CATEGORIES:OR-Sitzung
ATTACH;FMTTYPE=image/png:https://dg-buenzwangen.de/wp-content/uploads/2021/12/Wappen_Buenzwangen.png
END:VEVENT
BEGIN:VEVENT
DTSTART;TZID=Europe/Berlin:20220429T160000
DTEND;TZID=Europe/Berlin:20220429T190000
DTSTAMP:20260424T193254
CREATED:20211209T195830Z
LAST-MODIFIED:20220407T115200Z
UID:10000086-1651248000-1651258800@dg-buenzwangen.de
SUMMARY:Maibaumaufstellung
DESCRIPTION:Herzliche Einladung!\nZu unserem traditionellen Maibaumfest\nam Freitag\, den 29. April 2022 ab 16.00 Uhr\nmöchte ich Sie alle ganz herzlich einladen. Endlich dürfen wir\nwieder ein fest in unserer Ortsmitte feiern.\nUnsere Feuerwehrabteilung Bünzwangen richtet den Baum\,\ndie Kinder der Grundschule Bünzwangen unterhalten Sie\nmit einem kleinen Programm und für Ihr leibliches Wohl mit Essen und Getränken wird ebenfalls bestens gesorgt. \nIm Namen des Ortschaftsrats\nDagmar Reyer\nOrtsvorsteherin
URL:https://dg-buenzwangen.de/event/maibaumaufstellung/
LOCATION:Dorfplatz\, Ortsstr. 49\, Bünzwangen\, BW\, 73061\, Deutschland
CATEGORIES:Fest
ATTACH;FMTTYPE=image/jpeg:https://dg-buenzwangen.de/wp-content/uploads/2021/12/maypole-ga7f5dd330_640.jpg
END:VEVENT
BEGIN:VEVENT
DTSTART;TZID=Europe/Berlin:20220328T190000
DTEND;TZID=Europe/Berlin:20220328T220000
DTSTAMP:20260424T193254
CREATED:20211209T194719Z
LAST-MODIFIED:20220325T082423Z
UID:10000079-1648494000-1648504800@dg-buenzwangen.de
SUMMARY:Ortschaftsratsitzung
DESCRIPTION:
URL:https://dg-buenzwangen.de/event/ortschaftsratsitzung-3/
LOCATION:Mehrzweckhalle Bünzwangen\, Ortsstr. 110\, Bünzwangen\, BW\, 73061\, Deutschland
CATEGORIES:OR-Sitzung
ATTACH;FMTTYPE=image/png:https://dg-buenzwangen.de/wp-content/uploads/2021/12/Wappen_Buenzwangen.png
END:VEVENT
BEGIN:VEVENT
DTSTART;TZID=Europe/Berlin:20220214T190000
DTEND;TZID=Europe/Berlin:20220214T220000
DTSTAMP:20260424T193254
CREATED:20211209T192101Z
LAST-MODIFIED:20220325T082510Z
UID:10000077-1644865200-1644876000@dg-buenzwangen.de
SUMMARY:Ortschaftsratsitzung
DESCRIPTION:
URL:https://dg-buenzwangen.de/event/ortschaftsratsitzung/
LOCATION:Mehrzweckhalle Bünzwangen\, Ortsstr. 110\, Bünzwangen\, BW\, 73061\, Deutschland
CATEGORIES:OR-Sitzung
ATTACH;FMTTYPE=image/png:https://dg-buenzwangen.de/wp-content/uploads/2021/12/Wappen_Buenzwangen.png
END:VEVENT
BEGIN:VEVENT
DTSTART;TZID=Europe/Berlin:20220117T190000
DTEND;TZID=Europe/Berlin:20220117T220000
DTSTAMP:20260424T193254
CREATED:20211209T192114Z
LAST-MODIFIED:20220325T082602Z
UID:10000078-1642446000-1642456800@dg-buenzwangen.de
SUMMARY:Ortschaftsratsitzung
DESCRIPTION:
URL:https://dg-buenzwangen.de/event/ortschaftsratsitzung-2/
LOCATION:Mehrzweckhalle Bünzwangen\, Ortsstr. 110\, Bünzwangen\, BW\, 73061\, Deutschland
CATEGORIES:OR-Sitzung
ATTACH;FMTTYPE=image/png:https://dg-buenzwangen.de/wp-content/uploads/2022/02/BTB_Wappen_Buenzwangen.png
END:VEVENT
END:VCALENDAR