BEGIN:VCALENDAR
VERSION:2.0
PRODID:-//Bünzwangen - ECPv6.15.20//NONSGML v1.0//EN
CALSCALE:GREGORIAN
METHOD:PUBLISH
X-WR-CALNAME:Bünzwangen
X-ORIGINAL-URL:https://dg-buenzwangen.de
X-WR-CALDESC:Veranstaltungen für Bünzwangen
REFRESH-INTERVAL;VALUE=DURATION:PT1H
X-Robots-Tag:noindex
X-PUBLISHED-TTL:PT1H
BEGIN:VTIMEZONE
TZID:Europe/Berlin
BEGIN:DAYLIGHT
TZOFFSETFROM:+0100
TZOFFSETTO:+0200
TZNAME:CEST
DTSTART:20210328T010000
END:DAYLIGHT
BEGIN:STANDARD
TZOFFSETFROM:+0200
TZOFFSETTO:+0100
TZNAME:CET
DTSTART:20211031T010000
END:STANDARD
BEGIN:DAYLIGHT
TZOFFSETFROM:+0100
TZOFFSETTO:+0200
TZNAME:CEST
DTSTART:20220327T010000
END:DAYLIGHT
BEGIN:STANDARD
TZOFFSETFROM:+0200
TZOFFSETTO:+0100
TZNAME:CET
DTSTART:20221030T010000
END:STANDARD
BEGIN:DAYLIGHT
TZOFFSETFROM:+0100
TZOFFSETTO:+0200
TZNAME:CEST
DTSTART:20230326T010000
END:DAYLIGHT
BEGIN:STANDARD
TZOFFSETFROM:+0200
TZOFFSETTO:+0100
TZNAME:CET
DTSTART:20231029T010000
END:STANDARD
BEGIN:DAYLIGHT
TZOFFSETFROM:+0100
TZOFFSETTO:+0200
TZNAME:CEST
DTSTART:20240331T010000
END:DAYLIGHT
BEGIN:STANDARD
TZOFFSETFROM:+0200
TZOFFSETTO:+0100
TZNAME:CET
DTSTART:20241027T010000
END:STANDARD
BEGIN:DAYLIGHT
TZOFFSETFROM:+0100
TZOFFSETTO:+0200
TZNAME:CEST
DTSTART:20250330T010000
END:DAYLIGHT
BEGIN:STANDARD
TZOFFSETFROM:+0200
TZOFFSETTO:+0100
TZNAME:CET
DTSTART:20251026T010000
END:STANDARD
BEGIN:DAYLIGHT
TZOFFSETFROM:+0100
TZOFFSETTO:+0200
TZNAME:CEST
DTSTART:20260329T010000
END:DAYLIGHT
BEGIN:STANDARD
TZOFFSETFROM:+0200
TZOFFSETTO:+0100
TZNAME:CET
DTSTART:20261025T010000
END:STANDARD
END:VTIMEZONE
BEGIN:VEVENT
DTSTART;TZID=Europe/Berlin:20251206T153000
DTEND;TZID=Europe/Berlin:20251206T230000
DTSTAMP:20260424T144214
CREATED:20241209T072744Z
LAST-MODIFIED:20251022T132311Z
UID:10000612-1765035000-1765062000@dg-buenzwangen.de
SUMMARY:Weihnachten am Dorfplatz (Baumloben)
DESCRIPTION:
URL:https://dg-buenzwangen.de/event/weihnachten-am-dorfplatz-2/
LOCATION:Dorfplatz\, Ortsstr. 49\, Bünzwangen\, BW\, 73061\, Deutschland
CATEGORIES:Fest
ATTACH;FMTTYPE=image/png:https://dg-buenzwangen.de/wp-content/uploads/2024/12/Baumloben_2025.png
ORGANIZER;CN="Dorfgemeinschaft B%C3%BCnzwangen e.V.":MAILTO:info@dg-buenzwangen.de
END:VEVENT
BEGIN:VEVENT
DTSTART;TZID=Europe/Berlin:20250425T160000
DTEND;TZID=Europe/Berlin:20250425T190000
DTSTAMP:20260424T144214
CREATED:20250116T131208Z
LAST-MODIFIED:20250116T131208Z
UID:10000660-1745596800-1745607600@dg-buenzwangen.de
SUMMARY:Maibaumaufstellung 2025
DESCRIPTION:
URL:https://dg-buenzwangen.de/event/maibaumaufstellung-2025/
LOCATION:Dorfplatz\, Ortsstr. 49\, Bünzwangen\, BW\, 73061\, Deutschland
CATEGORIES:Fest
ATTACH;FMTTYPE=image/jpeg:https://dg-buenzwangen.de/wp-content/uploads/2021/12/maypole-ga7f5dd330_640.jpg
END:VEVENT
BEGIN:VEVENT
DTSTART;TZID=Europe/Berlin:20250315T093000
DTEND;TZID=Europe/Berlin:20250315T120000
DTSTAMP:20260424T144214
CREATED:20250123T085548Z
LAST-MODIFIED:20250131T143010Z
UID:10000661-1742031000-1742040000@dg-buenzwangen.de
SUMMARY:Dorfputzete 2025
DESCRIPTION:Gemeinsam für ein sauberes Dorf \nHelft mit – auch wenn ihr den Müll nicht verursacht habt \nAm Sa 15. März von 09:30 bis ca. 12Uhr \nTreffpunkt am Dorfplatz vor unserem historischen Rathaus. \nWenn möglich Eimer\, Handschuhe und Warnweste mitbringen. Müllsäcke werden gestellt\, ebenso ein Vesper für alle Helfer danach.
URL:https://dg-buenzwangen.de/event/dorfputzete-2025/
LOCATION:Dorfplatz\, Ortsstr. 49\, Bünzwangen\, BW\, 73061\, Deutschland
CATEGORIES:Dorfputzete,Treffen
ATTACH;FMTTYPE=image/png:https://dg-buenzwangen.de/wp-content/uploads/2025/01/Veranstaltungsbild-1.png
END:VEVENT
BEGIN:VEVENT
DTSTART;TZID=Europe/Berlin:20241214T153000
DTEND;TZID=Europe/Berlin:20241214T230000
DTSTAMP:20260424T144214
CREATED:20240201T090738Z
LAST-MODIFIED:20241105T102330Z
UID:10000441-1734190200-1734217200@dg-buenzwangen.de
SUMMARY:Weihnachten am Dorfplatz
DESCRIPTION:
URL:https://dg-buenzwangen.de/event/weihnachten-am-dorfplatz/
LOCATION:Dorfplatz\, Ortsstr. 49\, Bünzwangen\, BW\, 73061\, Deutschland
CATEGORIES:Fest
ATTACH;FMTTYPE=image/jpeg:https://dg-buenzwangen.de/wp-content/uploads/2024/02/Baumloben_20241.jpg
ORGANIZER;CN="Dorfgemeinschaft B%C3%BCnzwangen e.V.":MAILTO:info@dg-buenzwangen.de
END:VEVENT
BEGIN:VEVENT
DTSTART;TZID=Europe/Berlin:20240426T160000
DTEND;TZID=Europe/Berlin:20240426T190000
DTSTAMP:20260424T144214
CREATED:20231019T084247Z
LAST-MODIFIED:20231019T084447Z
UID:10000427-1714147200-1714158000@dg-buenzwangen.de
SUMMARY:Maibaumaufstellung 2024
DESCRIPTION:Herzliche Einladung!\nZu unserem traditionellen Maibaumfest am Freitag\, den 26. April 2024 ab 16.00 Uhr möchte ich Sie alle ganz herzlich einladen. Endlich dürfen wir\nwieder ein fest in unserer Ortsmitte feiern.\nUnsere Feuerwehrabteilung Bünzwangen richtet den Baum\, die Kinder der Grundschule Bünzwangen unterhalten Sie mit einem kleinen Programm und für Ihr leibliches Wohl mit Essen und Getränken wird ebenfalls bestens gesorgt. \nIm Namen des Ortschaftsrats\nDagmar Reyer\nOrtsvorsteherin
URL:https://dg-buenzwangen.de/event/maibaumaufstellung-2024/
LOCATION:Dorfplatz\, Ortsstr. 49\, Bünzwangen\, BW\, 73061\, Deutschland
CATEGORIES:Fest
ATTACH;FMTTYPE=image/jpeg:https://dg-buenzwangen.de/wp-content/uploads/2021/12/maypole-ga7f5dd330_640.jpg
END:VEVENT
BEGIN:VEVENT
DTSTART;TZID=Europe/Berlin:20240323T093000
DTEND;TZID=Europe/Berlin:20240323T120000
DTSTAMP:20260424T144214
CREATED:20240201T091602Z
LAST-MODIFIED:20240311T112858Z
UID:10000442-1711186200-1711195200@dg-buenzwangen.de
SUMMARY:Dorfputzete 2024
DESCRIPTION:
URL:https://dg-buenzwangen.de/event/dorfputzete-2024/
LOCATION:Dorfplatz\, Ortsstr. 49\, Bünzwangen\, BW\, 73061\, Deutschland
CATEGORIES:Ausflug
ATTACH;FMTTYPE=image/png:https://dg-buenzwangen.de/wp-content/uploads/2024/02/240323_Dorfputzede_2024.png
ORGANIZER;CN="Dorfgemeinschaft B%C3%BCnzwangen e.V.":MAILTO:info@dg-buenzwangen.de
END:VEVENT
BEGIN:VEVENT
DTSTART;TZID=Europe/Berlin:20231209T153000
DTEND;TZID=Europe/Berlin:20231209T200000
DTSTAMP:20260424T144214
CREATED:20230818T073130Z
LAST-MODIFIED:20231125T133839Z
UID:10000282-1702135800-1702152000@dg-buenzwangen.de
SUMMARY:Weihnachten am Dorfplatz
DESCRIPTION:Am Sa. 09. Dez. um 15:30 Uhr Baumschmücken & Bastelaktion\nfür Kinder\, zudem ab 16:00 Uhr – Baumloben mit Speis und Trank\nAm Dorfplatz vor unserem historischen Rathaus\, mit u.a. Punsch\, Glühwein\, Schnaps\, Waffeln\, Schupfnudeln und Weihnachtsschokoverkauf
URL:https://dg-buenzwangen.de/event/gemeinsames-schmuecken-und-baumloben/
LOCATION:Dorfplatz\, Ortsstr. 49\, Bünzwangen\, BW\, 73061\, Deutschland
CATEGORIES:Fest,KinderUndJugendliche,KKC
ATTACH;FMTTYPE=image/png:https://dg-buenzwangen.de/wp-content/uploads/2023/08/Baumloben_2023-1.png
ORGANIZER;CN="Dorfgemeinschaft B%C3%BCnzwangen e.V.":MAILTO:info@dg-buenzwangen.de
END:VEVENT
BEGIN:VEVENT
DTSTART;TZID=Europe/Berlin:20231028T093000
DTEND;TZID=Europe/Berlin:20231028T120000
DTSTAMP:20260424T144214
CREATED:20221028T125449Z
LAST-MODIFIED:20231019T121721Z
UID:10000171-1698485400-1698494400@dg-buenzwangen.de
SUMMARY:Dorfputzete - Oktober 2023
DESCRIPTION:Dorfputzete am Sa. 28. Oktober 2023 \nDie Bürgerinitiative CleanUp Ebersbach und die Dorfgemeinschaft Bünzwangen laden ein zur Dorputzete 2023 um den Abfall auf der Gemarkung Bünzwangen einzusammeln. Dazu treffen wir uns am Samstag den 28. Oktober 2023\, um 9.30 Uhr\, auf dem Dorfplatz vor unserem historischen Rathaus in Bünzwangen. Die Sammlung geht bis ca. 12.00 Uhr. \nHelft mit – auch wenn ihr den Müll nicht verursacht habt.\nEs ist doch lebenswerter in einer sauberen Umgebung. Um eine schnelle und erfolgreiche Sammlung durchzuführen bitten wir\, kommt recht zahlreich. Bringt wenn möglich einen Eimer\, Handschuhe und eine Warnweste mit. Müllsäcke werden gestellt.\nDie Putzete findet auch bei Regen statt\, kommt deshalb mit festem Schuhwerk und wetterfester Kleidung.\nAls kleines Dankeschön steht am Ende ein Vesper bereit.
URL:https://dg-buenzwangen.de/event/dorfputzete-oktober-2022/
LOCATION:Dorfplatz\, Ortsstr. 49\, Bünzwangen\, BW\, 73061\, Deutschland
ATTACH;FMTTYPE=image/png:https://dg-buenzwangen.de/wp-content/uploads/2022/10/231028_Dorfputzede.png
ORGANIZER;CN="Dorfgemeinschaft B%C3%BCnzwangen e.V.":MAILTO:info@dg-buenzwangen.de
END:VEVENT
BEGIN:VEVENT
DTSTART;TZID=Europe/Berlin:20230922T143000
DTEND;TZID=Europe/Berlin:20230922T160000
DTSTAMP:20260424T144214
CREATED:20230817T093428Z
LAST-MODIFIED:20230817T095424Z
UID:10000278-1695393000-1695398400@dg-buenzwangen.de
SUMMARY:Kinder-Kreativ-Club 09.23. - Besuch bei Inas Eis
DESCRIPTION:Der Bünzwanger Kinder-Kreativ-Club \nFür alle Kinder im Grundschulalter um zu basteln\, werken\, backen\, spielen\, Bünzwangen und die Umgebung zu erkunden usw. Wir haben viele Ideen und freuen uns auf dich! \nWir treffen uns vorerst ca. 1x im Monat\, ab 14:30 Uhr! Im Stadtblatt und der Homepage erfährst du\, was wir beim nächsten Treffen genau vorhaben! Sollten wir zusätzliche Helfer gewinnen\, würden wir auf den Kreativ-Kinder-Club alle 2 Wochen stattfinden lassen. \nMachst du mit? \nMama oder Papa sollen dich bitte vorher schnell anmelden\, damit wir wissen\, dass du kommst! (z.B. per E-Mail oder über das Kontaktformular) \nBis bald \nAnnette\, Tina und Samuel \n(Achtung: Mitgliedschaft im Verein erforderlich – Zum Beitrittsformular)
URL:https://dg-buenzwangen.de/event/kinder-kreativ-club-09-23/
LOCATION:Dorfplatz\, Ortsstr. 49\, Bünzwangen\, BW\, 73061\, Deutschland
CATEGORIES:KinderUndJugendliche,KKC
ATTACH;FMTTYPE=image/png:https://dg-buenzwangen.de/wp-content/uploads/2022/01/23_KinderKreativClub_Schriftzug.png
ORGANIZER;CN="Dorfgemeinschaft B%C3%BCnzwangen e.V.":MAILTO:info@dg-buenzwangen.de
END:VEVENT
BEGIN:VEVENT
DTSTART;TZID=Europe/Berlin:20230325T083000
DTEND;TZID=Europe/Berlin:20230325T120000
DTSTAMP:20260424T144214
CREATED:20221028T125312Z
LAST-MODIFIED:20221107T185414Z
UID:10000170-1679733000-1679745600@dg-buenzwangen.de
SUMMARY:Dorfputzete - März 2022
DESCRIPTION:Dorfputzete am Sa. 25. März 2022 \nDie Bürgerinitiative CleanUp Ebersbach und die Dorfgemeinschaft Bünzwangen laden ein zur Dorputzete 2023 um den Abfall auf der Gemarkung Bünzwangen einzusammeln. Dazu treffen wir uns am Samstag den 25. März 2022\, um 8.30 Uhr\, auf dem Dorfplatz vor unserem historischen Rathaus in Bünzwangen. Die Sammlung geht bis ca. 12.00 Uhr. \nHelft mit – auch wenn ihr den Müll nicht verursacht habt.\nEs ist doch lebenswerter in einer sauberen Umgebung. Um eine schnelle und erfolgreiche Sammlung durchzuführen bitten wir\, kommt recht zahlreich. Bringt wenn möglich einen Eimer\, Handschuhe und eine Warnweste mit. Müllsäcke werden gestellt.\nDie Putzete findet auch bei Regen statt\, kommt deshalb mit festem Schuhwerk und wetterfester Kleidung.\nAls kleines Dankeschön steht am Ende ein Vesper bereit.
URL:https://dg-buenzwangen.de/event/dorfputzete-maerz-2022/
LOCATION:Dorfplatz\, Ortsstr. 49\, Bünzwangen\, BW\, 73061\, Deutschland
ATTACH;FMTTYPE=image/png:https://dg-buenzwangen.de/wp-content/uploads/2022/11/230325_Dorfputzede.png
ORGANIZER;CN="Dorfgemeinschaft B%C3%BCnzwangen e.V.":MAILTO:info@dg-buenzwangen.de
END:VEVENT
BEGIN:VEVENT
DTSTART;TZID=Europe/Berlin:20230106T133000
DTEND;TZID=Europe/Berlin:20230106T153000
DTSTAMP:20260424T144214
CREATED:20230102T092052Z
LAST-MODIFIED:20230102T092052Z
UID:10000200-1673011800-1673019000@dg-buenzwangen.de
SUMMARY:Aktion Dreikönigssingen 2023
DESCRIPTION:Hallo\, hier ist das Organisationsteam der Sternsinger in Bünzwangen\, \nLiebe Bürgerinnen und Bürger von Bünzwangen\, aufgrund der geringen Teilnahme von Sternsingerkindern werden wir am 6. Januar 2023 nicht von Haus zu Haus ziehen können\, sondern auf das letztjährige „Segen to go“ Konzept zurückgreifen.\nTrotzdem werden wir gemeinsam mit den Sternsingerkindern einen ökumenischen Gottesdienst feiern. \nDieser findet am 06. Januar 2023 um 10.30 Uhr in der katholischen Kirche Bünzwangen statt.\nHierzu sind Sie herzlich eingeladen. \nNach dem Gottesdienst wird es zwischen 13.30 und 15.30 Uhr an zwei verschiedenen Standorten in Bünzwangen Stationen geben.\nDie Stationen werden dieses Jahr von unseren Sternsingerkindern unterstützt. Dort können Sie sich einen gesegneten Segensaufkleber oder ein gesegnetes Stück Kreide für den Türsegen abholen.\nAn den Stationen stehen Spendenboxen für Ihre Spenden zur Verfügung.\nDie zwei Stationen sind: \n•    Dorfplatz\n•    Die Katholische Kirche \nWir freuen uns über viele Besucher im Gottesdienst und an den Stationen und wünschen Ihnen und Ihrer Familie Gesundheit\, frohe Weihnachten und einen guten Rutsch ins neue Jahr. \nDas Organisationsteam der Sternsinger Bünzwangen:\nStephanie Schlotz\, Nadine Winkle\, Gerhard Strauch und Julian Röska\nsternsingerbuenzwangen@​gmail.com
URL:https://dg-buenzwangen.de/event/aktion-dreikoenigssingen-2023/
LOCATION:Dorfplatz\, Ortsstr. 49\, Bünzwangen\, BW\, 73061\, Deutschland
ATTACH;FMTTYPE=image/jpeg:https://dg-buenzwangen.de/wp-content/uploads/2022/12/MG_9670.jpg
ORGANIZER;CN="Evangelische Kirchengemeinde B%C3%BCnzwangen-Sulpach":MAILTO:pfarramt.buenzwangen-sulpach@elkw.de
END:VEVENT
BEGIN:VEVENT
DTSTART;TZID=Europe/Berlin:20221203T153000
DTEND;TZID=Europe/Berlin:20221203T200000
DTSTAMP:20260424T144214
CREATED:20221104T185018Z
LAST-MODIFIED:20221122T080253Z
UID:10000172-1670081400-1670097600@dg-buenzwangen.de
SUMMARY:Gemeinsames Schmücken und Baumloben
DESCRIPTION:Gemeinsam schmücken wir den Weihnachtsbaum am Dorfplatz mit anschließendem Baumloben\nDer im Kinder-Kreativ-Club am 25.11. gebastelte Baumschmuck soll aufgehängt werden. Im Anschluss findet das Baumloben für Groß und Klein\, Jung und Alt statt.  \nTreffpunkt am Dorfplatz vor unserem historischen Rathaus\, mit Glühwein\, Punsch\, Schnaps\, Lebkuchen und LKWs.
URL:https://dg-buenzwangen.de/event/schmuecken-des-weihnachtsbaums/
LOCATION:Dorfplatz\, Ortsstr. 49\, Bünzwangen\, BW\, 73061\, Deutschland
CATEGORIES:Fest
ATTACH;FMTTYPE=image/png:https://dg-buenzwangen.de/wp-content/uploads/2022/11/221125_Weihnachtsbaum.png
ORGANIZER;CN="Dorfgemeinschaft B%C3%BCnzwangen e.V.":MAILTO:info@dg-buenzwangen.de
END:VEVENT
BEGIN:VEVENT
DTSTART;TZID=Europe/Berlin:20221020T143000
DTEND;TZID=Europe/Berlin:20221020T153000
DTSTAMP:20260424T144214
CREATED:20221013T183422Z
LAST-MODIFIED:20221013T185027Z
UID:10000162-1666276200-1666279800@dg-buenzwangen.de
SUMMARY:Schlaumeiernachmittag - "Wir spielen Boule"
DESCRIPTION:Der Förderverein der Grundschule Bünzwangen e.V. und die Dorfgemeinschaft Bünzwangen e.V. \nSchlaumeiernachmittag – „Wir spielen Boule“\nFür alle Kinder der 3. und 4. Klasse und unter Anleitung von Hans Schreiner der uns in die Geheimnisse des Boulespiels einweiht.\nDas Ganze findet von 14:30 bis 15:30 Uhr am Dorfplatz in Bünzwangen statt. \nAnmeldung nicht nötig. Nur bei gutem Wetter!\nRückfragen an E. Frey frey.salach@gmx.de
URL:https://dg-buenzwangen.de/event/schlaumeiernachmittag-wir-spielen-boule/
LOCATION:Dorfplatz\, Ortsstr. 49\, Bünzwangen\, BW\, 73061\, Deutschland
CATEGORIES:KinderUndJugendliche
ATTACH;FMTTYPE=image/jpeg:https://dg-buenzwangen.de/wp-content/uploads/2022/10/petanque-6090720-scaled.jpg
ORGANIZER;CN="F%C3%B6rderverein Grundschule B%C3%BCnzwangen e.V.":MAILTO:info@grundschule-buenzwangen.de
END:VEVENT
BEGIN:VEVENT
DTSTART;VALUE=DATE:20220729
DTEND;VALUE=DATE:20220730
DTSTAMP:20260424T144214
CREATED:20220307T210824Z
LAST-MODIFIED:20220701T121930Z
UID:10000100-1659052800-1659139199@dg-buenzwangen.de
SUMMARY:Dorfhock
DESCRIPTION:
URL:https://dg-buenzwangen.de/event/dorfhock/
LOCATION:Dorfplatz\, Ortsstr. 49\, Bünzwangen\, BW\, 73061\, Deutschland
CATEGORIES:OR-Sitzung
ATTACH;FMTTYPE=image/jpeg:https://dg-buenzwangen.de/wp-content/uploads/2022/03/Dorfhock-303-×-426-mm.jpg
END:VEVENT
BEGIN:VEVENT
DTSTART;TZID=Europe/Berlin:20220704T153000
DTEND;TZID=Europe/Berlin:20220704T173000
DTSTAMP:20260424T144214
CREATED:20220315T084621Z
LAST-MODIFIED:20220508T173058Z
UID:10000112-1656948600-1656955800@dg-buenzwangen.de
SUMMARY:Kinder-Kreativ-Club "Dorfralley"
DESCRIPTION:Der Bünzwanger Kinder-Kreativ-Club startet! \nFür alle Kinder im Grundschulalter um zu basteln\, werken\, backen\, spielen\, Bünzwangen und die Umgebung zu erkunden usw. Wir haben viele Ideen und freuen uns auf dich! \nWir treffen uns vorerst ca. 1x im Monat\, an einem Montag um 15.30 Uhr am Dorfplatz in Bünzwangen! Im Stadtblatt und der Homepage erfährst du\, was wir beim nächsten Treffen genau vorhaben! Sollten wir zusätzliche Helfer gewinnen\, würden wir auf den Kreativ-Kinder-Club alle 2 Wochen stattfinden lassen. \nAm 04.07. ist das Thema Dorfralley \n  \nMachst du mit? \nMama oder Papa sollen dich bitte vorher schnell anmelden\, damit wir wissen\, dass du kommst! (z.B. per E-Mail oder über das Kontaktformular) \nBis bald \nSamuel und Tina \n(Achtung: Mitgliedschaft im Verein erforderlich – Zum Beitrittsformular)
URL:https://dg-buenzwangen.de/event/kinder-kreativ-club-dorfralley/
LOCATION:Dorfplatz\, Ortsstr. 49\, Bünzwangen\, BW\, 73061\, Deutschland
CATEGORIES:KinderUndJugendliche,Treffen
ATTACH;FMTTYPE=image/jpeg:https://dg-buenzwangen.de/wp-content/uploads/2022/01/kids-5987366_640.jpg
ORGANIZER;CN="Dorfgemeinschaft B%C3%BCnzwangen e.V.":MAILTO:info@dg-buenzwangen.de
END:VEVENT
BEGIN:VEVENT
DTSTART;TZID=Europe/Berlin:20220530T153000
DTEND;TZID=Europe/Berlin:20220530T170000
DTSTAMP:20260424T144214
CREATED:20220315T084937Z
LAST-MODIFIED:20220508T173135Z
UID:10000113-1653924600-1653930000@dg-buenzwangen.de
SUMMARY:Kinder-Kreativ-Club "Pizza backen im Bünzwanger Backhaus"
DESCRIPTION:Der Bünzwanger Kinder-Kreativ-Club startet! \nFür alle Kinder im Grundschulalter um zu basteln\, werken\, backen\, spielen\, Bünzwangen und die Umgebung zu erkunden usw. Wir haben viele Ideen und freuen uns auf dich! \nWir treffen uns vorerst ca. 1x im Monat\, an einem Montag um 15.30 Uhr am Dorfplatz in Bünzwangen! Im Stadtblatt und der Homepage erfährst du\, was wir beim nächsten Treffen genau vorhaben! Sollten wir zusätzliche Helfer gewinnen\, würden wir auf den Kreativ-Kinder-Club alle 2 Wochen stattfinden lassen. \nAm 30.05. ist das Thema Pizza backen im Bünzwanger Backhaus\nAm 04.07. ist das Thema Dorfralley \nMachst du mit? \nMama oder Papa sollen dich bitte vorher schnell anmelden\, damit wir wissen\, dass du kommst! (z.B. per E-Mail oder über das Kontaktformular) \nBis bald \nSamuel und Tina \n(Achtung: Mitgliedschaft im Verein erforderlich – Zum Beitrittsformular)
URL:https://dg-buenzwangen.de/event/kinder-kreativ-club-pizza-backen-im-buenzwanger-backhaus/
LOCATION:Dorfplatz\, Ortsstr. 49\, Bünzwangen\, BW\, 73061\, Deutschland
CATEGORIES:KinderUndJugendliche,Treffen
ATTACH;FMTTYPE=image/jpeg:https://dg-buenzwangen.de/wp-content/uploads/2022/01/drawing-g7fe618635_640.jpg
ORGANIZER;CN="Dorfgemeinschaft B%C3%BCnzwangen e.V.":MAILTO:info@dg-buenzwangen.de
END:VEVENT
BEGIN:VEVENT
DTSTART;TZID=Europe/Berlin:20220502T153000
DTEND;TZID=Europe/Berlin:20220502T170000
DTSTAMP:20260424T144214
CREATED:20220315T084310Z
LAST-MODIFIED:20220508T173151Z
UID:10000111-1651505400-1651510800@dg-buenzwangen.de
SUMMARY:Kinder-Kreativ-Club "Wir lernen uns kennen"
DESCRIPTION:Der Bünzwanger Kinder-Kreativ-Club startet! \nFür alle Kinder im Grundschulalter um zu basteln\, werken\, backen\, spielen\, Bünzwangen und die Umgebung zu erkunden usw. Wir haben viele Ideen und freuen uns auf dich! \nWir treffen uns vorerst ca. 1x im Monat\, an einem Montag um 15.30 Uhr am Dorfplatz in Bünzwangen! Im Stadtblatt und der Homepage erfährst du\, was wir beim nächsten Treffen genau vorhaben! Sollten wir zusätzliche Helfer gewinnen\, würden wir auf den Kreativ-Kinder-Club alle 2 Wochen stattfinden lassen. \nAm 02.05. ist das Thema Wir lernen uns kennen – Spielen im Freien \nFolgeveranstaltungen:\nAm 30.05. ist das Thema Pizza backen im Bünzwanger Backhaus\nAm 04.07. ist das Thema Dorfralley \n  \nMachst du mit? \nMama oder Papa sollen dich bitte vorher schnell anmelden\, damit wir wissen\, dass du kommst! (z.B. per E-Mail oder über das Kontaktformular) \nBis bald \nSamuel und Tina \n(Achtung: Mitgliedschaft im Verein erforderlich – Zum Beitrittsformular)
URL:https://dg-buenzwangen.de/event/kinder-kreativ-club-wir-lernen-uns-kennen/
LOCATION:Dorfplatz\, Ortsstr. 49\, Bünzwangen\, BW\, 73061\, Deutschland
CATEGORIES:KinderUndJugendliche,Treffen
ATTACH;FMTTYPE=image/jpeg:https://dg-buenzwangen.de/wp-content/uploads/2022/01/drawing-g7fe618635_640.jpg
ORGANIZER;CN="Dorfgemeinschaft B%C3%BCnzwangen e.V.":MAILTO:info@dg-buenzwangen.de
END:VEVENT
BEGIN:VEVENT
DTSTART;TZID=Europe/Berlin:20220429T160000
DTEND;TZID=Europe/Berlin:20220429T190000
DTSTAMP:20260424T144214
CREATED:20211209T195830Z
LAST-MODIFIED:20220407T115200Z
UID:10000086-1651248000-1651258800@dg-buenzwangen.de
SUMMARY:Maibaumaufstellung
DESCRIPTION:Herzliche Einladung!\nZu unserem traditionellen Maibaumfest\nam Freitag\, den 29. April 2022 ab 16.00 Uhr\nmöchte ich Sie alle ganz herzlich einladen. Endlich dürfen wir\nwieder ein fest in unserer Ortsmitte feiern.\nUnsere Feuerwehrabteilung Bünzwangen richtet den Baum\,\ndie Kinder der Grundschule Bünzwangen unterhalten Sie\nmit einem kleinen Programm und für Ihr leibliches Wohl mit Essen und Getränken wird ebenfalls bestens gesorgt. \nIm Namen des Ortschaftsrats\nDagmar Reyer\nOrtsvorsteherin
URL:https://dg-buenzwangen.de/event/maibaumaufstellung/
LOCATION:Dorfplatz\, Ortsstr. 49\, Bünzwangen\, BW\, 73061\, Deutschland
CATEGORIES:Fest
ATTACH;FMTTYPE=image/jpeg:https://dg-buenzwangen.de/wp-content/uploads/2021/12/maypole-ga7f5dd330_640.jpg
END:VEVENT
BEGIN:VEVENT
DTSTART;TZID=Europe/Berlin:20220409T140000
DTEND;TZID=Europe/Berlin:20220409T160000
DTSTAMP:20260424T144214
CREATED:20220329T085746Z
LAST-MODIFIED:20220401T062246Z
UID:10000116-1649512800-1649520000@dg-buenzwangen.de
SUMMARY:Osterbrunnen schmücken für Kinder
DESCRIPTION:Osterbrunnen \nUrsprünglich aus der Fränkischen Schweiz stammend\, hat sich der Brauch\, in der Zeit vor Ostern öffentliche Dorfbrunnen mit bemalten Ostereiern und anderen Verzierungen als Osterbrunnen zu schmücken\, seit den 1980er Jahren auch in weiten Teilen Süd-\, Mittel- und Ostdeutschlands verbreitet. \nWir wollen unseren Dorfbrunnen am Dorfplatz zukünftig in Kooperation mit dem oder den Elternbeiräten\, Eltern und Kinder der Kitas in Bünzwangen schmücken. \nAlle Kinder sind eingeladen Eier zu bemalen\, zu basteln und mitzuhelfen. \nBei schlechtem Wetter basteln wir im alten Rathaus.
URL:https://dg-buenzwangen.de/event/osterbrunnen-schmuecken-fuer-kinder/
LOCATION:Dorfplatz\, Ortsstr. 49\, Bünzwangen\, BW\, 73061\, Deutschland
CATEGORIES:KinderUndJugendliche
ATTACH;FMTTYPE=image/jpeg:https://dg-buenzwangen.de/wp-content/uploads/2022/03/easter-well-3304650_1280.jpg
ORGANIZER;CN="Dorfgemeinschaft B%C3%BCnzwangen e.V.":MAILTO:info@dg-buenzwangen.de
END:VEVENT
END:VCALENDAR