BEGIN:VCALENDAR
VERSION:2.0
PRODID:-//Bünzwangen - ECPv6.15.20//NONSGML v1.0//EN
CALSCALE:GREGORIAN
METHOD:PUBLISH
X-WR-CALNAME:Bünzwangen
X-ORIGINAL-URL:https://dg-buenzwangen.de
X-WR-CALDESC:Veranstaltungen für Bünzwangen
REFRESH-INTERVAL;VALUE=DURATION:PT1H
X-Robots-Tag:noindex
X-PUBLISHED-TTL:PT1H
BEGIN:VTIMEZONE
TZID:Europe/Berlin
BEGIN:DAYLIGHT
TZOFFSETFROM:+0100
TZOFFSETTO:+0200
TZNAME:CEST
DTSTART:20240331T010000
END:DAYLIGHT
BEGIN:STANDARD
TZOFFSETFROM:+0200
TZOFFSETTO:+0100
TZNAME:CET
DTSTART:20241027T010000
END:STANDARD
BEGIN:DAYLIGHT
TZOFFSETFROM:+0100
TZOFFSETTO:+0200
TZNAME:CEST
DTSTART:20250330T010000
END:DAYLIGHT
BEGIN:STANDARD
TZOFFSETFROM:+0200
TZOFFSETTO:+0100
TZNAME:CET
DTSTART:20251026T010000
END:STANDARD
BEGIN:DAYLIGHT
TZOFFSETFROM:+0100
TZOFFSETTO:+0200
TZNAME:CEST
DTSTART:20260329T010000
END:DAYLIGHT
BEGIN:STANDARD
TZOFFSETFROM:+0200
TZOFFSETTO:+0100
TZNAME:CET
DTSTART:20261025T010000
END:STANDARD
BEGIN:DAYLIGHT
TZOFFSETFROM:+0100
TZOFFSETTO:+0200
TZNAME:CEST
DTSTART:20270328T010000
END:DAYLIGHT
BEGIN:STANDARD
TZOFFSETFROM:+0200
TZOFFSETTO:+0100
TZNAME:CET
DTSTART:20271031T010000
END:STANDARD
END:VTIMEZONE
BEGIN:VEVENT
DTSTART;TZID=Europe/Berlin:20260410T120000
DTEND;TZID=Europe/Berlin:20260410T130000
DTSTAMP:20260424T075022
CREATED:20241105T094337Z
LAST-MODIFIED:20251127T090202Z
UID:10001986-1775822400-1775826000@dg-buenzwangen.de
SUMMARY:Mittagstisch
DESCRIPTION:Mittagstisch \nDie Dorfgemeinschaft Bünzwangen e.V. lädt ein! \nKeine Zeit oder keine Lust zu kochen? Ihr wollt euch in Bünzwangen mit Freunden zum Mittagessen treffen? Egal was euch dazu bewegt\, kommt vorbei! \nEssensausgabe 12-13 Uhr im Ev. Gemeindehaus Bünzwangen \nReservierung notwendig!
URL:https://dg-buenzwangen.de/event/mittagstisch-3/2026-04-10/
LOCATION:Ev. Gemeindehaus Bünzwangen\, Ortsstr. 28/1\, Ebersbach\, BW\, 73061\, Deutschland
ATTACH;FMTTYPE=image/png:https://dg-buenzwangen.de/wp-content/uploads/2022/04/Mittagstisch_v2_Box.png
ORGANIZER;CN="Dorfgemeinschaft B%C3%BCnzwangen e.V.":MAILTO:info@dg-buenzwangen.de
END:VEVENT
BEGIN:VEVENT
DTSTART;TZID=Europe/Berlin:20260313T120000
DTEND;TZID=Europe/Berlin:20260313T130000
DTSTAMP:20260424T075022
CREATED:20241105T094337Z
LAST-MODIFIED:20251127T090202Z
UID:10001985-1773403200-1773406800@dg-buenzwangen.de
SUMMARY:Mittagstisch
DESCRIPTION:Mittagstisch \nDie Dorfgemeinschaft Bünzwangen e.V. lädt ein! \nKeine Zeit oder keine Lust zu kochen? Ihr wollt euch in Bünzwangen mit Freunden zum Mittagessen treffen? Egal was euch dazu bewegt\, kommt vorbei! \nEssensausgabe 12-13 Uhr im Ev. Gemeindehaus Bünzwangen \nReservierung notwendig!
URL:https://dg-buenzwangen.de/event/mittagstisch-3/2026-03-13/
LOCATION:Ev. Gemeindehaus Bünzwangen\, Ortsstr. 28/1\, Ebersbach\, BW\, 73061\, Deutschland
ATTACH;FMTTYPE=image/png:https://dg-buenzwangen.de/wp-content/uploads/2022/04/Mittagstisch_v2_Box.png
ORGANIZER;CN="Dorfgemeinschaft B%C3%BCnzwangen e.V.":MAILTO:info@dg-buenzwangen.de
END:VEVENT
BEGIN:VEVENT
DTSTART;TZID=Europe/Berlin:20260213T120000
DTEND;TZID=Europe/Berlin:20260213T130000
DTSTAMP:20260424T075022
CREATED:20241105T094337Z
LAST-MODIFIED:20251127T090202Z
UID:10001984-1770984000-1770987600@dg-buenzwangen.de
SUMMARY:Mittagstisch
DESCRIPTION:Mittagstisch \nDie Dorfgemeinschaft Bünzwangen e.V. lädt ein! \nKeine Zeit oder keine Lust zu kochen? Ihr wollt euch in Bünzwangen mit Freunden zum Mittagessen treffen? Egal was euch dazu bewegt\, kommt vorbei! \nEssensausgabe 12-13 Uhr im Ev. Gemeindehaus Bünzwangen \nReservierung notwendig!
URL:https://dg-buenzwangen.de/event/mittagstisch-3/2026-02-13/
LOCATION:Ev. Gemeindehaus Bünzwangen\, Ortsstr. 28/1\, Ebersbach\, BW\, 73061\, Deutschland
ATTACH;FMTTYPE=image/png:https://dg-buenzwangen.de/wp-content/uploads/2022/04/Mittagstisch_v2_Box.png
ORGANIZER;CN="Dorfgemeinschaft B%C3%BCnzwangen e.V.":MAILTO:info@dg-buenzwangen.de
END:VEVENT
BEGIN:VEVENT
DTSTART;TZID=Europe/Berlin:20260109T120000
DTEND;TZID=Europe/Berlin:20260109T130000
DTSTAMP:20260424T075022
CREATED:20241105T094337Z
LAST-MODIFIED:20251127T090202Z
UID:10001983-1767960000-1767963600@dg-buenzwangen.de
SUMMARY:Mittagstisch
DESCRIPTION:Mittagstisch \nDie Dorfgemeinschaft Bünzwangen e.V. lädt ein! \nKeine Zeit oder keine Lust zu kochen? Ihr wollt euch in Bünzwangen mit Freunden zum Mittagessen treffen? Egal was euch dazu bewegt\, kommt vorbei! \nEssensausgabe 12-13 Uhr im Ev. Gemeindehaus Bünzwangen \nReservierung notwendig!
URL:https://dg-buenzwangen.de/event/mittagstisch-3/2026-01-09/
LOCATION:Ev. Gemeindehaus Bünzwangen\, Ortsstr. 28/1\, Ebersbach\, BW\, 73061\, Deutschland
ATTACH;FMTTYPE=image/png:https://dg-buenzwangen.de/wp-content/uploads/2022/04/Mittagstisch_v2_Box.png
ORGANIZER;CN="Dorfgemeinschaft B%C3%BCnzwangen e.V.":MAILTO:info@dg-buenzwangen.de
END:VEVENT
BEGIN:VEVENT
DTSTART;TZID=Europe/Berlin:20251212T120000
DTEND;TZID=Europe/Berlin:20251212T130000
DTSTAMP:20260424T075022
CREATED:20241105T094337Z
LAST-MODIFIED:20251127T090202Z
UID:10000581-1765540800-1765544400@dg-buenzwangen.de
SUMMARY:Mittagstisch
DESCRIPTION:Mittagstisch \nDie Dorfgemeinschaft Bünzwangen e.V. lädt ein! \nKeine Zeit oder keine Lust zu kochen? Ihr wollt euch in Bünzwangen mit Freunden zum Mittagessen treffen? Egal was euch dazu bewegt\, kommt vorbei! \nEssensausgabe 12-13 Uhr im Ev. Gemeindehaus Bünzwangen \nReservierung notwendig!
URL:https://dg-buenzwangen.de/event/mittagstisch-3/2025-12-12/
LOCATION:Ev. Gemeindehaus Bünzwangen\, Ortsstr. 28/1\, Ebersbach\, BW\, 73061\, Deutschland
ATTACH;FMTTYPE=image/png:https://dg-buenzwangen.de/wp-content/uploads/2022/04/Mittagstisch_v2_Box.png
ORGANIZER;CN="Dorfgemeinschaft B%C3%BCnzwangen e.V.":MAILTO:info@dg-buenzwangen.de
END:VEVENT
BEGIN:VEVENT
DTSTART;TZID=Europe/Berlin:20251130T110000
DTEND;TZID=Europe/Berlin:20251130T180000
DTSTAMP:20260424T075022
CREATED:20241209T072423Z
LAST-MODIFIED:20241209T072423Z
UID:10000611-1764500400-1764525600@dg-buenzwangen.de
SUMMARY:Bünzwanger Weihnachtsmarkt
DESCRIPTION:Endlich wieder Glühwein\, Crêpes\, Selbstgemachtes\, gebrannte Mandeln\, Rote Wurst und Co.? Am Sonntag\, den 1. Advent\, laden wir Sie herzlich zu unserem Bünzwanger Weihnachtsmarkt ein\, den wir um 11.00 Uhr mit einem Gottesdienst auf dem Gemeindehausparkplatz eröffnen werden. Anschließend beginnt das Markttreiben rund ums Gemeindehaus. Es wirken mit: Hobbybastler\, Vereine\, Kindergarten\, Grundschule\, Feuerwehr\, der Nikolaus usw. Kommen Sie gerne! Wir freuen uns auf Ihren Besuch! \nDas Team der ev. Kirchengemeinde
URL:https://dg-buenzwangen.de/event/buenzwanger-weihnachtsmarkt-4/
LOCATION:Ev. Gemeindehaus Bünzwangen\, Ortsstr. 28/1\, Ebersbach\, BW\, 73061\, Deutschland
ATTACH;FMTTYPE=image/jpeg:https://dg-buenzwangen.de/wp-content/uploads/2022/10/christmas-market-g2df078083_1920.jpg
ORGANIZER;CN="Evangelische Kirchengemeinde B%C3%BCnzwangen-Sulpach":MAILTO:pfarramt.buenzwangen-sulpach@elkw.de
END:VEVENT
BEGIN:VEVENT
DTSTART;TZID=Europe/Berlin:20251114T190000
DTEND;TZID=Europe/Berlin:20251114T220000
DTSTAMP:20260424T075022
CREATED:20250411T073159Z
LAST-MODIFIED:20250411T073159Z
UID:10001304-1763146800-1763157600@dg-buenzwangen.de
SUMMARY:Spieleabend
DESCRIPTION:Für alle\, die Lust auf Gesellschaftsspiele haben \nGetränke sind vorhanden. Bringt gerne Knabbereien und eure Lieblingsspiele mit.
URL:https://dg-buenzwangen.de/event/spieleabend/2025-11-14/
LOCATION:Ev. Gemeindehaus Bünzwangen\, Ortsstr. 28/1\, Ebersbach\, BW\, 73061\, Deutschland
ATTACH;FMTTYPE=image/jpeg:https://dg-buenzwangen.de/wp-content/uploads/2025/04/Veranstaltungsbild.jpg
END:VEVENT
BEGIN:VEVENT
DTSTART;TZID=Europe/Berlin:20251114T120000
DTEND;TZID=Europe/Berlin:20251114T130000
DTSTAMP:20260424T075022
CREATED:20241105T094337Z
LAST-MODIFIED:20251127T090202Z
UID:10000580-1763121600-1763125200@dg-buenzwangen.de
SUMMARY:Mittagstisch
DESCRIPTION:Mittagstisch \nDie Dorfgemeinschaft Bünzwangen e.V. lädt ein! \nKeine Zeit oder keine Lust zu kochen? Ihr wollt euch in Bünzwangen mit Freunden zum Mittagessen treffen? Egal was euch dazu bewegt\, kommt vorbei! \nEssensausgabe 12-13 Uhr im Ev. Gemeindehaus Bünzwangen \nReservierung notwendig!
URL:https://dg-buenzwangen.de/event/mittagstisch-3/2025-11-14/
LOCATION:Ev. Gemeindehaus Bünzwangen\, Ortsstr. 28/1\, Ebersbach\, BW\, 73061\, Deutschland
ATTACH;FMTTYPE=image/png:https://dg-buenzwangen.de/wp-content/uploads/2022/04/Mittagstisch_v2_Box.png
ORGANIZER;CN="Dorfgemeinschaft B%C3%BCnzwangen e.V.":MAILTO:info@dg-buenzwangen.de
END:VEVENT
BEGIN:VEVENT
DTSTART;TZID=Europe/Berlin:20251016T190000
DTEND;TZID=Europe/Berlin:20251016T220000
DTSTAMP:20260424T075022
CREATED:20250411T073159Z
LAST-MODIFIED:20250411T073159Z
UID:10001303-1760641200-1760652000@dg-buenzwangen.de
SUMMARY:Spieleabend
DESCRIPTION:Für alle\, die Lust auf Gesellschaftsspiele haben \nGetränke sind vorhanden. Bringt gerne Knabbereien und eure Lieblingsspiele mit.
URL:https://dg-buenzwangen.de/event/spieleabend/2025-10-16/
LOCATION:Ev. Gemeindehaus Bünzwangen\, Ortsstr. 28/1\, Ebersbach\, BW\, 73061\, Deutschland
ATTACH;FMTTYPE=image/jpeg:https://dg-buenzwangen.de/wp-content/uploads/2025/04/Veranstaltungsbild.jpg
END:VEVENT
BEGIN:VEVENT
DTSTART;TZID=Europe/Berlin:20251010T120000
DTEND;TZID=Europe/Berlin:20251010T130000
DTSTAMP:20260424T075022
CREATED:20241105T094337Z
LAST-MODIFIED:20251127T090202Z
UID:10000579-1760097600-1760101200@dg-buenzwangen.de
SUMMARY:Mittagstisch
DESCRIPTION:Mittagstisch \nDie Dorfgemeinschaft Bünzwangen e.V. lädt ein! \nKeine Zeit oder keine Lust zu kochen? Ihr wollt euch in Bünzwangen mit Freunden zum Mittagessen treffen? Egal was euch dazu bewegt\, kommt vorbei! \nEssensausgabe 12-13 Uhr im Ev. Gemeindehaus Bünzwangen \nReservierung notwendig!
URL:https://dg-buenzwangen.de/event/mittagstisch-3/2025-10-10/
LOCATION:Ev. Gemeindehaus Bünzwangen\, Ortsstr. 28/1\, Ebersbach\, BW\, 73061\, Deutschland
ATTACH;FMTTYPE=image/png:https://dg-buenzwangen.de/wp-content/uploads/2022/04/Mittagstisch_v2_Box.png
ORGANIZER;CN="Dorfgemeinschaft B%C3%BCnzwangen e.V.":MAILTO:info@dg-buenzwangen.de
END:VEVENT
BEGIN:VEVENT
DTSTART;TZID=Europe/Berlin:20250912T120000
DTEND;TZID=Europe/Berlin:20250912T130000
DTSTAMP:20260424T075022
CREATED:20241105T094337Z
LAST-MODIFIED:20251127T090202Z
UID:10000578-1757678400-1757682000@dg-buenzwangen.de
SUMMARY:Mittagstisch
DESCRIPTION:Mittagstisch \nDie Dorfgemeinschaft Bünzwangen e.V. lädt ein! \nKeine Zeit oder keine Lust zu kochen? Ihr wollt euch in Bünzwangen mit Freunden zum Mittagessen treffen? Egal was euch dazu bewegt\, kommt vorbei! \nEssensausgabe 12-13 Uhr im Ev. Gemeindehaus Bünzwangen \nReservierung notwendig!
URL:https://dg-buenzwangen.de/event/mittagstisch-3/2025-09-12/
LOCATION:Ev. Gemeindehaus Bünzwangen\, Ortsstr. 28/1\, Ebersbach\, BW\, 73061\, Deutschland
ATTACH;FMTTYPE=image/png:https://dg-buenzwangen.de/wp-content/uploads/2022/04/Mittagstisch_v2_Box.png
ORGANIZER;CN="Dorfgemeinschaft B%C3%BCnzwangen e.V.":MAILTO:info@dg-buenzwangen.de
END:VEVENT
BEGIN:VEVENT
DTSTART;TZID=Europe/Berlin:20250808T120000
DTEND;TZID=Europe/Berlin:20250808T130000
DTSTAMP:20260424T075022
CREATED:20241105T094337Z
LAST-MODIFIED:20251127T090202Z
UID:10000577-1754654400-1754658000@dg-buenzwangen.de
SUMMARY:Mittagstisch
DESCRIPTION:Mittagstisch \nDie Dorfgemeinschaft Bünzwangen e.V. lädt ein! \nKeine Zeit oder keine Lust zu kochen? Ihr wollt euch in Bünzwangen mit Freunden zum Mittagessen treffen? Egal was euch dazu bewegt\, kommt vorbei! \nEssensausgabe 12-13 Uhr im Ev. Gemeindehaus Bünzwangen \nReservierung notwendig!
URL:https://dg-buenzwangen.de/event/mittagstisch-3/2025-08-08/
LOCATION:Ev. Gemeindehaus Bünzwangen\, Ortsstr. 28/1\, Ebersbach\, BW\, 73061\, Deutschland
ATTACH;FMTTYPE=image/png:https://dg-buenzwangen.de/wp-content/uploads/2022/04/Mittagstisch_v2_Box.png
ORGANIZER;CN="Dorfgemeinschaft B%C3%BCnzwangen e.V.":MAILTO:info@dg-buenzwangen.de
END:VEVENT
BEGIN:VEVENT
DTSTART;TZID=Europe/Berlin:20250726T090000
DTEND;TZID=Europe/Berlin:20250726T113000
DTSTAMP:20260424T075022
CREATED:20241021T110533Z
LAST-MODIFIED:20241021T110533Z
UID:10000525-1753520400-1753529400@dg-buenzwangen.de
SUMMARY:Kinderkirche in Bünzwangen
DESCRIPTION:Jeden 3. Samstag im Monat findet um 9.00 Uhr im Evangelischen Gemeindehaus Bünzwangen Kinderkirche statt. Herzliche Einladung an alle Kinder ab 3 Jahren zum gemeinsamen Singen\, Beten\, Hören biblischer Geschichten\, gemeinsamen Spielen und Basteln! Wir freuen uns auf Dich \nNähere Informationen erhalten Sie im Gemeindebüro \nAnsprechpartnerin:\nGudrun Aschenbrenner\nTel.:(07163) 8111\nMail: gudrun.aschenbrenner@elkw.de
URL:https://dg-buenzwangen.de/event/kinderkirche-in-buenzwangen-2/2025-07-26/
LOCATION:Ev. Gemeindehaus Bünzwangen\, Ortsstr. 28/1\, Ebersbach\, BW\, 73061\, Deutschland
CATEGORIES:Kinderkirche,KinderUndJugendliche
ATTACH;FMTTYPE=image/jpeg:https://dg-buenzwangen.de/wp-content/uploads/2024/03/KinderkircheLogo-e1710156853711.jpg
END:VEVENT
BEGIN:VEVENT
DTSTART;TZID=Europe/Berlin:20250717T190000
DTEND;TZID=Europe/Berlin:20250717T220000
DTSTAMP:20260424T075022
CREATED:20250411T073159Z
LAST-MODIFIED:20250411T073159Z
UID:10001302-1752778800-1752789600@dg-buenzwangen.de
SUMMARY:Spieleabend
DESCRIPTION:Für alle\, die Lust auf Gesellschaftsspiele haben \nGetränke sind vorhanden. Bringt gerne Knabbereien und eure Lieblingsspiele mit.
URL:https://dg-buenzwangen.de/event/spieleabend/2025-07-17/
LOCATION:Ev. Gemeindehaus Bünzwangen\, Ortsstr. 28/1\, Ebersbach\, BW\, 73061\, Deutschland
ATTACH;FMTTYPE=image/jpeg:https://dg-buenzwangen.de/wp-content/uploads/2025/04/Veranstaltungsbild.jpg
END:VEVENT
BEGIN:VEVENT
DTSTART;TZID=Europe/Berlin:20250711T120000
DTEND;TZID=Europe/Berlin:20250711T130000
DTSTAMP:20260424T075022
CREATED:20241105T094337Z
LAST-MODIFIED:20251127T090202Z
UID:10000576-1752235200-1752238800@dg-buenzwangen.de
SUMMARY:Mittagstisch
DESCRIPTION:Mittagstisch \nDie Dorfgemeinschaft Bünzwangen e.V. lädt ein! \nKeine Zeit oder keine Lust zu kochen? Ihr wollt euch in Bünzwangen mit Freunden zum Mittagessen treffen? Egal was euch dazu bewegt\, kommt vorbei! \nEssensausgabe 12-13 Uhr im Ev. Gemeindehaus Bünzwangen \nReservierung notwendig!
URL:https://dg-buenzwangen.de/event/mittagstisch-3/2025-07-11/
LOCATION:Ev. Gemeindehaus Bünzwangen\, Ortsstr. 28/1\, Ebersbach\, BW\, 73061\, Deutschland
ATTACH;FMTTYPE=image/png:https://dg-buenzwangen.de/wp-content/uploads/2022/04/Mittagstisch_v2_Box.png
ORGANIZER;CN="Dorfgemeinschaft B%C3%BCnzwangen e.V.":MAILTO:info@dg-buenzwangen.de
END:VEVENT
BEGIN:VEVENT
DTSTART;TZID=Europe/Berlin:20250628T090000
DTEND;TZID=Europe/Berlin:20250628T113000
DTSTAMP:20260424T075022
CREATED:20241021T110533Z
LAST-MODIFIED:20241021T110533Z
UID:10000524-1751101200-1751110200@dg-buenzwangen.de
SUMMARY:Kinderkirche in Bünzwangen
DESCRIPTION:Jeden 3. Samstag im Monat findet um 9.00 Uhr im Evangelischen Gemeindehaus Bünzwangen Kinderkirche statt. Herzliche Einladung an alle Kinder ab 3 Jahren zum gemeinsamen Singen\, Beten\, Hören biblischer Geschichten\, gemeinsamen Spielen und Basteln! Wir freuen uns auf Dich \nNähere Informationen erhalten Sie im Gemeindebüro \nAnsprechpartnerin:\nGudrun Aschenbrenner\nTel.:(07163) 8111\nMail: gudrun.aschenbrenner@elkw.de
URL:https://dg-buenzwangen.de/event/kinderkirche-in-buenzwangen-2/2025-06-28/
LOCATION:Ev. Gemeindehaus Bünzwangen\, Ortsstr. 28/1\, Ebersbach\, BW\, 73061\, Deutschland
CATEGORIES:Kinderkirche,KinderUndJugendliche
ATTACH;FMTTYPE=image/jpeg:https://dg-buenzwangen.de/wp-content/uploads/2024/03/KinderkircheLogo-e1710156853711.jpg
END:VEVENT
BEGIN:VEVENT
DTSTART;TZID=Europe/Berlin:20250627T190000
DTEND;TZID=Europe/Berlin:20250627T220000
DTSTAMP:20260424T075022
CREATED:20250411T073159Z
LAST-MODIFIED:20250411T073159Z
UID:10001301-1751050800-1751061600@dg-buenzwangen.de
SUMMARY:Spieleabend
DESCRIPTION:Für alle\, die Lust auf Gesellschaftsspiele haben \nGetränke sind vorhanden. Bringt gerne Knabbereien und eure Lieblingsspiele mit.
URL:https://dg-buenzwangen.de/event/spieleabend/2025-06-27/
LOCATION:Ev. Gemeindehaus Bünzwangen\, Ortsstr. 28/1\, Ebersbach\, BW\, 73061\, Deutschland
ATTACH;FMTTYPE=image/jpeg:https://dg-buenzwangen.de/wp-content/uploads/2025/04/Veranstaltungsbild.jpg
END:VEVENT
BEGIN:VEVENT
DTSTART;TZID=Europe/Berlin:20250613T120000
DTEND;TZID=Europe/Berlin:20250613T130000
DTSTAMP:20260424T075022
CREATED:20241105T094337Z
LAST-MODIFIED:20251127T090202Z
UID:10000575-1749816000-1749819600@dg-buenzwangen.de
SUMMARY:Mittagstisch
DESCRIPTION:Mittagstisch \nDie Dorfgemeinschaft Bünzwangen e.V. lädt ein! \nKeine Zeit oder keine Lust zu kochen? Ihr wollt euch in Bünzwangen mit Freunden zum Mittagessen treffen? Egal was euch dazu bewegt\, kommt vorbei! \nEssensausgabe 12-13 Uhr im Ev. Gemeindehaus Bünzwangen \nReservierung notwendig!
URL:https://dg-buenzwangen.de/event/mittagstisch-3/2025-06-13/
LOCATION:Ev. Gemeindehaus Bünzwangen\, Ortsstr. 28/1\, Ebersbach\, BW\, 73061\, Deutschland
ATTACH;FMTTYPE=image/png:https://dg-buenzwangen.de/wp-content/uploads/2022/04/Mittagstisch_v2_Box.png
ORGANIZER;CN="Dorfgemeinschaft B%C3%BCnzwangen e.V.":MAILTO:info@dg-buenzwangen.de
END:VEVENT
BEGIN:VEVENT
DTSTART;TZID=Europe/Berlin:20250524T090000
DTEND;TZID=Europe/Berlin:20250524T113000
DTSTAMP:20260424T075022
CREATED:20241021T110533Z
LAST-MODIFIED:20241021T110533Z
UID:10000523-1748077200-1748086200@dg-buenzwangen.de
SUMMARY:Kinderkirche in Bünzwangen
DESCRIPTION:Jeden 3. Samstag im Monat findet um 9.00 Uhr im Evangelischen Gemeindehaus Bünzwangen Kinderkirche statt. Herzliche Einladung an alle Kinder ab 3 Jahren zum gemeinsamen Singen\, Beten\, Hören biblischer Geschichten\, gemeinsamen Spielen und Basteln! Wir freuen uns auf Dich \nNähere Informationen erhalten Sie im Gemeindebüro \nAnsprechpartnerin:\nGudrun Aschenbrenner\nTel.:(07163) 8111\nMail: gudrun.aschenbrenner@elkw.de
URL:https://dg-buenzwangen.de/event/kinderkirche-in-buenzwangen-2/2025-05-24/
LOCATION:Ev. Gemeindehaus Bünzwangen\, Ortsstr. 28/1\, Ebersbach\, BW\, 73061\, Deutschland
CATEGORIES:Kinderkirche,KinderUndJugendliche
ATTACH;FMTTYPE=image/jpeg:https://dg-buenzwangen.de/wp-content/uploads/2024/03/KinderkircheLogo-e1710156853711.jpg
END:VEVENT
BEGIN:VEVENT
DTSTART;TZID=Europe/Berlin:20250518T143000
DTEND;TZID=Europe/Berlin:20250518T180000
DTSTAMP:20260424T075022
CREATED:20250517T082835Z
LAST-MODIFIED:20250517T082835Z
UID:10001308-1747578600-1747591200@dg-buenzwangen.de
SUMMARY:Gemeindecafe
DESCRIPTION:
URL:https://dg-buenzwangen.de/event/gemeindecafe/
LOCATION:Ev. Gemeindehaus Bünzwangen\, Ortsstr. 28/1\, Ebersbach\, BW\, 73061\, Deutschland
ATTACH;FMTTYPE=image/jpeg:https://dg-buenzwangen.de/wp-content/uploads/2025/05/2025-05-18-Gemeindecafe_Veranstaltungsbild.jpg
END:VEVENT
BEGIN:VEVENT
DTSTART;TZID=Europe/Berlin:20250517T200000
DTEND;TZID=Europe/Berlin:20250517T235900
DTSTAMP:20260424T075022
CREATED:20250310T082953Z
LAST-MODIFIED:20250310T082953Z
UID:10000709-1747512000-1747526340@dg-buenzwangen.de
SUMMARY:"Ladies Night" Cocktail & Holzofenpizza
DESCRIPTION:Preis: 60 € (DgB-Mitglieder 50 €) inkl. 4 Cocktails (drei alkoholhaltig und einer alkoholfrei) sowie einer „All you can eat“-Holzofenpizza-Bar von Musis Pizza. \nSichert euch jetzt schnell einen der begehrten Plätze – die Teilnehmerzahl ist begrenzt! Anmeldungen über info@dg-buenzwangen.de / WhatsApp +49 152 266 829 80
URL:https://dg-buenzwangen.de/event/ladies-night-cocktail-holzofenpizza/
LOCATION:Ev. Gemeindehaus Bünzwangen\, Ortsstr. 28/1\, Ebersbach\, BW\, 73061\, Deutschland
ATTACH;FMTTYPE=image/png:https://dg-buenzwangen.de/wp-content/uploads/2025/03/Veranstaltungsbild-2.png
END:VEVENT
BEGIN:VEVENT
DTSTART;TZID=Europe/Berlin:20250515T190000
DTEND;TZID=Europe/Berlin:20250515T220000
DTSTAMP:20260424T075022
CREATED:20250411T073159Z
LAST-MODIFIED:20250411T073159Z
UID:10001300-1747335600-1747346400@dg-buenzwangen.de
SUMMARY:Spieleabend
DESCRIPTION:Für alle\, die Lust auf Gesellschaftsspiele haben \nGetränke sind vorhanden. Bringt gerne Knabbereien und eure Lieblingsspiele mit.
URL:https://dg-buenzwangen.de/event/spieleabend/2025-05-15/
LOCATION:Ev. Gemeindehaus Bünzwangen\, Ortsstr. 28/1\, Ebersbach\, BW\, 73061\, Deutschland
ATTACH;FMTTYPE=image/jpeg:https://dg-buenzwangen.de/wp-content/uploads/2025/04/Veranstaltungsbild.jpg
END:VEVENT
BEGIN:VEVENT
DTSTART;TZID=Europe/Berlin:20250509T120000
DTEND;TZID=Europe/Berlin:20250509T130000
DTSTAMP:20260424T075022
CREATED:20241105T094337Z
LAST-MODIFIED:20251127T090202Z
UID:10000574-1746792000-1746795600@dg-buenzwangen.de
SUMMARY:Mittagstisch
DESCRIPTION:Mittagstisch \nDie Dorfgemeinschaft Bünzwangen e.V. lädt ein! \nKeine Zeit oder keine Lust zu kochen? Ihr wollt euch in Bünzwangen mit Freunden zum Mittagessen treffen? Egal was euch dazu bewegt\, kommt vorbei! \nEssensausgabe 12-13 Uhr im Ev. Gemeindehaus Bünzwangen \nReservierung notwendig!
URL:https://dg-buenzwangen.de/event/mittagstisch-3/2025-05-09/
LOCATION:Ev. Gemeindehaus Bünzwangen\, Ortsstr. 28/1\, Ebersbach\, BW\, 73061\, Deutschland
ATTACH;FMTTYPE=image/png:https://dg-buenzwangen.de/wp-content/uploads/2022/04/Mittagstisch_v2_Box.png
ORGANIZER;CN="Dorfgemeinschaft B%C3%BCnzwangen e.V.":MAILTO:info@dg-buenzwangen.de
END:VEVENT
BEGIN:VEVENT
DTSTART;TZID=Europe/Berlin:20250411T190000
DTEND;TZID=Europe/Berlin:20250411T220000
DTSTAMP:20260424T075022
CREATED:20250411T073159Z
LAST-MODIFIED:20250411T073159Z
UID:10001299-1744398000-1744408800@dg-buenzwangen.de
SUMMARY:Spieleabend
DESCRIPTION:Für alle\, die Lust auf Gesellschaftsspiele haben \nGetränke sind vorhanden. Bringt gerne Knabbereien und eure Lieblingsspiele mit.
URL:https://dg-buenzwangen.de/event/spieleabend/2025-04-11/
LOCATION:Ev. Gemeindehaus Bünzwangen\, Ortsstr. 28/1\, Ebersbach\, BW\, 73061\, Deutschland
ATTACH;FMTTYPE=image/jpeg:https://dg-buenzwangen.de/wp-content/uploads/2025/04/Veranstaltungsbild.jpg
END:VEVENT
BEGIN:VEVENT
DTSTART;TZID=Europe/Berlin:20250411T120000
DTEND;TZID=Europe/Berlin:20250411T130000
DTSTAMP:20260424T075022
CREATED:20241105T094337Z
LAST-MODIFIED:20251127T090202Z
UID:10000573-1744372800-1744376400@dg-buenzwangen.de
SUMMARY:Mittagstisch
DESCRIPTION:Mittagstisch \nDie Dorfgemeinschaft Bünzwangen e.V. lädt ein! \nKeine Zeit oder keine Lust zu kochen? Ihr wollt euch in Bünzwangen mit Freunden zum Mittagessen treffen? Egal was euch dazu bewegt\, kommt vorbei! \nEssensausgabe 12-13 Uhr im Ev. Gemeindehaus Bünzwangen \nReservierung notwendig!
URL:https://dg-buenzwangen.de/event/mittagstisch-3/2025-04-11/
LOCATION:Ev. Gemeindehaus Bünzwangen\, Ortsstr. 28/1\, Ebersbach\, BW\, 73061\, Deutschland
ATTACH;FMTTYPE=image/png:https://dg-buenzwangen.de/wp-content/uploads/2022/04/Mittagstisch_v2_Box.png
ORGANIZER;CN="Dorfgemeinschaft B%C3%BCnzwangen e.V.":MAILTO:info@dg-buenzwangen.de
END:VEVENT
BEGIN:VEVENT
DTSTART;TZID=Europe/Berlin:20250322T090000
DTEND;TZID=Europe/Berlin:20250322T113000
DTSTAMP:20260424T075022
CREATED:20241021T110533Z
LAST-MODIFIED:20241021T110533Z
UID:10000522-1742634000-1742643000@dg-buenzwangen.de
SUMMARY:Kinderkirche in Bünzwangen
DESCRIPTION:Jeden 3. Samstag im Monat findet um 9.00 Uhr im Evangelischen Gemeindehaus Bünzwangen Kinderkirche statt. Herzliche Einladung an alle Kinder ab 3 Jahren zum gemeinsamen Singen\, Beten\, Hören biblischer Geschichten\, gemeinsamen Spielen und Basteln! Wir freuen uns auf Dich \nNähere Informationen erhalten Sie im Gemeindebüro \nAnsprechpartnerin:\nGudrun Aschenbrenner\nTel.:(07163) 8111\nMail: gudrun.aschenbrenner@elkw.de
URL:https://dg-buenzwangen.de/event/kinderkirche-in-buenzwangen-2/2025-03-22/
LOCATION:Ev. Gemeindehaus Bünzwangen\, Ortsstr. 28/1\, Ebersbach\, BW\, 73061\, Deutschland
CATEGORIES:Kinderkirche,KinderUndJugendliche
ATTACH;FMTTYPE=image/jpeg:https://dg-buenzwangen.de/wp-content/uploads/2024/03/KinderkircheLogo-e1710156853711.jpg
END:VEVENT
BEGIN:VEVENT
DTSTART;TZID=Europe/Berlin:20250314T120000
DTEND;TZID=Europe/Berlin:20250314T130000
DTSTAMP:20260424T075022
CREATED:20241105T094337Z
LAST-MODIFIED:20251127T090202Z
UID:10000572-1741953600-1741957200@dg-buenzwangen.de
SUMMARY:Mittagstisch
DESCRIPTION:Mittagstisch \nDie Dorfgemeinschaft Bünzwangen e.V. lädt ein! \nKeine Zeit oder keine Lust zu kochen? Ihr wollt euch in Bünzwangen mit Freunden zum Mittagessen treffen? Egal was euch dazu bewegt\, kommt vorbei! \nEssensausgabe 12-13 Uhr im Ev. Gemeindehaus Bünzwangen \nReservierung notwendig!
URL:https://dg-buenzwangen.de/event/mittagstisch-3/2025-03-14/
LOCATION:Ev. Gemeindehaus Bünzwangen\, Ortsstr. 28/1\, Ebersbach\, BW\, 73061\, Deutschland
ATTACH;FMTTYPE=image/png:https://dg-buenzwangen.de/wp-content/uploads/2022/04/Mittagstisch_v2_Box.png
ORGANIZER;CN="Dorfgemeinschaft B%C3%BCnzwangen e.V.":MAILTO:info@dg-buenzwangen.de
END:VEVENT
BEGIN:VEVENT
DTSTART;TZID=Europe/Berlin:20250222T090000
DTEND;TZID=Europe/Berlin:20250222T113000
DTSTAMP:20260424T075022
CREATED:20241021T110533Z
LAST-MODIFIED:20241021T110533Z
UID:10000521-1740214800-1740223800@dg-buenzwangen.de
SUMMARY:Kinderkirche in Bünzwangen
DESCRIPTION:Jeden 3. Samstag im Monat findet um 9.00 Uhr im Evangelischen Gemeindehaus Bünzwangen Kinderkirche statt. Herzliche Einladung an alle Kinder ab 3 Jahren zum gemeinsamen Singen\, Beten\, Hören biblischer Geschichten\, gemeinsamen Spielen und Basteln! Wir freuen uns auf Dich \nNähere Informationen erhalten Sie im Gemeindebüro \nAnsprechpartnerin:\nGudrun Aschenbrenner\nTel.:(07163) 8111\nMail: gudrun.aschenbrenner@elkw.de
URL:https://dg-buenzwangen.de/event/kinderkirche-in-buenzwangen-2/2025-02-22/
LOCATION:Ev. Gemeindehaus Bünzwangen\, Ortsstr. 28/1\, Ebersbach\, BW\, 73061\, Deutschland
CATEGORIES:Kinderkirche,KinderUndJugendliche
ATTACH;FMTTYPE=image/jpeg:https://dg-buenzwangen.de/wp-content/uploads/2024/03/KinderkircheLogo-e1710156853711.jpg
END:VEVENT
BEGIN:VEVENT
DTSTART;TZID=Europe/Berlin:20250214T120000
DTEND;TZID=Europe/Berlin:20250214T130000
DTSTAMP:20260424T075022
CREATED:20241105T094337Z
LAST-MODIFIED:20251127T090202Z
UID:10000571-1739534400-1739538000@dg-buenzwangen.de
SUMMARY:Mittagstisch
DESCRIPTION:Mittagstisch \nDie Dorfgemeinschaft Bünzwangen e.V. lädt ein! \nKeine Zeit oder keine Lust zu kochen? Ihr wollt euch in Bünzwangen mit Freunden zum Mittagessen treffen? Egal was euch dazu bewegt\, kommt vorbei! \nEssensausgabe 12-13 Uhr im Ev. Gemeindehaus Bünzwangen \nReservierung notwendig!
URL:https://dg-buenzwangen.de/event/mittagstisch-3/2025-02-14/
LOCATION:Ev. Gemeindehaus Bünzwangen\, Ortsstr. 28/1\, Ebersbach\, BW\, 73061\, Deutschland
ATTACH;FMTTYPE=image/png:https://dg-buenzwangen.de/wp-content/uploads/2022/04/Mittagstisch_v2_Box.png
ORGANIZER;CN="Dorfgemeinschaft B%C3%BCnzwangen e.V.":MAILTO:info@dg-buenzwangen.de
END:VEVENT
BEGIN:VEVENT
DTSTART;TZID=Europe/Berlin:20250125T090000
DTEND;TZID=Europe/Berlin:20250125T113000
DTSTAMP:20260424T075022
CREATED:20241021T110533Z
LAST-MODIFIED:20241021T110533Z
UID:10000520-1737795600-1737804600@dg-buenzwangen.de
SUMMARY:Kinderkirche in Bünzwangen
DESCRIPTION:Jeden 3. Samstag im Monat findet um 9.00 Uhr im Evangelischen Gemeindehaus Bünzwangen Kinderkirche statt. Herzliche Einladung an alle Kinder ab 3 Jahren zum gemeinsamen Singen\, Beten\, Hören biblischer Geschichten\, gemeinsamen Spielen und Basteln! Wir freuen uns auf Dich \nNähere Informationen erhalten Sie im Gemeindebüro \nAnsprechpartnerin:\nGudrun Aschenbrenner\nTel.:(07163) 8111\nMail: gudrun.aschenbrenner@elkw.de
URL:https://dg-buenzwangen.de/event/kinderkirche-in-buenzwangen-2/2025-01-25/
LOCATION:Ev. Gemeindehaus Bünzwangen\, Ortsstr. 28/1\, Ebersbach\, BW\, 73061\, Deutschland
CATEGORIES:Kinderkirche,KinderUndJugendliche
ATTACH;FMTTYPE=image/jpeg:https://dg-buenzwangen.de/wp-content/uploads/2024/03/KinderkircheLogo-e1710156853711.jpg
END:VEVENT
END:VCALENDAR