BEGIN:VCALENDAR
VERSION:2.0
PRODID:-//Bünzwangen - ECPv6.15.20//NONSGML v1.0//EN
CALSCALE:GREGORIAN
METHOD:PUBLISH
X-WR-CALNAME:Bünzwangen
X-ORIGINAL-URL:https://dg-buenzwangen.de
X-WR-CALDESC:Veranstaltungen für Bünzwangen
REFRESH-INTERVAL;VALUE=DURATION:PT1H
X-Robots-Tag:noindex
X-PUBLISHED-TTL:PT1H
BEGIN:VTIMEZONE
TZID:Europe/Berlin
BEGIN:DAYLIGHT
TZOFFSETFROM:+0100
TZOFFSETTO:+0200
TZNAME:CEST
DTSTART:20220327T010000
END:DAYLIGHT
BEGIN:STANDARD
TZOFFSETFROM:+0200
TZOFFSETTO:+0100
TZNAME:CET
DTSTART:20221030T010000
END:STANDARD
BEGIN:DAYLIGHT
TZOFFSETFROM:+0100
TZOFFSETTO:+0200
TZNAME:CEST
DTSTART:20230326T010000
END:DAYLIGHT
BEGIN:STANDARD
TZOFFSETFROM:+0200
TZOFFSETTO:+0100
TZNAME:CET
DTSTART:20231029T010000
END:STANDARD
BEGIN:DAYLIGHT
TZOFFSETFROM:+0100
TZOFFSETTO:+0200
TZNAME:CEST
DTSTART:20240331T010000
END:DAYLIGHT
BEGIN:STANDARD
TZOFFSETFROM:+0200
TZOFFSETTO:+0100
TZNAME:CET
DTSTART:20241027T010000
END:STANDARD
BEGIN:DAYLIGHT
TZOFFSETFROM:+0100
TZOFFSETTO:+0200
TZNAME:CEST
DTSTART:20250330T010000
END:DAYLIGHT
BEGIN:STANDARD
TZOFFSETFROM:+0200
TZOFFSETTO:+0100
TZNAME:CET
DTSTART:20251026T010000
END:STANDARD
BEGIN:DAYLIGHT
TZOFFSETFROM:+0100
TZOFFSETTO:+0200
TZNAME:CEST
DTSTART:20260329T010000
END:DAYLIGHT
BEGIN:STANDARD
TZOFFSETFROM:+0200
TZOFFSETTO:+0100
TZNAME:CET
DTSTART:20261025T010000
END:STANDARD
END:VTIMEZONE
BEGIN:VEVENT
DTSTART;TZID=Europe/Berlin:20251102T114500
DTEND;TZID=Europe/Berlin:20251102T210000
DTSTAMP:20260424T154850
CREATED:20250804T122026Z
LAST-MODIFIED:20250804T122237Z
UID:10001328-1762083900-1762117200@dg-buenzwangen.de
SUMMARY:Kaisermost Besen
DESCRIPTION:Vom 31.10.2025 bis 29.11.2025\nFreitag     17:00 bis 22:00 Uhr Küche bis 21:00 Uhr\nSamstag  17:00 bis 22:00 Uhr Küche bis 21:00 Uhr\nSonntag   11:45  bis 21:00 Uhr Küche bis 20:00 Uhr\nwww.kaisermostbesen.de
URL:https://dg-buenzwangen.de/event/kaisermost-besen-3/2025-11-02/
LOCATION:Kaisermost Besen\, Im Tal 7\, Bünzwangen\, 73061\, Deutschland
CATEGORIES:Besen
ATTACH;FMTTYPE=image/jpeg:https://dg-buenzwangen.de/wp-content/uploads/2025/08/Kaisermostbesen.jpg
END:VEVENT
BEGIN:VEVENT
DTSTART;TZID=Europe/Berlin:20251101T170000
DTEND;TZID=Europe/Berlin:20251101T220000
DTSTAMP:20260424T154850
CREATED:20250804T122026Z
LAST-MODIFIED:20250804T122237Z
UID:10001327-1762016400-1762034400@dg-buenzwangen.de
SUMMARY:Kaisermost Besen
DESCRIPTION:Vom 31.10.2025 bis 29.11.2025\nFreitag     17:00 bis 22:00 Uhr Küche bis 21:00 Uhr\nSamstag  17:00 bis 22:00 Uhr Küche bis 21:00 Uhr\nSonntag   11:45  bis 21:00 Uhr Küche bis 20:00 Uhr\nwww.kaisermostbesen.de
URL:https://dg-buenzwangen.de/event/kaisermost-besen-3/2025-11-01/
LOCATION:Kaisermost Besen\, Im Tal 7\, Bünzwangen\, 73061\, Deutschland
CATEGORIES:Besen
ATTACH;FMTTYPE=image/jpeg:https://dg-buenzwangen.de/wp-content/uploads/2025/08/Kaisermostbesen.jpg
END:VEVENT
BEGIN:VEVENT
DTSTART;TZID=Europe/Berlin:20251031T170000
DTEND;TZID=Europe/Berlin:20251031T220000
DTSTAMP:20260424T154850
CREATED:20250804T122026Z
LAST-MODIFIED:20250804T122237Z
UID:10001326-1761930000-1761948000@dg-buenzwangen.de
SUMMARY:Kaisermost Besen
DESCRIPTION:Vom 31.10.2025 bis 29.11.2025\nFreitag     17:00 bis 22:00 Uhr Küche bis 21:00 Uhr\nSamstag  17:00 bis 22:00 Uhr Küche bis 21:00 Uhr\nSonntag   11:45  bis 21:00 Uhr Küche bis 20:00 Uhr\nwww.kaisermostbesen.de
URL:https://dg-buenzwangen.de/event/kaisermost-besen-3/2025-10-31/
LOCATION:Kaisermost Besen\, Im Tal 7\, Bünzwangen\, 73061\, Deutschland
CATEGORIES:Besen
ATTACH;FMTTYPE=image/jpeg:https://dg-buenzwangen.de/wp-content/uploads/2025/08/Kaisermostbesen.jpg
END:VEVENT
BEGIN:VEVENT
DTSTART;TZID=Europe/Berlin:20250323T114500
DTEND;TZID=Europe/Berlin:20250323T230000
DTSTAMP:20260424T154850
CREATED:20250203T064303Z
LAST-MODIFIED:20250203T064503Z
UID:10000674-1742730300-1742770800@dg-buenzwangen.de
SUMMARY:Kaisermost Besen
DESCRIPTION:Geöffnet vom 28.02.2025 – 23.03.2025 \nImmer Fr./Sa. ab 17 Uhr\, So ab 11:45 Uhr \nwww.kaisermostbesen.de
URL:https://dg-buenzwangen.de/event/kaisermost-besen-2/2025-03-23/
LOCATION:Kaisermost Besen\, Im Tal 7\, Bünzwangen\, 73061\, Deutschland
CATEGORIES:Besen
ATTACH;FMTTYPE=image/jpeg:https://dg-buenzwangen.de/wp-content/uploads/2025/02/Kaisermostbesen.jpg
END:VEVENT
BEGIN:VEVENT
DTSTART;TZID=Europe/Berlin:20250322T170000
DTEND;TZID=Europe/Berlin:20250322T230000
DTSTAMP:20260424T154850
CREATED:20250203T064036Z
LAST-MODIFIED:20250203T064643Z
UID:10000682-1742662800-1742684400@dg-buenzwangen.de
SUMMARY:Kaisermost Besen
DESCRIPTION:Geöffnet vom 28.02.2025 – 23.03.2025 \n  \nImmer Fr./Sa. ab 17 Uhr\, So ab 11:45 Uhr \nwww.kaisermostbesen.de
URL:https://dg-buenzwangen.de/event/kaisermost-besen/2025-03-22/
LOCATION:Kaisermost Besen\, Im Tal 7\, Bünzwangen\, 73061\, Deutschland
CATEGORIES:Besen
ATTACH;FMTTYPE=image/jpeg:https://dg-buenzwangen.de/wp-content/uploads/2025/02/Kaisermostbesen.jpg
END:VEVENT
BEGIN:VEVENT
DTSTART;TZID=Europe/Berlin:20250321T170000
DTEND;TZID=Europe/Berlin:20250321T230000
DTSTAMP:20260424T154850
CREATED:20250203T064036Z
LAST-MODIFIED:20250203T064643Z
UID:10000681-1742576400-1742598000@dg-buenzwangen.de
SUMMARY:Kaisermost Besen
DESCRIPTION:Geöffnet vom 28.02.2025 – 23.03.2025 \n  \nImmer Fr./Sa. ab 17 Uhr\, So ab 11:45 Uhr \nwww.kaisermostbesen.de
URL:https://dg-buenzwangen.de/event/kaisermost-besen/2025-03-21/
LOCATION:Kaisermost Besen\, Im Tal 7\, Bünzwangen\, 73061\, Deutschland
CATEGORIES:Besen
ATTACH;FMTTYPE=image/jpeg:https://dg-buenzwangen.de/wp-content/uploads/2025/02/Kaisermostbesen.jpg
END:VEVENT
BEGIN:VEVENT
DTSTART;TZID=Europe/Berlin:20250316T114500
DTEND;TZID=Europe/Berlin:20250316T230000
DTSTAMP:20260424T154850
CREATED:20250203T064303Z
LAST-MODIFIED:20250203T064503Z
UID:10000673-1742125500-1742166000@dg-buenzwangen.de
SUMMARY:Kaisermost Besen
DESCRIPTION:Geöffnet vom 28.02.2025 – 23.03.2025 \nImmer Fr./Sa. ab 17 Uhr\, So ab 11:45 Uhr \nwww.kaisermostbesen.de
URL:https://dg-buenzwangen.de/event/kaisermost-besen-2/2025-03-16/
LOCATION:Kaisermost Besen\, Im Tal 7\, Bünzwangen\, 73061\, Deutschland
CATEGORIES:Besen
ATTACH;FMTTYPE=image/jpeg:https://dg-buenzwangen.de/wp-content/uploads/2025/02/Kaisermostbesen.jpg
END:VEVENT
BEGIN:VEVENT
DTSTART;TZID=Europe/Berlin:20250315T170000
DTEND;TZID=Europe/Berlin:20250315T230000
DTSTAMP:20260424T154850
CREATED:20250203T064036Z
LAST-MODIFIED:20250203T064643Z
UID:10000680-1742058000-1742079600@dg-buenzwangen.de
SUMMARY:Kaisermost Besen
DESCRIPTION:Geöffnet vom 28.02.2025 – 23.03.2025 \n  \nImmer Fr./Sa. ab 17 Uhr\, So ab 11:45 Uhr \nwww.kaisermostbesen.de
URL:https://dg-buenzwangen.de/event/kaisermost-besen/2025-03-15/
LOCATION:Kaisermost Besen\, Im Tal 7\, Bünzwangen\, 73061\, Deutschland
CATEGORIES:Besen
ATTACH;FMTTYPE=image/jpeg:https://dg-buenzwangen.de/wp-content/uploads/2025/02/Kaisermostbesen.jpg
END:VEVENT
BEGIN:VEVENT
DTSTART;TZID=Europe/Berlin:20250314T170000
DTEND;TZID=Europe/Berlin:20250314T230000
DTSTAMP:20260424T154850
CREATED:20250203T064036Z
LAST-MODIFIED:20250203T064643Z
UID:10000679-1741971600-1741993200@dg-buenzwangen.de
SUMMARY:Kaisermost Besen
DESCRIPTION:Geöffnet vom 28.02.2025 – 23.03.2025 \n  \nImmer Fr./Sa. ab 17 Uhr\, So ab 11:45 Uhr \nwww.kaisermostbesen.de
URL:https://dg-buenzwangen.de/event/kaisermost-besen/2025-03-14/
LOCATION:Kaisermost Besen\, Im Tal 7\, Bünzwangen\, 73061\, Deutschland
CATEGORIES:Besen
ATTACH;FMTTYPE=image/jpeg:https://dg-buenzwangen.de/wp-content/uploads/2025/02/Kaisermostbesen.jpg
END:VEVENT
BEGIN:VEVENT
DTSTART;TZID=Europe/Berlin:20250309T114500
DTEND;TZID=Europe/Berlin:20250309T230000
DTSTAMP:20260424T154850
CREATED:20250203T064303Z
LAST-MODIFIED:20250203T064503Z
UID:10000672-1741520700-1741561200@dg-buenzwangen.de
SUMMARY:Kaisermost Besen
DESCRIPTION:Geöffnet vom 28.02.2025 – 23.03.2025 \nImmer Fr./Sa. ab 17 Uhr\, So ab 11:45 Uhr \nwww.kaisermostbesen.de
URL:https://dg-buenzwangen.de/event/kaisermost-besen-2/2025-03-09/
LOCATION:Kaisermost Besen\, Im Tal 7\, Bünzwangen\, 73061\, Deutschland
CATEGORIES:Besen
ATTACH;FMTTYPE=image/jpeg:https://dg-buenzwangen.de/wp-content/uploads/2025/02/Kaisermostbesen.jpg
END:VEVENT
BEGIN:VEVENT
DTSTART;TZID=Europe/Berlin:20250308T170000
DTEND;TZID=Europe/Berlin:20250308T230000
DTSTAMP:20260424T154850
CREATED:20250203T064036Z
LAST-MODIFIED:20250203T064643Z
UID:10000678-1741453200-1741474800@dg-buenzwangen.de
SUMMARY:Kaisermost Besen
DESCRIPTION:Geöffnet vom 28.02.2025 – 23.03.2025 \n  \nImmer Fr./Sa. ab 17 Uhr\, So ab 11:45 Uhr \nwww.kaisermostbesen.de
URL:https://dg-buenzwangen.de/event/kaisermost-besen/2025-03-08/
LOCATION:Kaisermost Besen\, Im Tal 7\, Bünzwangen\, 73061\, Deutschland
CATEGORIES:Besen
ATTACH;FMTTYPE=image/jpeg:https://dg-buenzwangen.de/wp-content/uploads/2025/02/Kaisermostbesen.jpg
END:VEVENT
BEGIN:VEVENT
DTSTART;TZID=Europe/Berlin:20250307T170000
DTEND;TZID=Europe/Berlin:20250307T230000
DTSTAMP:20260424T154850
CREATED:20250203T064036Z
LAST-MODIFIED:20250203T064643Z
UID:10000677-1741366800-1741388400@dg-buenzwangen.de
SUMMARY:Kaisermost Besen
DESCRIPTION:Geöffnet vom 28.02.2025 – 23.03.2025 \n  \nImmer Fr./Sa. ab 17 Uhr\, So ab 11:45 Uhr \nwww.kaisermostbesen.de
URL:https://dg-buenzwangen.de/event/kaisermost-besen/2025-03-07/
LOCATION:Kaisermost Besen\, Im Tal 7\, Bünzwangen\, 73061\, Deutschland
CATEGORIES:Besen
ATTACH;FMTTYPE=image/jpeg:https://dg-buenzwangen.de/wp-content/uploads/2025/02/Kaisermostbesen.jpg
END:VEVENT
BEGIN:VEVENT
DTSTART;TZID=Europe/Berlin:20250302T114500
DTEND;TZID=Europe/Berlin:20250302T230000
DTSTAMP:20260424T154850
CREATED:20250203T064303Z
LAST-MODIFIED:20250203T064503Z
UID:10000671-1740915900-1740956400@dg-buenzwangen.de
SUMMARY:Kaisermost Besen
DESCRIPTION:Geöffnet vom 28.02.2025 – 23.03.2025 \nImmer Fr./Sa. ab 17 Uhr\, So ab 11:45 Uhr \nwww.kaisermostbesen.de
URL:https://dg-buenzwangen.de/event/kaisermost-besen-2/2025-03-02/
LOCATION:Kaisermost Besen\, Im Tal 7\, Bünzwangen\, 73061\, Deutschland
CATEGORIES:Besen
ATTACH;FMTTYPE=image/jpeg:https://dg-buenzwangen.de/wp-content/uploads/2025/02/Kaisermostbesen.jpg
END:VEVENT
BEGIN:VEVENT
DTSTART;TZID=Europe/Berlin:20250301T170000
DTEND;TZID=Europe/Berlin:20250301T230000
DTSTAMP:20260424T154850
CREATED:20250203T064036Z
LAST-MODIFIED:20250203T064643Z
UID:10000676-1740848400-1740870000@dg-buenzwangen.de
SUMMARY:Kaisermost Besen
DESCRIPTION:Geöffnet vom 28.02.2025 – 23.03.2025 \n  \nImmer Fr./Sa. ab 17 Uhr\, So ab 11:45 Uhr \nwww.kaisermostbesen.de
URL:https://dg-buenzwangen.de/event/kaisermost-besen/2025-03-01/
LOCATION:Kaisermost Besen\, Im Tal 7\, Bünzwangen\, 73061\, Deutschland
CATEGORIES:Besen
ATTACH;FMTTYPE=image/jpeg:https://dg-buenzwangen.de/wp-content/uploads/2025/02/Kaisermostbesen.jpg
END:VEVENT
BEGIN:VEVENT
DTSTART;TZID=Europe/Berlin:20250228T170000
DTEND;TZID=Europe/Berlin:20250228T230000
DTSTAMP:20260424T154850
CREATED:20250203T064036Z
LAST-MODIFIED:20250203T064643Z
UID:10000675-1740762000-1740783600@dg-buenzwangen.de
SUMMARY:Kaisermost Besen
DESCRIPTION:Geöffnet vom 28.02.2025 – 23.03.2025 \n  \nImmer Fr./Sa. ab 17 Uhr\, So ab 11:45 Uhr \nwww.kaisermostbesen.de
URL:https://dg-buenzwangen.de/event/kaisermost-besen/2025-02-28/
LOCATION:Kaisermost Besen\, Im Tal 7\, Bünzwangen\, 73061\, Deutschland
CATEGORIES:Besen
ATTACH;FMTTYPE=image/jpeg:https://dg-buenzwangen.de/wp-content/uploads/2025/02/Kaisermostbesen.jpg
END:VEVENT
BEGIN:VEVENT
DTSTART;TZID=Europe/Berlin:20240705T200000
DTEND;TZID=Europe/Berlin:20240705T230000
DTSTAMP:20260424T154850
CREATED:20240701T115840Z
LAST-MODIFIED:20240705T063913Z
UID:10000496-1720209600-1720220400@dg-buenzwangen.de
SUMMARY:DORFstammTISCH
DESCRIPTION:Mitmachen\, mitwirken und mitgestalten \nZum Treffen\, Austauschen\, Trinken und Quatschen – aber auch um kreative Ideen auf den Tisch zu bringen\, über Projekte zu sprechen und neuen Teams zu bilden.\nKomm vorbei und bring dich ein! Gemeinsam für unser Dorf. \nIm Kaiser Besen – Im Tal 7 – Eingang über die Silcherstraße – für alle DgB Mitglieder
URL:https://dg-buenzwangen.de/event/dorfstammtisch-2-2/
LOCATION:Kaisermost Besen\, Im Tal 7\, Bünzwangen\, 73061\, Deutschland
CATEGORIES:DORFstammTISCH,Treffen
ATTACH;FMTTYPE=image/png:https://dg-buenzwangen.de/wp-content/uploads/2024/01/Stammtisch_240705.png
ORGANIZER;CN="Dorfgemeinschaft B%C3%BCnzwangen e.V.":MAILTO:info@dg-buenzwangen.de
END:VEVENT
BEGIN:VEVENT
DTSTART;TZID=Europe/Berlin:20240503T200000
DTEND;TZID=Europe/Berlin:20240503T230000
DTSTAMP:20260424T154850
CREATED:20240110T140030Z
LAST-MODIFIED:20240321T122229Z
UID:10000495-1714766400-1714777200@dg-buenzwangen.de
SUMMARY:DORFstammTISCH
DESCRIPTION:Mitmachen\, mitwirken und mitgestalten \nZum Treffen\, Austauschen\, Trinken und Quatschen – aber auch um kreative Ideen auf den Tisch zu bringen\, über Projekte zu sprechen und neuen Teams zu bilden.\nKomm vorbei und bring dich ein! Gemeinsam für unser Dorf. \nIm Kaiser Besen – Im Tal 7 – Eingang über die Silcherstraße – für alle DgB Mitglieder
URL:https://dg-buenzwangen.de/event/dorfstammtisch-2/2024-05-03/
LOCATION:Kaisermost Besen\, Im Tal 7\, Bünzwangen\, 73061\, Deutschland
CATEGORIES:DORFstammTISCH,Treffen
ATTACH;FMTTYPE=image/png:https://dg-buenzwangen.de/wp-content/uploads/2024/01/240320_Stammtisch.png
ORGANIZER;CN="Dorfgemeinschaft B%C3%BCnzwangen e.V.":MAILTO:info@dg-buenzwangen.de
END:VEVENT
BEGIN:VEVENT
DTSTART;TZID=Europe/Berlin:20240427T200000
DTEND;TZID=Europe/Berlin:20240427T233000
DTSTAMP:20260424T154850
CREATED:20240209T125013Z
LAST-MODIFIED:20240209T125319Z
UID:10000444-1714248000-1714260600@dg-buenzwangen.de
SUMMARY:“Ladies Night” Tasting Event
DESCRIPTION:Die Sonne kommt raus und die sommerliche Zeit des Jahres beginnt.\nDa gehören Spritz-Getränke fest dazu. Das Team der Weinhandlung Solo Vino in Ebersbach zaubert uns 6 Drinks in die Gläser. Dazu gibt es natürlich auch noch leckeres Fingerfood. \nAuf vielfachen Wunsch\, jetzt endlich das Tasting Event nur für Ladies.\nReserivert euch schnell einen der begehrten Plätze! \nLimitierte Teilnehmerzahl\, ab 18 Jahren\, verbindliche Anmeldung bis zum 13.04.\nüber info@dg-buenzwangen.de oder WhatsApp +49 152 266 829 80
URL:https://dg-buenzwangen.de/event/ladies-night-tasting-event/
LOCATION:Kaisermost Besen\, Im Tal 7\, Bünzwangen\, 73061\, Deutschland
CATEGORIES:Fest
ATTACH;FMTTYPE=image/jpeg:https://dg-buenzwangen.de/wp-content/uploads/2024/02/240427_LadiesNight-TastingEvent.jpg
ORGANIZER;CN="Dorfgemeinschaft B%C3%BCnzwangen e.V.":MAILTO:info@dg-buenzwangen.de
END:VEVENT
BEGIN:VEVENT
DTSTART;TZID=Europe/Berlin:20240320T200000
DTEND;TZID=Europe/Berlin:20240320T230000
DTSTAMP:20260424T154850
CREATED:20240110T140030Z
LAST-MODIFIED:20240321T122229Z
UID:10000437-1710964800-1710975600@dg-buenzwangen.de
SUMMARY:DORFstammTISCH
DESCRIPTION:Mitmachen\, mitwirken und mitgestalten \nZum Treffen\, Austauschen\, Trinken und Quatschen – aber auch um kreative Ideen auf den Tisch zu bringen\, über Projekte zu sprechen und neuen Teams zu bilden.\nKomm vorbei und bring dich ein! Gemeinsam für unser Dorf. \nIm Kaiser Besen – Im Tal 7 – Eingang über die Silcherstraße – für alle DgB Mitglieder
URL:https://dg-buenzwangen.de/event/dorfstammtisch-2/2024-03-20/
LOCATION:Kaisermost Besen\, Im Tal 7\, Bünzwangen\, 73061\, Deutschland
CATEGORIES:DORFstammTISCH,Treffen
ATTACH;FMTTYPE=image/png:https://dg-buenzwangen.de/wp-content/uploads/2024/01/240320_Stammtisch.png
ORGANIZER;CN="Dorfgemeinschaft B%C3%BCnzwangen e.V.":MAILTO:info@dg-buenzwangen.de
END:VEVENT
BEGIN:VEVENT
DTSTART;TZID=Europe/Berlin:20240112T200000
DTEND;TZID=Europe/Berlin:20240112T230000
DTSTAMP:20260424T154850
CREATED:20231018T102742Z
LAST-MODIFIED:20240110T135901Z
UID:10000423-1705089600-1705100400@dg-buenzwangen.de
SUMMARY:DORFstammTISCH
DESCRIPTION:Mitmachen\, mitwirken und mitgestalten \nZum Treffen\, Austauschen\, Trinken und Quatschen – aber auch um kreative Ideen auf den Tisch zu bringen\, über Projekte zu sprechen und neuen Teams zu bilden.\nKomm vorbei und bring dich ein! Gemeinsam für unser Dorf. \nIm Kaiser Besen – Im Tal 7 – Eingang über die Silcherstraße – für alle DgB Mitglieder
URL:https://dg-buenzwangen.de/event/dorfstammtisch/2024-01-12/
LOCATION:Kaisermost Besen\, Im Tal 7\, Bünzwangen\, 73061\, Deutschland
CATEGORIES:Treffen
ATTACH;FMTTYPE=image/png:https://dg-buenzwangen.de/wp-content/uploads/2023/10/Stammtisch.png
ORGANIZER;CN="Dorfgemeinschaft B%C3%BCnzwangen e.V.":MAILTO:info@dg-buenzwangen.de
END:VEVENT
BEGIN:VEVENT
DTSTART;TZID=Europe/Berlin:20231103T200000
DTEND;TZID=Europe/Berlin:20231103T230000
DTSTAMP:20260424T154850
CREATED:20231018T102742Z
LAST-MODIFIED:20240110T135901Z
UID:10000422-1699041600-1699052400@dg-buenzwangen.de
SUMMARY:DORFstammTISCH
DESCRIPTION:Mitmachen\, mitwirken und mitgestalten \nZum Treffen\, Austauschen\, Trinken und Quatschen – aber auch um kreative Ideen auf den Tisch zu bringen\, über Projekte zu sprechen und neuen Teams zu bilden.\nKomm vorbei und bring dich ein! Gemeinsam für unser Dorf. \nIm Kaiser Besen – Im Tal 7 – Eingang über die Silcherstraße – für alle DgB Mitglieder
URL:https://dg-buenzwangen.de/event/dorfstammtisch/2023-11-03/
LOCATION:Kaisermost Besen\, Im Tal 7\, Bünzwangen\, 73061\, Deutschland
CATEGORIES:Treffen
ATTACH;FMTTYPE=image/png:https://dg-buenzwangen.de/wp-content/uploads/2023/10/Stammtisch.png
ORGANIZER;CN="Dorfgemeinschaft B%C3%BCnzwangen e.V.":MAILTO:info@dg-buenzwangen.de
END:VEVENT
END:VCALENDAR