BEGIN:VCALENDAR
VERSION:2.0
PRODID:-//Bünzwangen - ECPv6.15.20//NONSGML v1.0//EN
CALSCALE:GREGORIAN
METHOD:PUBLISH
X-WR-CALNAME:Bünzwangen
X-ORIGINAL-URL:https://dg-buenzwangen.de
X-WR-CALDESC:Veranstaltungen für Bünzwangen
REFRESH-INTERVAL;VALUE=DURATION:PT1H
X-Robots-Tag:noindex
X-PUBLISHED-TTL:PT1H
BEGIN:VTIMEZONE
TZID:Europe/Berlin
BEGIN:DAYLIGHT
TZOFFSETFROM:+0100
TZOFFSETTO:+0200
TZNAME:CEST
DTSTART:20210328T010000
END:DAYLIGHT
BEGIN:STANDARD
TZOFFSETFROM:+0200
TZOFFSETTO:+0100
TZNAME:CET
DTSTART:20211031T010000
END:STANDARD
BEGIN:DAYLIGHT
TZOFFSETFROM:+0100
TZOFFSETTO:+0200
TZNAME:CEST
DTSTART:20220327T010000
END:DAYLIGHT
BEGIN:STANDARD
TZOFFSETFROM:+0200
TZOFFSETTO:+0100
TZNAME:CET
DTSTART:20221030T010000
END:STANDARD
BEGIN:DAYLIGHT
TZOFFSETFROM:+0100
TZOFFSETTO:+0200
TZNAME:CEST
DTSTART:20230326T010000
END:DAYLIGHT
BEGIN:STANDARD
TZOFFSETFROM:+0200
TZOFFSETTO:+0100
TZNAME:CET
DTSTART:20231029T010000
END:STANDARD
BEGIN:DAYLIGHT
TZOFFSETFROM:+0100
TZOFFSETTO:+0200
TZNAME:CEST
DTSTART:20240331T010000
END:DAYLIGHT
BEGIN:STANDARD
TZOFFSETFROM:+0200
TZOFFSETTO:+0100
TZNAME:CET
DTSTART:20241027T010000
END:STANDARD
BEGIN:DAYLIGHT
TZOFFSETFROM:+0100
TZOFFSETTO:+0200
TZNAME:CEST
DTSTART:20250330T010000
END:DAYLIGHT
BEGIN:STANDARD
TZOFFSETFROM:+0200
TZOFFSETTO:+0100
TZNAME:CET
DTSTART:20251026T010000
END:STANDARD
END:VTIMEZONE
BEGIN:VEVENT
DTSTART;TZID=Europe/Berlin:20240309T150000
DTEND;TZID=Europe/Berlin:20240309T170000
DTSTAMP:20260424T223503
CREATED:20240123T085107Z
LAST-MODIFIED:20240123T094826Z
UID:10000312-1709996400-1710003600@dg-buenzwangen.de
SUMMARY:Gärten und Wiesen im Klimastress - Praktische Tipps für einen robusten Garten mit J. Jeutter
DESCRIPTION:Dass die Klimakrise kein abstraktes Phänomen ist\, sondern unseren Alltag längst eingeholt hat\, haben die meisten von uns bereits bemerkt.\nJohannes M. Jeutter vom Jeutter Gärtnerhof in Göppingen\, gibt Impulse zum Thema Gärten und Wiesen im Klimastress und wie wir diese so anlegen\, anpassen und pflegen können\, dass sie z.B. lange Dürrephasen oder auch starke Hitze besser überstehen. \nOGV Scheuer Bünzwangen\, kostenfrei\, begrenzte Teilnehmerzahl & verbindliche Anmeldung über info@bünzwangen.de oder per WhatsApp +49 1522 6682980
URL:https://dg-buenzwangen.de/event/gaerten-und-wiesen-im-klimastress-praktische-tipps-fuer-einen-robusten-garten-mit-j-jeutter/
LOCATION:OGV-Scheuer\, Ebersbach an der Fils\, Baden-Württemberg\, 73061\, Deutschland
CATEGORIES:Bio,Dorfakademie,Wiese_Besitzer,Wiesen_Alle
ATTACH;FMTTYPE=image/jpeg:https://dg-buenzwangen.de/wp-content/uploads/2023/09/240309_Dorfakademie-GartenImKlimastress.jpg
ORGANIZER;CN="Dorfgemeinschaft B%C3%BCnzwangen e.V.":MAILTO:info@dg-buenzwangen.de
END:VEVENT
BEGIN:VEVENT
DTSTART;TZID=Europe/Berlin:20240217T133000
DTEND;TZID=Europe/Berlin:20240217T133000
DTSTAMP:20260424T223503
CREATED:20230923T162311Z
LAST-MODIFIED:20240126T104803Z
UID:10000315-1708176600-1708176600@dg-buenzwangen.de
SUMMARY:Schnittkurs für Obstbäume
DESCRIPTION:
URL:https://dg-buenzwangen.de/event/schnitt-pflanzkurs-fuer-obstbaeume/
LOCATION:OGV-Scheuer\, Ebersbach an der Fils\, Baden-Württemberg\, 73061\, Deutschland
CATEGORIES:Bio,Wiese_Besitzer
ATTACH;FMTTYPE=image/png:https://dg-buenzwangen.de/wp-content/uploads/2023/09/250217_Dorfakademie-Schnittkurs.png
ORGANIZER;CN="Dorfgemeinschaft B%C3%BCnzwangen e.V.":MAILTO:info@dg-buenzwangen.de
END:VEVENT
BEGIN:VEVENT
DTSTART;TZID=Europe/Berlin:20231022T080000
DTEND;TZID=Europe/Berlin:20231022T170000
DTSTAMP:20260424T223503
CREATED:20230203T085902Z
LAST-MODIFIED:20230203T085902Z
UID:10000235-1697961600-1697994000@dg-buenzwangen.de
SUMMARY:OGV Maultaschenfest 10.23
DESCRIPTION:
URL:https://dg-buenzwangen.de/event/ogv-maultaschenfest-10-23/
LOCATION:OGV-Scheuer\, Ebersbach an der Fils\, Baden-Württemberg\, 73061\, Deutschland
CATEGORIES:Fest
ORGANIZER;CN="Obst- und Gartenbauverein B%C3%BCnzwangen e.V.":MAILTO:info@ogv-buenzwangen.de
END:VEVENT
BEGIN:VEVENT
DTSTART;TZID=Europe/Berlin:20230719T143000
DTEND;TZID=Europe/Berlin:20230719T180000
DTSTAMP:20260424T223503
CREATED:20230627T102757Z
LAST-MODIFIED:20230627T102757Z
UID:10000272-1689777000-1689789600@dg-buenzwangen.de
SUMMARY:OGV Rentnernachmittag
DESCRIPTION:Die traditionellen Rentnernachmittage finden wieder wie gewohnt von März bis November statt. Treffpunkt ist jeweils der 3. Mittwoch des Monats ab 14.30 Uhr. Gemütliches Beisammensein zu Kaffee\, Kuchen und Vesper in der Obst- und Gartenbau Scheuer. Auch Nichtmitglieder sowie „Nichtrentner“ sind herzlich willkommen! \nObst- und Gartenbauverein
URL:https://dg-buenzwangen.de/event/ogv-rentnernachmittag-2/
LOCATION:OGV-Scheuer\, Ebersbach an der Fils\, Baden-Württemberg\, 73061\, Deutschland
CATEGORIES:Fest
ORGANIZER;CN="Obst- und Gartenbauverein B%C3%BCnzwangen e.V.":MAILTO:info@ogv-buenzwangen.de
END:VEVENT
BEGIN:VEVENT
DTSTART;VALUE=DATE:20230501
DTEND;VALUE=DATE:20230502
DTSTAMP:20260424T223503
CREATED:20230203T085705Z
LAST-MODIFIED:20230203T085719Z
UID:10000233-1682899200-1682985599@dg-buenzwangen.de
SUMMARY:OGV Maihock 05.23
DESCRIPTION:
URL:https://dg-buenzwangen.de/event/ogv-maihock/
LOCATION:OGV-Scheuer\, Ebersbach an der Fils\, Baden-Württemberg\, 73061\, Deutschland
CATEGORIES:Fest
ORGANIZER;CN="Obst- und Gartenbauverein B%C3%BCnzwangen e.V.":MAILTO:info@ogv-buenzwangen.de
END:VEVENT
BEGIN:VEVENT
DTSTART;VALUE=DATE:20230421
DTEND;VALUE=DATE:20230422
DTSTAMP:20260424T223503
CREATED:20230203T085615Z
LAST-MODIFIED:20230203T085615Z
UID:10000232-1682035200-1682121599@dg-buenzwangen.de
SUMMARY:OGV Hauptversammlung
DESCRIPTION:
URL:https://dg-buenzwangen.de/event/ogv-hauptversammlung/
LOCATION:OGV-Scheuer\, Ebersbach an der Fils\, Baden-Württemberg\, 73061\, Deutschland
CATEGORIES:Vereinssitzungen
ORGANIZER;CN="Obst- und Gartenbauverein B%C3%BCnzwangen e.V.":MAILTO:info@ogv-buenzwangen.de
END:VEVENT
BEGIN:VEVENT
DTSTART;TZID=Europe/Berlin:20221116T143000
DTEND;TZID=Europe/Berlin:20221116T180000
DTSTAMP:20260424T223503
CREATED:20221026T125234Z
LAST-MODIFIED:20221026T125317Z
UID:10000169-1668609000-1668621600@dg-buenzwangen.de
SUMMARY:OGV Rentnernachmittag
DESCRIPTION:Die traditionellen Rentnernachmittage finden wieder wie gewohnt von März bis November statt. Treffpunkt ist jeweils der 3. Mittwoch des Monats ab 14.30 Uhr. Gemütliches Beisammensein zu Kaffee\, Kuchen und Vesper in der Obst- und Gartenbau Scheuer. Auch Nichtmitglieder sowie „Nichtrentner“ sind herzlich willkommen! \nObst- und Gartenbauverein
URL:https://dg-buenzwangen.de/event/ogv-rentnernachmittag/
LOCATION:OGV-Scheuer\, Ebersbach an der Fils\, Baden-Württemberg\, 73061\, Deutschland
CATEGORIES:Treffen
ATTACH;FMTTYPE=image/jpeg:https://dg-buenzwangen.de/wp-content/uploads/2022/03/coffee-2760064_1920.jpg
ORGANIZER;CN="Obst- und Gartenbauverein B%C3%BCnzwangen e.V.":MAILTO:info@ogv-buenzwangen.de
END:VEVENT
BEGIN:VEVENT
DTSTART;TZID=Europe/Berlin:20221023T130000
DTEND;TZID=Europe/Berlin:20221023T180000
DTSTAMP:20260424T223503
CREATED:20221005T120705Z
LAST-MODIFIED:20221005T121036Z
UID:10000161-1666530000-1666548000@dg-buenzwangen.de
SUMMARY:Maultaschenfest in der Scheuer
DESCRIPTION:Am Sonntag\, den 23.10.2022 werden für alle Mitglieder und Freunde des Obst- und Gartenbauvereins in der OGV-Scheuer ab 11:00 Uhr eine Spezialität der schwäbischen Küche geboten: Maultaschen (vegetarisch oder mit Fleisch) in der Brühe mit Kartoffelsalat.
URL:https://dg-buenzwangen.de/event/maultaschenfest-in-der-scheuer/
LOCATION:OGV-Scheuer\, Ebersbach an der Fils\, Baden-Württemberg\, 73061\, Deutschland
CATEGORIES:Fest,Treffen
ATTACH;FMTTYPE=image/jpeg:https://dg-buenzwangen.de/wp-content/uploads/2022/10/german-ravioli-g63329a768_1920.jpg
ORGANIZER;CN="Obst- und Gartenbauverein":MAILTO:info@ogv-buenzwangen.de
END:VEVENT
BEGIN:VEVENT
DTSTART;TZID=Europe/Berlin:20220608T163000
DTEND;TZID=Europe/Berlin:20220608T200000
DTSTAMP:20260424T223503
CREATED:20220412T073600Z
LAST-MODIFIED:20220412T080221Z
UID:10000130-1654705800-1654718400@dg-buenzwangen.de
SUMMARY:Rentnernachmittag
DESCRIPTION:Die traditionellen Rentnernachmittage finden wieder wie gewohnt von März bis November statt. Treffpunkt ist ab Juli der 3. Mittwoch des Monats um 14.30 Uhr. Gemütliches Beisammensein zu Kaffee\, Kuchen und Vesper in der Obst- und Gartenbau Scheuer. Auch Nichtmitglieder sowie „Nichtrentner“ sind herzlich willkommen! \nEinhaltung der Corona 3G-Regelung ist Pflicht. Bitte entsprechende Nachweise und FFP2 Maske mitbringen. \nObst- und Gartenbauverein
URL:https://dg-buenzwangen.de/event/rentnernachmittag-4/
LOCATION:OGV-Scheuer\, Ebersbach an der Fils\, Baden-Württemberg\, 73061\, Deutschland
CATEGORIES:Treffen
ATTACH;FMTTYPE=image/jpeg:https://dg-buenzwangen.de/wp-content/uploads/2022/03/coffee-2760064_1920.jpg
ORGANIZER;CN="Obst- und Gartenbauverein":MAILTO:info@ogv-buenzwangen.de
END:VEVENT
BEGIN:VEVENT
DTSTART;TZID=Europe/Berlin:20220518T163000
DTEND;TZID=Europe/Berlin:20220518T200000
DTSTAMP:20260424T223503
CREATED:20220412T073229Z
LAST-MODIFIED:20220412T080311Z
UID:10000129-1652891400-1652904000@dg-buenzwangen.de
SUMMARY:Rentnernachmittag
DESCRIPTION:Die traditionellen Rentnernachmittage finden wieder wie gewohnt von März bis November statt. Treffpunkt ist ab Juli der 3. Mittwoch des Monats um 14.30 Uhr. Gemütliches Beisammensein zu Kaffee\, Kuchen und Vesper in der Obst- und Gartenbau Scheuer. Auch Nichtmitglieder sowie „Nichtrentner“ sind herzlich willkommen! \nEinhaltung der Corona 3G-Regelung ist Pflicht. Bitte entsprechende Nachweise und FFP2 Maske mitbringen. \nObst- und Gartenbauverein
URL:https://dg-buenzwangen.de/event/rentnernachmittag-3/
LOCATION:OGV-Scheuer\, Ebersbach an der Fils\, Baden-Württemberg\, 73061\, Deutschland
CATEGORIES:Treffen
ATTACH;FMTTYPE=image/jpeg:https://dg-buenzwangen.de/wp-content/uploads/2022/03/coffee-2760064_1920.jpg
ORGANIZER;CN="Obst- und Gartenbauverein":MAILTO:info@ogv-buenzwangen.de
END:VEVENT
BEGIN:VEVENT
DTSTART;TZID=Europe/Berlin:20220501T100000
DTEND;TZID=Europe/Berlin:20220501T180000
DTSTAMP:20260424T223503
CREATED:20220411T051227Z
LAST-MODIFIED:20220412T080052Z
UID:10000128-1651399200-1651428000@dg-buenzwangen.de
SUMMARY:OGV 1.Mai Hock
DESCRIPTION:Der traditionelle Maihock am Obstlehrgarten des OGV Bünzwangen feiert nach Corona sein Comeback. Genießen Sie unter blühenden Obstbäumen die freie Natur und ausgezeichnete schwäbische Bewirtung. Bei schlechtem Wetter steht ein Zelt zur Verfügung. \nAm Donnerstag\, den 28.04.2022 um 17:00 Uhr trifft sich der OGV zum Zeltaufbau. Wer mithelfen möchte\, darf sich gerne zum genannten Termin an der OGV-Scheuer einfinden.
URL:https://dg-buenzwangen.de/event/ogv-1-mai-hock/
LOCATION:OGV-Scheuer\, Ebersbach an der Fils\, Baden-Württemberg\, 73061\, Deutschland
CATEGORIES:Fest
ORGANIZER;CN="Obst- und Gartenbauverein B%C3%BCnzwangen e.V.":MAILTO:info@ogv-buenzwangen.de
END:VEVENT
BEGIN:VEVENT
DTSTART;TZID=Europe/Berlin:20220420T143000
DTEND;TZID=Europe/Berlin:20220420T180000
DTSTAMP:20260424T223503
CREATED:20220324T130834Z
LAST-MODIFIED:20220326T204546Z
UID:10000115-1650465000-1650477600@dg-buenzwangen.de
SUMMARY:OGV Rentnernachmittag
DESCRIPTION:Die traditionellen Rentnernachmittage finden wieder wie gewohnt von März bis November statt. Treffpunkt ist jeweils der 3. Mittwoch des Monats ab 14.30 Uhr. Gemütliches Beisammensein zu Kaffee\, Kuchen und Vesper in der Obst- und Gartenbau Scheuer. Auch Nichtmitglieder sowie „Nichtrentner“ sind herzlich willkommen! \nEinhaltung der Corona 3G-Regelung ist Pflicht. Bitte entsprechende Nachweise und FFP2 Maske mitbringen. \nObst- und Gartenbauverein
URL:https://dg-buenzwangen.de/event/rentnernachmittag-2/
LOCATION:OGV-Scheuer\, Ebersbach an der Fils\, Baden-Württemberg\, 73061\, Deutschland
CATEGORIES:Treffen
ATTACH;FMTTYPE=image/jpeg:https://dg-buenzwangen.de/wp-content/uploads/2022/03/coffee-2760064_1920.jpg
ORGANIZER;CN="Obst- und Gartenbauverein":MAILTO:info@ogv-buenzwangen.de
END:VEVENT
BEGIN:VEVENT
DTSTART;TZID=Europe/Berlin:20220330T143000
DTEND;TZID=Europe/Berlin:20220330T180000
DTSTAMP:20260424T223503
CREATED:20220324T125236Z
LAST-MODIFIED:20220326T204552Z
UID:10000114-1648650600-1648663200@dg-buenzwangen.de
SUMMARY:OGV Rentnernachmittag
DESCRIPTION:Die traditionellen Rentnernachmittage finden wieder wie gewohnt von März bis November\, jeden 3. Mittwoch des Monats unter Einhaltung der 3G- Regelung statt. Gemütliches Beisammensein zu Kaffee\, Kuchen und Vesper ab 14.30 Uhr. Auch Nichtmitglieder sowie „Nichtrentner“ sind herzlich willkommen!
URL:https://dg-buenzwangen.de/event/rentnernachmittag/
LOCATION:OGV-Scheuer\, Ebersbach an der Fils\, Baden-Württemberg\, 73061\, Deutschland
CATEGORIES:Treffen
ATTACH;FMTTYPE=image/jpeg:https://dg-buenzwangen.de/wp-content/uploads/2022/03/coffee-2760064_1920.jpg
ORGANIZER;CN="Obst- und Gartenbauverein":MAILTO:info@ogv-buenzwangen.de
END:VEVENT
BEGIN:VEVENT
DTSTART;VALUE=DATE:20220320
DTEND;VALUE=DATE:20220321
DTSTAMP:20260424T223503
CREATED:20220307T201904Z
LAST-MODIFIED:20220325T082438Z
UID:10000091-1647734400-1647820799@dg-buenzwangen.de
SUMMARY:Schlachtfest ABGESAGT
DESCRIPTION:Veranstaltung wurde ABGESAGT \nGemütlicher Hock für Mitglieder und Freunde des Obst- und Gartenbauvereins. Schwäbische Schlachtplatte mit Kesselfleisch\, Leber- / Griebenwürsten\, Sauerkraut und Backhausbrot machen dieses Vereinsfest zu einem absoluten kulinarischen Highlight in Bünzwangen.
URL:https://dg-buenzwangen.de/event/schlachtfest/
LOCATION:OGV-Scheuer\, Ebersbach an der Fils\, Baden-Württemberg\, 73061\, Deutschland
ATTACH;FMTTYPE=image/jpeg:https://dg-buenzwangen.de/wp-content/uploads/2022/01/apples-g3885674de_640.jpg
ORGANIZER;CN="Obst- und Gartenbauverein":MAILTO:info@ogv-buenzwangen.de
END:VEVENT
END:VCALENDAR