BEGIN:VCALENDAR
VERSION:2.0
PRODID:-//Bünzwangen - ECPv6.15.20//NONSGML v1.0//EN
CALSCALE:GREGORIAN
METHOD:PUBLISH
X-ORIGINAL-URL:https://dg-buenzwangen.de
X-WR-CALDESC:Veranstaltungen für Bünzwangen
REFRESH-INTERVAL;VALUE=DURATION:PT1H
X-Robots-Tag:noindex
X-PUBLISHED-TTL:PT1H
BEGIN:VTIMEZONE
TZID:Europe/Berlin
BEGIN:DAYLIGHT
TZOFFSETFROM:+0100
TZOFFSETTO:+0200
TZNAME:CEST
DTSTART:20240331T010000
END:DAYLIGHT
BEGIN:STANDARD
TZOFFSETFROM:+0200
TZOFFSETTO:+0100
TZNAME:CET
DTSTART:20241027T010000
END:STANDARD
BEGIN:DAYLIGHT
TZOFFSETFROM:+0100
TZOFFSETTO:+0200
TZNAME:CEST
DTSTART:20250330T010000
END:DAYLIGHT
BEGIN:STANDARD
TZOFFSETFROM:+0200
TZOFFSETTO:+0100
TZNAME:CET
DTSTART:20251026T010000
END:STANDARD
BEGIN:DAYLIGHT
TZOFFSETFROM:+0100
TZOFFSETTO:+0200
TZNAME:CEST
DTSTART:20260329T010000
END:DAYLIGHT
BEGIN:STANDARD
TZOFFSETFROM:+0200
TZOFFSETTO:+0100
TZNAME:CET
DTSTART:20261025T010000
END:STANDARD
BEGIN:DAYLIGHT
TZOFFSETFROM:+0100
TZOFFSETTO:+0200
TZNAME:CEST
DTSTART:20270328T010000
END:DAYLIGHT
BEGIN:STANDARD
TZOFFSETFROM:+0200
TZOFFSETTO:+0100
TZNAME:CET
DTSTART:20271031T010000
END:STANDARD
END:VTIMEZONE
BEGIN:VEVENT
DTSTART;TZID=Europe/Berlin:20260417T143000
DTEND;TZID=Europe/Berlin:20260417T163000
DTSTAMP:20260424T181722
CREATED:20260331T094720Z
LAST-MODIFIED:20260331T094720Z
UID:10003533-1776436200-1776443400@dg-buenzwangen.de
SUMMARY:KKC - Vogeltränken- und Windlichtmodellage und Mosaiken
DESCRIPTION:Teilnahmekosten 14€ (Mitglieder 12€) \nAnmeldung bei unserem KKC Team oder per E-Mail info@dg-buenzwangen.de
URL:https://dg-buenzwangen.de/event/kkc-vogeltraenken-und-windlichtmodellage-und-mosaiken/2026-04-17/
LOCATION:Rathaus Bünzwangen\, Ortsstr. 49\, Ebersbach\, BW\, 73061\, Deutschland
CATEGORIES:KKC
ATTACH;FMTTYPE=image/png:https://dg-buenzwangen.de/wp-content/uploads/2026/03/260417-KKC-Modellieren.png
END:VEVENT
BEGIN:VEVENT
DTSTART;TZID=Europe/Berlin:20260416T180000
DTEND;TZID=Europe/Berlin:20260416T210000
DTSTAMP:20260424T181722
CREATED:20251126T194827Z
LAST-MODIFIED:20251126T200225Z
UID:10001957-1776362400-1776373200@dg-buenzwangen.de
SUMMARY:Leckere Bowls - bunt und gesund - Dorfakademie
DESCRIPTION:Aus den unterschiedlichsten Zutaten wie Gemüse\, Salat\, Früchten oder Hülsenfrüchten bereiten wir leckere Bowls zu. Mit Fleisch oder Fisch\, warm oder kalt oder auch mal süß genießen wir das vielfältige Geschmackserlebnis. \nEin Kurs mit der Referentin Maria Süßmann-Nothardt im historischen Rathaus Bünzwangen – Teilnahmegebühr 20€ (DgB Mitglieder 10€)
URL:https://dg-buenzwangen.de/event/bowls26/
LOCATION:Rathaus Bünzwangen\, Ortsstr. 49\, Ebersbach\, BW\, 73061\, Deutschland
CATEGORIES:Dorfakademie
ATTACH;FMTTYPE=image/png:https://dg-buenzwangen.de/wp-content/uploads/2025/11/260416_Dorfakademie_Bowls_Titel.png
ORGANIZER;CN="Dorfgemeinschaft B%C3%BCnzwangen e.V.":MAILTO:info@dg-buenzwangen.de
END:VEVENT
BEGIN:VEVENT
DTSTART;TZID=Europe/Berlin:20260415T190000
DTEND;TZID=Europe/Berlin:20260415T210000
DTSTAMP:20260424T181722
CREATED:20251211T101841Z
LAST-MODIFIED:20251211T101843Z
UID:10001965-1776279600-1776286800@dg-buenzwangen.de
SUMMARY:Mäschlestreff
DESCRIPTION:Stricken und Häkeln in gemütlicher Runde für Anfänger und Fortgeschrittene \nDu willst Stricken und/oder Häkeln lernen oder brauchst Tipps und Unterstützung\, oder hast einfach Lust auf Handarbeiten in einer netten Gruppe? Dann komm vorbei und mach mit. \nJeden zweiten Mittwoch um 19 Uhr im Historischen Rathaus
URL:https://dg-buenzwangen.de/event/maeschlestreff-2-3/2026-04-15/
LOCATION:Rathaus Bünzwangen\, Ortsstr. 49\, Ebersbach\, BW\, 73061\, Deutschland
CATEGORIES:Maeschlestreff,Treffen
ATTACH;FMTTYPE=image/png:https://dg-buenzwangen.de/wp-content/uploads/2023/10/Veranstaltungsbild.png
ORGANIZER;CN="Dorfgemeinschaft B%C3%BCnzwangen e.V.":MAILTO:info@dg-buenzwangen.de
END:VEVENT
BEGIN:VEVENT
DTSTART;TZID=Europe/Berlin:20260415T143000
DTEND;TZID=Europe/Berlin:20260415T160000
DTSTAMP:20260424T181722
CREATED:20260331T095236Z
LAST-MODIFIED:20260331T095236Z
UID:10003535-1776263400-1776268800@dg-buenzwangen.de
SUMMARY:KKC Minis - Wildbienen - ein Hotel für unsere kleinen Helfer
DESCRIPTION:Teilnahmekosten 5€ (Mitglieder 3€) \nAnmeldung bei unserem KKC Team oder per E-Mail info@dg-buenzwangen.de
URL:https://dg-buenzwangen.de/event/kkc-minis-wildbienen-ein-hotel-fuer-unsere-kleinen-helfer/
LOCATION:Rathaus Bünzwangen\, Ortsstr. 49\, Ebersbach\, BW\, 73061\, Deutschland
CATEGORIES:Minis
ATTACH;FMTTYPE=image/png:https://dg-buenzwangen.de/wp-content/uploads/2026/03/260415-KKC-Minis-Bienen.png
END:VEVENT
BEGIN:VEVENT
DTSTART;TZID=Europe/Berlin:20260411T133000
DTEND;TZID=Europe/Berlin:20260411T180000
DTSTAMP:20260424T181722
CREATED:20260308T135428Z
LAST-MODIFIED:20260317T191133Z
UID:10003167-1775914200-1775930400@dg-buenzwangen.de
SUMMARY:Interne Veranstaltung
DESCRIPTION:
URL:https://dg-buenzwangen.de/event/interne-veranstaltung-6/2026-04-11/
LOCATION:Rathaus Bünzwangen\, Ortsstr. 49\, Ebersbach\, BW\, 73061\, Deutschland
ATTACH;FMTTYPE=image/jpeg:https://dg-buenzwangen.de/wp-content/uploads/2024/03/brick-wall-58056_1280.jpg
END:VEVENT
BEGIN:VEVENT
DTSTART;TZID=Europe/Berlin:20260410T133000
DTEND;TZID=Europe/Berlin:20260410T180000
DTSTAMP:20260424T181722
CREATED:20260308T135428Z
LAST-MODIFIED:20260317T191133Z
UID:10003166-1775827800-1775844000@dg-buenzwangen.de
SUMMARY:Interne Veranstaltung
DESCRIPTION:
URL:https://dg-buenzwangen.de/event/interne-veranstaltung-6/2026-04-10/
LOCATION:Rathaus Bünzwangen\, Ortsstr. 49\, Ebersbach\, BW\, 73061\, Deutschland
ATTACH;FMTTYPE=image/jpeg:https://dg-buenzwangen.de/wp-content/uploads/2024/03/brick-wall-58056_1280.jpg
END:VEVENT
BEGIN:VEVENT
DTSTART;TZID=Europe/Berlin:20260409T133000
DTEND;TZID=Europe/Berlin:20260409T180000
DTSTAMP:20260424T181722
CREATED:20260308T135428Z
LAST-MODIFIED:20260317T191133Z
UID:10003165-1775741400-1775757600@dg-buenzwangen.de
SUMMARY:Interne Veranstaltung
DESCRIPTION:
URL:https://dg-buenzwangen.de/event/interne-veranstaltung-6/2026-04-09/
LOCATION:Rathaus Bünzwangen\, Ortsstr. 49\, Ebersbach\, BW\, 73061\, Deutschland
ATTACH;FMTTYPE=image/jpeg:https://dg-buenzwangen.de/wp-content/uploads/2024/03/brick-wall-58056_1280.jpg
END:VEVENT
BEGIN:VEVENT
DTSTART;TZID=Europe/Berlin:20260408T133000
DTEND;TZID=Europe/Berlin:20260408T180000
DTSTAMP:20260424T181722
CREATED:20260308T135428Z
LAST-MODIFIED:20260317T191133Z
UID:10003164-1775655000-1775671200@dg-buenzwangen.de
SUMMARY:Interne Veranstaltung
DESCRIPTION:
URL:https://dg-buenzwangen.de/event/interne-veranstaltung-6/2026-04-08/
LOCATION:Rathaus Bünzwangen\, Ortsstr. 49\, Ebersbach\, BW\, 73061\, Deutschland
ATTACH;FMTTYPE=image/jpeg:https://dg-buenzwangen.de/wp-content/uploads/2024/03/brick-wall-58056_1280.jpg
END:VEVENT
BEGIN:VEVENT
DTSTART;TZID=Europe/Berlin:20260407T133000
DTEND;TZID=Europe/Berlin:20260407T180000
DTSTAMP:20260424T181722
CREATED:20260308T135428Z
LAST-MODIFIED:20260317T191133Z
UID:10003163-1775568600-1775584800@dg-buenzwangen.de
SUMMARY:Interne Veranstaltung
DESCRIPTION:
URL:https://dg-buenzwangen.de/event/interne-veranstaltung-6/2026-04-07/
LOCATION:Rathaus Bünzwangen\, Ortsstr. 49\, Ebersbach\, BW\, 73061\, Deutschland
ATTACH;FMTTYPE=image/jpeg:https://dg-buenzwangen.de/wp-content/uploads/2024/03/brick-wall-58056_1280.jpg
END:VEVENT
BEGIN:VEVENT
DTSTART;TZID=Europe/Berlin:20260401T190000
DTEND;TZID=Europe/Berlin:20260401T210000
DTSTAMP:20260424T181722
CREATED:20251211T101841Z
LAST-MODIFIED:20251211T101843Z
UID:10001964-1775070000-1775077200@dg-buenzwangen.de
SUMMARY:Mäschlestreff
DESCRIPTION:Stricken und Häkeln in gemütlicher Runde für Anfänger und Fortgeschrittene \nDu willst Stricken und/oder Häkeln lernen oder brauchst Tipps und Unterstützung\, oder hast einfach Lust auf Handarbeiten in einer netten Gruppe? Dann komm vorbei und mach mit. \nJeden zweiten Mittwoch um 19 Uhr im Historischen Rathaus
URL:https://dg-buenzwangen.de/event/maeschlestreff-2-3/2026-04-01/
LOCATION:Rathaus Bünzwangen\, Ortsstr. 49\, Ebersbach\, BW\, 73061\, Deutschland
CATEGORIES:Maeschlestreff,Treffen
ATTACH;FMTTYPE=image/png:https://dg-buenzwangen.de/wp-content/uploads/2023/10/Veranstaltungsbild.png
ORGANIZER;CN="Dorfgemeinschaft B%C3%BCnzwangen e.V.":MAILTO:info@dg-buenzwangen.de
END:VEVENT
BEGIN:VEVENT
DTSTART;TZID=Europe/Berlin:20260331T143000
DTEND;TZID=Europe/Berlin:20260331T160000
DTSTAMP:20260424T181722
CREATED:20260301T085226Z
LAST-MODIFIED:20260303T123516Z
UID:10002792-1774967400-1774972800@dg-buenzwangen.de
SUMMARY:KKC Minis Osterbasteln
DESCRIPTION:Teilnahmekosten 5€ (Mitglieder 3€) \nAnmeldung bei unserem KKC Team oder per E-Mail info@dg-buenzwangen.de
URL:https://dg-buenzwangen.de/event/kkc-minis-osterbasteln/2026-03-31/
LOCATION:Rathaus Bünzwangen\, Ortsstr. 49\, Ebersbach\, BW\, 73061\, Deutschland
CATEGORIES:Minis
ATTACH;FMTTYPE=image/png:https://dg-buenzwangen.de/wp-content/uploads/2026/03/260325-KKC-Minis-Osterbasteln.png
END:VEVENT
BEGIN:VEVENT
DTSTART;TZID=Europe/Berlin:20260327T190000
DTEND;TZID=Europe/Berlin:20260327T220000
DTSTAMP:20260424T181722
CREATED:20260222T113847Z
LAST-MODIFIED:20260222T113847Z
UID:10002790-1774638000-1774648800@dg-buenzwangen.de
SUMMARY:Mitgliederversammlung Backhausgemeinschaft Bünzwangen e.V.
DESCRIPTION:
URL:https://dg-buenzwangen.de/event/mitgliederversammlung-backhausgemeinschaft-buenzwangen-e-v-2/
LOCATION:Rathaus Bünzwangen\, Ortsstr. 49\, Ebersbach\, BW\, 73061\, Deutschland
CATEGORIES:Vereinssitzungen
ATTACH;FMTTYPE=image/jpeg:https://dg-buenzwangen.de/wp-content/uploads/2025/02/Logo-Backhausgemeinschaft.jpg
END:VEVENT
BEGIN:VEVENT
DTSTART;TZID=Europe/Berlin:20260325T143000
DTEND;TZID=Europe/Berlin:20260325T160000
DTSTAMP:20260424T181722
CREATED:20260301T085226Z
LAST-MODIFIED:20260303T123516Z
UID:10002791-1774449000-1774454400@dg-buenzwangen.de
SUMMARY:KKC Minis Osterbasteln
DESCRIPTION:Teilnahmekosten 5€ (Mitglieder 3€) \nAnmeldung bei unserem KKC Team oder per E-Mail info@dg-buenzwangen.de
URL:https://dg-buenzwangen.de/event/kkc-minis-osterbasteln/2026-03-25/
LOCATION:Rathaus Bünzwangen\, Ortsstr. 49\, Ebersbach\, BW\, 73061\, Deutschland
CATEGORIES:Minis
ATTACH;FMTTYPE=image/png:https://dg-buenzwangen.de/wp-content/uploads/2026/03/260325-KKC-Minis-Osterbasteln.png
END:VEVENT
BEGIN:VEVENT
DTSTART;TZID=Europe/Berlin:20260318T190000
DTEND;TZID=Europe/Berlin:20260318T210000
DTSTAMP:20260424T181722
CREATED:20251211T101841Z
LAST-MODIFIED:20251211T101843Z
UID:10001963-1773860400-1773867600@dg-buenzwangen.de
SUMMARY:Mäschlestreff
DESCRIPTION:Stricken und Häkeln in gemütlicher Runde für Anfänger und Fortgeschrittene \nDu willst Stricken und/oder Häkeln lernen oder brauchst Tipps und Unterstützung\, oder hast einfach Lust auf Handarbeiten in einer netten Gruppe? Dann komm vorbei und mach mit. \nJeden zweiten Mittwoch um 19 Uhr im Historischen Rathaus
URL:https://dg-buenzwangen.de/event/maeschlestreff-2-3/2026-03-18/
LOCATION:Rathaus Bünzwangen\, Ortsstr. 49\, Ebersbach\, BW\, 73061\, Deutschland
CATEGORIES:Maeschlestreff,Treffen
ATTACH;FMTTYPE=image/png:https://dg-buenzwangen.de/wp-content/uploads/2023/10/Veranstaltungsbild.png
ORGANIZER;CN="Dorfgemeinschaft B%C3%BCnzwangen e.V.":MAILTO:info@dg-buenzwangen.de
END:VEVENT
BEGIN:VEVENT
DTSTART;TZID=Europe/Berlin:20260314T093000
DTEND;TZID=Europe/Berlin:20260314T120000
DTSTAMP:20260424T181722
CREATED:20260116T193114Z
LAST-MODIFIED:20260210T091006Z
UID:10002028-1773480600-1773489600@dg-buenzwangen.de
SUMMARY:Dorfputzete 2026
DESCRIPTION:Gemeinsam für ein sauberes Dorf \n  \nHelft mit – auch wenn ihr den Müll nicht verursacht habt Treffpunkt am Dorfplatz vor unserem Historischen Rathaus. \nWenn möglich Eimer\, Handschuhe und Warnweste mitbringen. Müllsäcke werden gestellt\, ebenso ein Vesper für alle Helfer danach.
URL:https://dg-buenzwangen.de/event/dorfputzete-2026/
LOCATION:Rathaus Bünzwangen\, Ortsstr. 49\, Ebersbach\, BW\, 73061\, Deutschland
CATEGORIES:Dorfputzete
ATTACH;FMTTYPE=image/png:https://dg-buenzwangen.de/wp-content/uploads/2025/01/Veranstaltungsbild-1.png
END:VEVENT
BEGIN:VEVENT
DTSTART;TZID=Europe/Berlin:20260313T143000
DTEND;TZID=Europe/Berlin:20260313T163000
DTSTAMP:20260424T181722
CREATED:20260215T110816Z
LAST-MODIFIED:20260215T110816Z
UID:10002047-1773412200-1773419400@dg-buenzwangen.de
SUMMARY:KKC - Traumfänger basteln
DESCRIPTION:In unserer Traumfänger-Werkstatt entstehen aus bunten Perlen\, Federn\, Bändern und Garnen einzigartige Traumfänger\, die nicht nur wunderschön aussehen\, sondern auch eine ganz besondere Bedeutung tragen. \nMelde dich an und sei dabei – gemeinsam knüpfen\, gestalten und dekorieren wir deine ganz persönlichen Kunstwerke! Hier kannst du mit viel Fantasie\, tollen Farben und verschiedenen Materialien deinen eigenen Traumfänger basteln und dabei jede Menge Spaß haben. \nTeilnahmekosten 6€ (Mitglieder 4€) – Anmeldung bei unserem KKC Team über WhatsApp +49 1522 6682980 oder per E-Mail info@dg-buenzwangen.de
URL:https://dg-buenzwangen.de/event/kkc-traumfaenger-basteln/
LOCATION:Rathaus Bünzwangen\, Ortsstr. 49\, Ebersbach\, BW\, 73061\, Deutschland
CATEGORIES:KKC
ATTACH;FMTTYPE=image/png:https://dg-buenzwangen.de/wp-content/uploads/2026/02/260313-KKC-Traumfaenger-basteln.png
END:VEVENT
BEGIN:VEVENT
DTSTART;TZID=Europe/Berlin:20260304T190000
DTEND;TZID=Europe/Berlin:20260304T210000
DTSTAMP:20260424T181722
CREATED:20251211T101841Z
LAST-MODIFIED:20251211T101843Z
UID:10001962-1772650800-1772658000@dg-buenzwangen.de
SUMMARY:Mäschlestreff
DESCRIPTION:Stricken und Häkeln in gemütlicher Runde für Anfänger und Fortgeschrittene \nDu willst Stricken und/oder Häkeln lernen oder brauchst Tipps und Unterstützung\, oder hast einfach Lust auf Handarbeiten in einer netten Gruppe? Dann komm vorbei und mach mit. \nJeden zweiten Mittwoch um 19 Uhr im Historischen Rathaus
URL:https://dg-buenzwangen.de/event/maeschlestreff-2-3/2026-03-04/
LOCATION:Rathaus Bünzwangen\, Ortsstr. 49\, Ebersbach\, BW\, 73061\, Deutschland
CATEGORIES:Maeschlestreff,Treffen
ATTACH;FMTTYPE=image/png:https://dg-buenzwangen.de/wp-content/uploads/2023/10/Veranstaltungsbild.png
ORGANIZER;CN="Dorfgemeinschaft B%C3%BCnzwangen e.V.":MAILTO:info@dg-buenzwangen.de
END:VEVENT
BEGIN:VEVENT
DTSTART;TZID=Europe/Berlin:20260225T143000
DTEND;TZID=Europe/Berlin:20260225T160000
DTSTAMP:20260424T181722
CREATED:20260207T123824Z
LAST-MODIFIED:20260207T123824Z
UID:10002043-1772029800-1772035200@dg-buenzwangen.de
SUMMARY:KKC Minis - Schüttelbilder und Geburtstagsjahresraupe basteln
DESCRIPTION:im Historischen Rathaus \nDu hast Lust\, kreativ zu werden und etwas ganz Besonderes zu basteln? Dann komm zu unserem bunten Bastel-Event! Hier kannst du nach Herzenslust gestalten\, schütteln\, kleben und dekorieren und mit viel Fantasie deine eigenen fröhlichen Kunstwerke erschaffen. \nWir basteln tolle Schüttelbilder mit funkelnden Effekten und gestalten eine Geburtstagsjahresraupe\, die dich durch dein ganzes Jahr begleitet. Aus einfachen Materialien entstehen dabei farbenfrohe Werke\, die richtig gute Laune machen. \nTeilnahmekosten 5€ (Mitglieder 3€) – Anmeldung bei unserem KKC Team über WhatsApp +49 1522 6682980 oder per E-Mail info@dg-buenzwangen.de
URL:https://dg-buenzwangen.de/event/kkc-minis-schuettelbilder-und-geburtstagsjahresraupe-basteln/
LOCATION:Rathaus Bünzwangen\, Ortsstr. 49\, Ebersbach\, BW\, 73061\, Deutschland
CATEGORIES:Minis
ATTACH;FMTTYPE=image/png:https://dg-buenzwangen.de/wp-content/uploads/2026/02/260225-KKC-Minis-Schuettelbild.png
END:VEVENT
BEGIN:VEVENT
DTSTART;TZID=Europe/Berlin:20260218T190000
DTEND;TZID=Europe/Berlin:20260218T210000
DTSTAMP:20260424T181722
CREATED:20251211T101841Z
LAST-MODIFIED:20251211T101843Z
UID:10001961-1771441200-1771448400@dg-buenzwangen.de
SUMMARY:Mäschlestreff
DESCRIPTION:Stricken und Häkeln in gemütlicher Runde für Anfänger und Fortgeschrittene \nDu willst Stricken und/oder Häkeln lernen oder brauchst Tipps und Unterstützung\, oder hast einfach Lust auf Handarbeiten in einer netten Gruppe? Dann komm vorbei und mach mit. \nJeden zweiten Mittwoch um 19 Uhr im Historischen Rathaus
URL:https://dg-buenzwangen.de/event/maeschlestreff-2-3/2026-02-18/
LOCATION:Rathaus Bünzwangen\, Ortsstr. 49\, Ebersbach\, BW\, 73061\, Deutschland
CATEGORIES:Maeschlestreff,Treffen
ATTACH;FMTTYPE=image/png:https://dg-buenzwangen.de/wp-content/uploads/2023/10/Veranstaltungsbild.png
ORGANIZER;CN="Dorfgemeinschaft B%C3%BCnzwangen e.V.":MAILTO:info@dg-buenzwangen.de
END:VEVENT
BEGIN:VEVENT
DTSTART;TZID=Europe/Berlin:20260213T143000
DTEND;TZID=Europe/Berlin:20260213T163000
DTSTAMP:20260424T181722
CREATED:20260115T185456Z
LAST-MODIFIED:20260115T185456Z
UID:10002027-1770993000-1771000200@dg-buenzwangen.de
SUMMARY:KKC - Seifenwerkstatt
DESCRIPTION:In unserer Seifenwerkstatt entstehen aus einfachen Zutaten duftende\, bunte Seifenstücke\, die nicht nur schön aussehen\, sondern auch Freude beim Benutzen machen. \nMelde dich an und sei dabei – gemeinsam rühren\, formen und gestalten wir echte Lieblingsseifen! Hier kannst du mit viel Fantasie\, tollen Farben und verschiedenen Düften deine eigenen Seifen gestalten und dabei jede Menge Spaß haben. \nTeilnahmekosten 8€ (Mitglieder 6€) – Anmeldung bei unserem KKC Team über WhatsApp +49 1522 6682980 oder per E-Mail info@dg-buenzwangen.de
URL:https://dg-buenzwangen.de/event/kkc-seifenwerkstatt/
LOCATION:Rathaus Bünzwangen\, Ortsstr. 49\, Ebersbach\, BW\, 73061\, Deutschland
CATEGORIES:KKC
ATTACH;FMTTYPE=image/png:https://dg-buenzwangen.de/wp-content/uploads/2026/01/260213-KKC-Seife.png
END:VEVENT
BEGIN:VEVENT
DTSTART;TZID=Europe/Berlin:20260206T120000
DTEND;TZID=Europe/Berlin:20260206T220000
DTSTAMP:20260424T181722
CREATED:20251231T123310Z
LAST-MODIFIED:20251231T123310Z
UID:10002025-1770379200-1770415200@dg-buenzwangen.de
SUMMARY:Interne Veranstaltung
DESCRIPTION:
URL:https://dg-buenzwangen.de/event/interne-veranstaltung/
LOCATION:Rathaus Bünzwangen\, Ortsstr. 49\, Ebersbach\, BW\, 73061\, Deutschland
END:VEVENT
BEGIN:VEVENT
DTSTART;TZID=Europe/Berlin:20260204T190000
DTEND;TZID=Europe/Berlin:20260204T210000
DTSTAMP:20260424T181722
CREATED:20251211T101841Z
LAST-MODIFIED:20251211T101843Z
UID:10001960-1770231600-1770238800@dg-buenzwangen.de
SUMMARY:Mäschlestreff
DESCRIPTION:Stricken und Häkeln in gemütlicher Runde für Anfänger und Fortgeschrittene \nDu willst Stricken und/oder Häkeln lernen oder brauchst Tipps und Unterstützung\, oder hast einfach Lust auf Handarbeiten in einer netten Gruppe? Dann komm vorbei und mach mit. \nJeden zweiten Mittwoch um 19 Uhr im Historischen Rathaus
URL:https://dg-buenzwangen.de/event/maeschlestreff-2-3/2026-02-04/
LOCATION:Rathaus Bünzwangen\, Ortsstr. 49\, Ebersbach\, BW\, 73061\, Deutschland
CATEGORIES:Maeschlestreff,Treffen
ATTACH;FMTTYPE=image/png:https://dg-buenzwangen.de/wp-content/uploads/2023/10/Veranstaltungsbild.png
ORGANIZER;CN="Dorfgemeinschaft B%C3%BCnzwangen e.V.":MAILTO:info@dg-buenzwangen.de
END:VEVENT
BEGIN:VEVENT
DTSTART;TZID=Europe/Berlin:20260128T143000
DTEND;TZID=Europe/Berlin:20260128T160000
DTSTAMP:20260424T181722
CREATED:20260108T122857Z
LAST-MODIFIED:20260108T122857Z
UID:10002026-1769610600-1769616000@dg-buenzwangen.de
SUMMARY:KKC Minis - Faschingsbasteln
DESCRIPTION:Du freust dich schon auf den Fasching und hast Lust\, deine eigenen bunten Dekorationen und kleinen Überraschungen zu basteln? Dann komm zu unserem Faschingsbasteln! Hier kannst du nach Herzenslust kreativ werden und mit ganz viel Fantasie und Farbe fröhliche Bastelwerke für zu Hause gestalten. \nAus einfachen Materialien entstehen kunterbunte Kunstwerke\, die gute Laune verbreiten und den Fasching noch schöner machen. \nMelde dich an und mach mit – gemeinsam lassen wir den Fasching strahlen! \nTeilnahmekosten 5€ (Mitglieder 2€) – Anmeldung bei unserem KKC Team über WhatsApp +49 1522 6682980 oder per E-Mail info@dg-buenzwangen.de
URL:https://dg-buenzwangen.de/event/kkc-minis-faschingsbasteln/
LOCATION:Rathaus Bünzwangen\, Ortsstr. 49\, Ebersbach\, BW\, 73061\, Deutschland
CATEGORIES:Minis
ATTACH;FMTTYPE=image/png:https://dg-buenzwangen.de/wp-content/uploads/2026/01/260128-KKC-MINIS-Faschingsbasteln1.png
END:VEVENT
BEGIN:VEVENT
DTSTART;TZID=Europe/Berlin:20260123T140000
DTEND;TZID=Europe/Berlin:20260123T150000
DTSTAMP:20260424T181722
CREATED:20251018T133731Z
LAST-MODIFIED:20251126T184645Z
UID:10001950-1769176800-1769180400@dg-buenzwangen.de
SUMMARY:KKC - Erste-Hilfe-Kurs
DESCRIPTION:Du bist neugierig und möchtest wissen\, wie du in Notfällen helfen kannst?Dann komm zum Erste-Hilfe-Kurs für Kinder im Rathaus in Bünzwangen! \nHier lernst du spielerisch\, wie du Pflaster richtig aufklebst\, Verbände anlegst und in Notfällen Ruhe bewahrst. Ob kleine oder große Schrammen – mit ein bisschen Wissen kannst du ein echter Helfer sein! \nFür alle Kinder im Grundschulalter \n 
URL:https://dg-buenzwangen.de/event/kkc-erste-hilfe-kurs-2/
LOCATION:Rathaus Bünzwangen\, Ortsstr. 49\, Ebersbach\, BW\, 73061\, Deutschland
CATEGORIES:KKC
ATTACH;FMTTYPE=image/png:https://dg-buenzwangen.de/wp-content/uploads/2025/05/Veranstaltungsbild-3.png
ORGANIZER;CN="Dorfgemeinschaft B%C3%BCnzwangen e.V.":MAILTO:info@dg-buenzwangen.de
END:VEVENT
BEGIN:VEVENT
DTSTART;TZID=Europe/Berlin:20260121T190000
DTEND;TZID=Europe/Berlin:20260121T210000
DTSTAMP:20260424T181722
CREATED:20251211T101841Z
LAST-MODIFIED:20251211T101843Z
UID:10001959-1769022000-1769029200@dg-buenzwangen.de
SUMMARY:Mäschlestreff
DESCRIPTION:Stricken und Häkeln in gemütlicher Runde für Anfänger und Fortgeschrittene \nDu willst Stricken und/oder Häkeln lernen oder brauchst Tipps und Unterstützung\, oder hast einfach Lust auf Handarbeiten in einer netten Gruppe? Dann komm vorbei und mach mit. \nJeden zweiten Mittwoch um 19 Uhr im Historischen Rathaus
URL:https://dg-buenzwangen.de/event/maeschlestreff-2-3/2026-01-21/
LOCATION:Rathaus Bünzwangen\, Ortsstr. 49\, Ebersbach\, BW\, 73061\, Deutschland
CATEGORIES:Maeschlestreff,Treffen
ATTACH;FMTTYPE=image/png:https://dg-buenzwangen.de/wp-content/uploads/2023/10/Veranstaltungsbild.png
ORGANIZER;CN="Dorfgemeinschaft B%C3%BCnzwangen e.V.":MAILTO:info@dg-buenzwangen.de
END:VEVENT
BEGIN:VEVENT
DTSTART;TZID=Europe/Berlin:20260121T140000
DTEND;TZID=Europe/Berlin:20260121T150000
DTSTAMP:20260424T181722
CREATED:20251018T133611Z
LAST-MODIFIED:20251126T185726Z
UID:10001949-1769004000-1769007600@dg-buenzwangen.de
SUMMARY:KKC Minis - Erste-Hilfe-Kurs
DESCRIPTION:Du bist neugierig und möchtest wissen\, wie du in Notfällen helfen kannst?Dann komm zum Erste-Hilfe-Kurs für Kinder im Rathaus in Bünzwangen! \nHier lernst du spielerisch\, wie du Pflaster richtig aufklebst\, Verbände anlegst und in Notfällen Ruhe bewahrst. Ob kleine oder große Schrammen – mit ein bisschen Wissen kannst du ein echter Helfer sein! \nFür alle Kinder im Kitaalter
URL:https://dg-buenzwangen.de/event/kkc-minis-erste-hilfe-kurs/
LOCATION:Rathaus Bünzwangen\, Ortsstr. 49\, Ebersbach\, BW\, 73061\, Deutschland
CATEGORIES:Minis
ATTACH;FMTTYPE=image/png:https://dg-buenzwangen.de/wp-content/uploads/2025/05/Veranstaltungsbild-3.png
ORGANIZER;CN="Dorfgemeinschaft B%C3%BCnzwangen e.V.":MAILTO:info@dg-buenzwangen.de
END:VEVENT
BEGIN:VEVENT
DTSTART;TZID=Europe/Berlin:20260109T143000
DTEND;TZID=Europe/Berlin:20260109T163000
DTSTAMP:20260424T181722
CREATED:20251123T135116Z
LAST-MODIFIED:20251123T135116Z
UID:10001956-1767969000-1767976200@dg-buenzwangen.de
SUMMARY:KKC - Spielenachmittag
DESCRIPTION:Du liebst es\, Spiele zu spielen – egal ob Würfel-\, Karten- oder Brettspiele? Dann komm zum Spielenachmittag im Rathaus in Bünzwangen und bring dein Lieblingsspiel mit! Bei Waffeln und heißem Kinderpunsch verbringen wir einen gemeinsamen Nachmittag. \nAnmeldung bei unserem KKC Team über WhatsApp +49 1522 6682980 oder per E-Mail info@dg-buenzwangen.de
URL:https://dg-buenzwangen.de/event/kkc-spielenachmittag-2/
LOCATION:Rathaus Bünzwangen\, Ortsstr. 49\, Ebersbach\, BW\, 73061\, Deutschland
CATEGORIES:KKC
ATTACH;FMTTYPE=image/png:https://dg-buenzwangen.de/wp-content/uploads/2025/11/260109-KKC-Spielenachmittag.png
END:VEVENT
BEGIN:VEVENT
DTSTART;TZID=Europe/Berlin:20260107T190000
DTEND;TZID=Europe/Berlin:20260107T210000
DTSTAMP:20260424T181722
CREATED:20251211T101841Z
LAST-MODIFIED:20251211T101843Z
UID:10001958-1767812400-1767819600@dg-buenzwangen.de
SUMMARY:Mäschlestreff
DESCRIPTION:Stricken und Häkeln in gemütlicher Runde für Anfänger und Fortgeschrittene \nDu willst Stricken und/oder Häkeln lernen oder brauchst Tipps und Unterstützung\, oder hast einfach Lust auf Handarbeiten in einer netten Gruppe? Dann komm vorbei und mach mit. \nJeden zweiten Mittwoch um 19 Uhr im Historischen Rathaus
URL:https://dg-buenzwangen.de/event/maeschlestreff-2-3/2026-01-07/
LOCATION:Rathaus Bünzwangen\, Ortsstr. 49\, Ebersbach\, BW\, 73061\, Deutschland
CATEGORIES:Maeschlestreff,Treffen
ATTACH;FMTTYPE=image/png:https://dg-buenzwangen.de/wp-content/uploads/2023/10/Veranstaltungsbild.png
ORGANIZER;CN="Dorfgemeinschaft B%C3%BCnzwangen e.V.":MAILTO:info@dg-buenzwangen.de
END:VEVENT
BEGIN:VEVENT
DTSTART;TZID=Europe/Berlin:20251217T141500
DTEND;TZID=Europe/Berlin:20251217T154500
DTSTAMP:20260424T181722
CREATED:20250203T083005Z
LAST-MODIFIED:20250527T173858Z
UID:10000693-1765980900-1765986300@dg-buenzwangen.de
SUMMARY:KKC - Spielenachmittag
DESCRIPTION:Du liebst es\, Spiele zu spielen – egal ob Würfel-\, Karten- oder Brettspiele? \nDann komm zum Spielenachmittag im Rathaus in Bünzwangen und bring dein Lieblingsspiel mit! \nFür alle DgB-Mitglieder im Grundschulalter –  \nAnmeldung bei unserem KKC Team
URL:https://dg-buenzwangen.de/event/kkc-spielenachmittag/2025-12-17/
LOCATION:Rathaus Bünzwangen\, Ortsstr. 49\, Ebersbach\, BW\, 73061\, Deutschland
CATEGORIES:KKC
ATTACH;FMTTYPE=image/png:https://dg-buenzwangen.de/wp-content/uploads/2025/02/Veranstaltungsbild-1.png
END:VEVENT
BEGIN:VEVENT
DTSTART;TZID=Europe/Berlin:20251210T190000
DTEND;TZID=Europe/Berlin:20251210T210000
DTSTAMP:20260424T181722
CREATED:20230926T180813Z
LAST-MODIFIED:20251127T080630Z
UID:10000604-1765393200-1765400400@dg-buenzwangen.de
SUMMARY:Mäschlestreff
DESCRIPTION:Stricken in gemütlicher Runde für Anfänger und Fortgeschrittene\nDu willst Stricken lernen oder brauchst Tipps und Unterstützung\, oder hast einfach Lust in einer netten Gruppe zu stricken? \nDann komm vorbei und mach mit. \nAb dem 08.März\, jeden zweiten Mittwoch um 19 Uhr im historischen Rathaus in Bünzwangen. \nBitte Wolle und passende Stricknadeln oder ein angefangenes Strickprojekt mitbringen. \nFragen? info@bünzwangen.de
URL:https://dg-buenzwangen.de/event/maeschlestreff-2/2025-12-10/
LOCATION:Rathaus Bünzwangen\, Ortsstr. 49\, Ebersbach\, BW\, 73061\, Deutschland
CATEGORIES:Maeschlestreff,Treffen
ATTACH;FMTTYPE=image/png:https://dg-buenzwangen.de/wp-content/uploads/2023/10/Veranstaltungsbild.png
ORGANIZER;CN="Dorfgemeinschaft B%C3%BCnzwangen e.V.":MAILTO:info@dg-buenzwangen.de
END:VEVENT
END:VCALENDAR