BEGIN:VCALENDAR
VERSION:2.0
PRODID:-//Bünzwangen - ECPv6.15.20//NONSGML v1.0//EN
CALSCALE:GREGORIAN
METHOD:PUBLISH
X-WR-CALNAME:Bünzwangen
X-ORIGINAL-URL:https://dg-buenzwangen.de
X-WR-CALDESC:Veranstaltungen für Bünzwangen
REFRESH-INTERVAL;VALUE=DURATION:PT1H
X-Robots-Tag:noindex
X-PUBLISHED-TTL:PT1H
BEGIN:VTIMEZONE
TZID:Europe/Berlin
BEGIN:DAYLIGHT
TZOFFSETFROM:+0100
TZOFFSETTO:+0200
TZNAME:CEST
DTSTART:20250330T010000
END:DAYLIGHT
BEGIN:STANDARD
TZOFFSETFROM:+0200
TZOFFSETTO:+0100
TZNAME:CET
DTSTART:20251026T010000
END:STANDARD
BEGIN:DAYLIGHT
TZOFFSETFROM:+0100
TZOFFSETTO:+0200
TZNAME:CEST
DTSTART:20260329T010000
END:DAYLIGHT
BEGIN:STANDARD
TZOFFSETFROM:+0200
TZOFFSETTO:+0100
TZNAME:CET
DTSTART:20261025T010000
END:STANDARD
BEGIN:DAYLIGHT
TZOFFSETFROM:+0100
TZOFFSETTO:+0200
TZNAME:CEST
DTSTART:20270328T010000
END:DAYLIGHT
BEGIN:STANDARD
TZOFFSETFROM:+0200
TZOFFSETTO:+0100
TZNAME:CET
DTSTART:20271031T010000
END:STANDARD
END:VTIMEZONE
BEGIN:VEVENT
DTSTART;TZID=Europe/Berlin:20260902T190000
DTEND;TZID=Europe/Berlin:20260902T210000
DTSTAMP:20260424T181545
CREATED:20251211T101841Z
LAST-MODIFIED:20251211T101843Z
UID:10001975-1788375600-1788382800@dg-buenzwangen.de
SUMMARY:Mäschlestreff
DESCRIPTION:Stricken und Häkeln in gemütlicher Runde für Anfänger und Fortgeschrittene \nDu willst Stricken und/oder Häkeln lernen oder brauchst Tipps und Unterstützung\, oder hast einfach Lust auf Handarbeiten in einer netten Gruppe? Dann komm vorbei und mach mit. \nJeden zweiten Mittwoch um 19 Uhr im Historischen Rathaus
URL:https://dg-buenzwangen.de/event/maeschlestreff-2-3/2026-09-02/
LOCATION:Rathaus Bünzwangen\, Ortsstr. 49\, Ebersbach\, BW\, 73061\, Deutschland
CATEGORIES:Maeschlestreff,Treffen
ATTACH;FMTTYPE=image/png:https://dg-buenzwangen.de/wp-content/uploads/2023/10/Veranstaltungsbild.png
ORGANIZER;CN="Dorfgemeinschaft B%C3%BCnzwangen e.V.":MAILTO:info@dg-buenzwangen.de
END:VEVENT
BEGIN:VEVENT
DTSTART;TZID=Europe/Berlin:20260916T190000
DTEND;TZID=Europe/Berlin:20260916T210000
DTSTAMP:20260424T181545
CREATED:20251211T101841Z
LAST-MODIFIED:20251211T101843Z
UID:10001976-1789585200-1789592400@dg-buenzwangen.de
SUMMARY:Mäschlestreff
DESCRIPTION:Stricken und Häkeln in gemütlicher Runde für Anfänger und Fortgeschrittene \nDu willst Stricken und/oder Häkeln lernen oder brauchst Tipps und Unterstützung\, oder hast einfach Lust auf Handarbeiten in einer netten Gruppe? Dann komm vorbei und mach mit. \nJeden zweiten Mittwoch um 19 Uhr im Historischen Rathaus
URL:https://dg-buenzwangen.de/event/maeschlestreff-2-3/2026-09-16/
LOCATION:Rathaus Bünzwangen\, Ortsstr. 49\, Ebersbach\, BW\, 73061\, Deutschland
CATEGORIES:Maeschlestreff,Treffen
ATTACH;FMTTYPE=image/png:https://dg-buenzwangen.de/wp-content/uploads/2023/10/Veranstaltungsbild.png
ORGANIZER;CN="Dorfgemeinschaft B%C3%BCnzwangen e.V.":MAILTO:info@dg-buenzwangen.de
END:VEVENT
BEGIN:VEVENT
DTSTART;TZID=Europe/Berlin:20260930T190000
DTEND;TZID=Europe/Berlin:20260930T210000
DTSTAMP:20260424T181545
CREATED:20251211T101841Z
LAST-MODIFIED:20251211T101843Z
UID:10001977-1790794800-1790802000@dg-buenzwangen.de
SUMMARY:Mäschlestreff
DESCRIPTION:Stricken und Häkeln in gemütlicher Runde für Anfänger und Fortgeschrittene \nDu willst Stricken und/oder Häkeln lernen oder brauchst Tipps und Unterstützung\, oder hast einfach Lust auf Handarbeiten in einer netten Gruppe? Dann komm vorbei und mach mit. \nJeden zweiten Mittwoch um 19 Uhr im Historischen Rathaus
URL:https://dg-buenzwangen.de/event/maeschlestreff-2-3/2026-09-30/
LOCATION:Rathaus Bünzwangen\, Ortsstr. 49\, Ebersbach\, BW\, 73061\, Deutschland
CATEGORIES:Maeschlestreff,Treffen
ATTACH;FMTTYPE=image/png:https://dg-buenzwangen.de/wp-content/uploads/2023/10/Veranstaltungsbild.png
ORGANIZER;CN="Dorfgemeinschaft B%C3%BCnzwangen e.V.":MAILTO:info@dg-buenzwangen.de
END:VEVENT
BEGIN:VEVENT
DTSTART;TZID=Europe/Berlin:20261014T190000
DTEND;TZID=Europe/Berlin:20261014T210000
DTSTAMP:20260424T181545
CREATED:20251211T101841Z
LAST-MODIFIED:20251211T101843Z
UID:10001978-1792004400-1792011600@dg-buenzwangen.de
SUMMARY:Mäschlestreff
DESCRIPTION:Stricken und Häkeln in gemütlicher Runde für Anfänger und Fortgeschrittene \nDu willst Stricken und/oder Häkeln lernen oder brauchst Tipps und Unterstützung\, oder hast einfach Lust auf Handarbeiten in einer netten Gruppe? Dann komm vorbei und mach mit. \nJeden zweiten Mittwoch um 19 Uhr im Historischen Rathaus
URL:https://dg-buenzwangen.de/event/maeschlestreff-2-3/2026-10-14/
LOCATION:Rathaus Bünzwangen\, Ortsstr. 49\, Ebersbach\, BW\, 73061\, Deutschland
CATEGORIES:Maeschlestreff,Treffen
ATTACH;FMTTYPE=image/png:https://dg-buenzwangen.de/wp-content/uploads/2023/10/Veranstaltungsbild.png
ORGANIZER;CN="Dorfgemeinschaft B%C3%BCnzwangen e.V.":MAILTO:info@dg-buenzwangen.de
END:VEVENT
BEGIN:VEVENT
DTSTART;TZID=Europe/Berlin:20261028T190000
DTEND;TZID=Europe/Berlin:20261028T210000
DTSTAMP:20260424T181545
CREATED:20251211T101841Z
LAST-MODIFIED:20251211T101843Z
UID:10001979-1793214000-1793221200@dg-buenzwangen.de
SUMMARY:Mäschlestreff
DESCRIPTION:Stricken und Häkeln in gemütlicher Runde für Anfänger und Fortgeschrittene \nDu willst Stricken und/oder Häkeln lernen oder brauchst Tipps und Unterstützung\, oder hast einfach Lust auf Handarbeiten in einer netten Gruppe? Dann komm vorbei und mach mit. \nJeden zweiten Mittwoch um 19 Uhr im Historischen Rathaus
URL:https://dg-buenzwangen.de/event/maeschlestreff-2-3/2026-10-28/
LOCATION:Rathaus Bünzwangen\, Ortsstr. 49\, Ebersbach\, BW\, 73061\, Deutschland
CATEGORIES:Maeschlestreff,Treffen
ATTACH;FMTTYPE=image/png:https://dg-buenzwangen.de/wp-content/uploads/2023/10/Veranstaltungsbild.png
ORGANIZER;CN="Dorfgemeinschaft B%C3%BCnzwangen e.V.":MAILTO:info@dg-buenzwangen.de
END:VEVENT
BEGIN:VEVENT
DTSTART;TZID=Europe/Berlin:20261111T190000
DTEND;TZID=Europe/Berlin:20261111T210000
DTSTAMP:20260424T181545
CREATED:20251211T101841Z
LAST-MODIFIED:20251211T101843Z
UID:10001980-1794423600-1794430800@dg-buenzwangen.de
SUMMARY:Mäschlestreff
DESCRIPTION:Stricken und Häkeln in gemütlicher Runde für Anfänger und Fortgeschrittene \nDu willst Stricken und/oder Häkeln lernen oder brauchst Tipps und Unterstützung\, oder hast einfach Lust auf Handarbeiten in einer netten Gruppe? Dann komm vorbei und mach mit. \nJeden zweiten Mittwoch um 19 Uhr im Historischen Rathaus
URL:https://dg-buenzwangen.de/event/maeschlestreff-2-3/2026-11-11/
LOCATION:Rathaus Bünzwangen\, Ortsstr. 49\, Ebersbach\, BW\, 73061\, Deutschland
CATEGORIES:Maeschlestreff,Treffen
ATTACH;FMTTYPE=image/png:https://dg-buenzwangen.de/wp-content/uploads/2023/10/Veranstaltungsbild.png
ORGANIZER;CN="Dorfgemeinschaft B%C3%BCnzwangen e.V.":MAILTO:info@dg-buenzwangen.de
END:VEVENT
BEGIN:VEVENT
DTSTART;TZID=Europe/Berlin:20261125T190000
DTEND;TZID=Europe/Berlin:20261125T210000
DTSTAMP:20260424T181545
CREATED:20251211T101841Z
LAST-MODIFIED:20251211T101843Z
UID:10001981-1795633200-1795640400@dg-buenzwangen.de
SUMMARY:Mäschlestreff
DESCRIPTION:Stricken und Häkeln in gemütlicher Runde für Anfänger und Fortgeschrittene \nDu willst Stricken und/oder Häkeln lernen oder brauchst Tipps und Unterstützung\, oder hast einfach Lust auf Handarbeiten in einer netten Gruppe? Dann komm vorbei und mach mit. \nJeden zweiten Mittwoch um 19 Uhr im Historischen Rathaus
URL:https://dg-buenzwangen.de/event/maeschlestreff-2-3/2026-11-25/
LOCATION:Rathaus Bünzwangen\, Ortsstr. 49\, Ebersbach\, BW\, 73061\, Deutschland
CATEGORIES:Maeschlestreff,Treffen
ATTACH;FMTTYPE=image/png:https://dg-buenzwangen.de/wp-content/uploads/2023/10/Veranstaltungsbild.png
ORGANIZER;CN="Dorfgemeinschaft B%C3%BCnzwangen e.V.":MAILTO:info@dg-buenzwangen.de
END:VEVENT
BEGIN:VEVENT
DTSTART;VALUE=DATE:20261201
DTEND;VALUE=DATE:20261221
DTSTAMP:20260424T181545
CREATED:20251127T091521Z
LAST-MODIFIED:20251127T091521Z
UID:10002021-1796083200-1797811199@dg-buenzwangen.de
SUMMARY:Briefkasten an den Weihnachtsmann/ das Christkind
DESCRIPTION:Ab dem 1. Dezember steht an unserem historischen Rathaus ein Briefkasten für alle Kinder die Post an den Weihnachtsmann bzw. das Christkind schicken wollen. \nSo funktioniert‘s: \nHast du einen Herzenswunsch\, von dem das Christkind unbedingt wissen muss? \nGibt es etwas\, was du dem Weihnachtsmann oder der Weihnachtsfrau sagen möchtest? \nDann nimm Stift und Papier und schreibe einen Brief oder male ein Bild an das Christkind\,\nden Weihnachtsmann oder die Weihnachtsfrau. \nWenn du eine Antwort möchtest\, dann schreibe deinen vollständigen Namen und deine Adresse dazu. \nWir können dir leider nicht garantieren\, dass alle Wünsche erfüllt werden können.\nAber wir können garantieren\, dass du eine Antwort bekommen wirst.
URL:https://dg-buenzwangen.de/event/briefkasten-an-den-weihnachtsmann-das-christkind-5/
LOCATION:Rathaus Bünzwangen\, Ortsstr. 49\, Ebersbach\, BW\, 73061\, Deutschland
CATEGORIES:KinderUndJugendliche,KKC
ATTACH;FMTTYPE=image/jpeg:https://dg-buenzwangen.de/wp-content/uploads/2022/11/letter-6816910_1920.jpg
ORGANIZER;CN="Dorfgemeinschaft B%C3%BCnzwangen e.V.":MAILTO:info@dg-buenzwangen.de
END:VEVENT
BEGIN:VEVENT
DTSTART;TZID=Europe/Berlin:20261209T190000
DTEND;TZID=Europe/Berlin:20261209T210000
DTSTAMP:20260424T181545
CREATED:20251211T101841Z
LAST-MODIFIED:20251211T101843Z
UID:10001982-1796842800-1796850000@dg-buenzwangen.de
SUMMARY:Mäschlestreff
DESCRIPTION:Stricken und Häkeln in gemütlicher Runde für Anfänger und Fortgeschrittene \nDu willst Stricken und/oder Häkeln lernen oder brauchst Tipps und Unterstützung\, oder hast einfach Lust auf Handarbeiten in einer netten Gruppe? Dann komm vorbei und mach mit. \nJeden zweiten Mittwoch um 19 Uhr im Historischen Rathaus
URL:https://dg-buenzwangen.de/event/maeschlestreff-2-3/2026-12-09/
LOCATION:Rathaus Bünzwangen\, Ortsstr. 49\, Ebersbach\, BW\, 73061\, Deutschland
CATEGORIES:Maeschlestreff,Treffen
ATTACH;FMTTYPE=image/png:https://dg-buenzwangen.de/wp-content/uploads/2023/10/Veranstaltungsbild.png
ORGANIZER;CN="Dorfgemeinschaft B%C3%BCnzwangen e.V.":MAILTO:info@dg-buenzwangen.de
END:VEVENT
END:VCALENDAR